BEGIN:VCALENDAR
VERSION:2.0
PRODID:-//Hart voor Baexem - ECPv6.15.18//NONSGML v1.0//EN
CALSCALE:GREGORIAN
METHOD:PUBLISH
X-ORIGINAL-URL:https://www.hartvoorbaexem.nl
X-WR-CALDESC:Evenementen voor Hart voor Baexem
REFRESH-INTERVAL;VALUE=DURATION:PT1H
X-Robots-Tag:noindex
X-PUBLISHED-TTL:PT1H
BEGIN:VTIMEZONE
TZID:Europe/Amsterdam
BEGIN:DAYLIGHT
TZOFFSETFROM:+0100
TZOFFSETTO:+0200
TZNAME:CEST
DTSTART:20240331T010000
END:DAYLIGHT
BEGIN:STANDARD
TZOFFSETFROM:+0200
TZOFFSETTO:+0100
TZNAME:CET
DTSTART:20241027T010000
END:STANDARD
BEGIN:DAYLIGHT
TZOFFSETFROM:+0100
TZOFFSETTO:+0200
TZNAME:CEST
DTSTART:20250330T010000
END:DAYLIGHT
BEGIN:STANDARD
TZOFFSETFROM:+0200
TZOFFSETTO:+0100
TZNAME:CET
DTSTART:20251026T010000
END:STANDARD
BEGIN:DAYLIGHT
TZOFFSETFROM:+0100
TZOFFSETTO:+0200
TZNAME:CEST
DTSTART:20260329T010000
END:DAYLIGHT
BEGIN:STANDARD
TZOFFSETFROM:+0200
TZOFFSETTO:+0100
TZNAME:CET
DTSTART:20261025T010000
END:STANDARD
END:VTIMEZONE
BEGIN:VEVENT
DTSTART;TZID=Europe/Amsterdam:20251213T193000
DTEND;TZID=Europe/Amsterdam:20251213T220000
DTSTAMP:20260422T042648
CREATED:20251106T111302Z
LAST-MODIFIED:20251106T111302Z
UID:10001316-1765654200-1765663200@www.hartvoorbaexem.nl
SUMMARY:Pubquiz met Fanfare Aurora
DESCRIPTION:Maximaal 6 deelnemers per team\nBijdrage: € 30 per team\nAanmelden kan tot 29 november via :\npubquiz@fanfareaurora.nl o.v.v. teamnaam\, aantal personen en namen deelnemers
URL:https://www.hartvoorbaexem.nl/activiteit/pubquiz-met-fanfare-aurora/
LOCATION:Baexheimerhof\, Kerkstraat 1a\, Baexem\, Limburg\, 6095 BD\, Nederland
CATEGORIES:Culturele Evenementen,Ontspanning
ATTACH;FMTTYPE=image/jpeg:https://www.hartvoorbaexem.nl/wp-content/uploads/2025/09/Dorpsraad-Online-Senioren-bijeenkomst-01-S.jpg
ORGANIZER;CN="Fanfare Aurora":MAILTO:secretariaat@fanfareaurora.nl
END:VEVENT
BEGIN:VEVENT
DTSTART;TZID=Europe/Amsterdam:20251214T103000
DTEND;TZID=Europe/Amsterdam:20251218T170000
DTSTAMP:20260422T042648
CREATED:20251218T125722Z
LAST-MODIFIED:20251218T130111Z
UID:10001325-1765708200-1766077200@www.hartvoorbaexem.nl
SUMMARY:Kerstconcert Opleidingsorkest Fanfare Aurora
DESCRIPTION:Kerstconcert opleidingsorkest 14 december \nOns opleidingsorkest zit er al helemaal klaar voor. Ze spelen op zondag 14 december een kerstconcert in Leveroy. Het concert vindt plaats in het gemeenschapshuis Pestoeërskoel te Leveroy\, aanvang 10.30 uur. \nNaast het opleidingsorkest van Fanfare Aurora zullen jeugdfanfare Forever Young\, slagwerkgroep Beat Boys en eventueel de slagwerkgroep van Fanfare Concordia optreden. \nWe hopen dat jullie allemaal komen luisteren!
URL:https://www.hartvoorbaexem.nl/activiteit/kerstconcert-opleidingsorkest-fanfare-aurora/
LOCATION:Pestoeërskoel\, Sillenhoek 4\, Leveroy\, Limburg\, 6091 PD\, Nederland
CATEGORIES:Culturele Evenementen,Muzikale Evenementen
ATTACH;FMTTYPE=image/jpeg:https://www.hartvoorbaexem.nl/wp-content/uploads/2025/12/Aurora-opleiding-kerst.jpg
ORGANIZER;CN="Fanfare Aurora":MAILTO:secretariaat@fanfareaurora.nl
END:VEVENT
BEGIN:VEVENT
DTSTART;TZID=Europe/Amsterdam:20251217T133000
DTEND;TZID=Europe/Amsterdam:20251217T163000
DTSTAMP:20260422T042648
CREATED:20251106T112527Z
LAST-MODIFIED:20251106T112527Z
UID:10001317-1765978200-1765989000@www.hartvoorbaexem.nl
SUMMARY:Kerstviering Senioren en Zonnebloem
DESCRIPTION:
URL:https://www.hartvoorbaexem.nl/activiteit/kerstviering-senioren-en-zonnebloem/
LOCATION:Limburg
CATEGORIES:Culturele Evenementen,Ontspanning
ATTACH;FMTTYPE=image/jpeg:https://www.hartvoorbaexem.nl/wp-content/uploads/2025/11/Dorpsraad_Baexem_Kerstviering_s.jpg
END:VEVENT
BEGIN:VEVENT
DTSTART;TZID=Europe/Amsterdam:20251220T193000
DTEND;TZID=Europe/Amsterdam:20251220T204500
DTSTAMP:20260422T042648
CREATED:20251218T113329Z
LAST-MODIFIED:20251218T113329Z
UID:10001324-1766259000-1766263500@www.hartvoorbaexem.nl
SUMMARY:Kerstconcert in de kerk: Vredeslicht
DESCRIPTION:Wij houden van samen Zingen.\nMET HET VREDESLICHT DE WERELD ROND\nOnder deze titel organiseren gemengd koor Animato uit Horn en gemengd koor Con Amore uit\nBaexem samen twee kerstconcerten.\n20 december 19.30 – 20.45 kerk Baexem\n21 december 15.00 -16.15 kerk Horn
URL:https://www.hartvoorbaexem.nl/activiteit/kerstconcert-in-de-kerk-vredeslicht/
LOCATION:H. Johannes de Doper\, Monseigneur Kierkelsplein 19\, Baexem\, 6095 BK\, Nederland
CATEGORIES:Culturele Evenementen,Muzikale Evenementen
ATTACH;FMTTYPE=image/jpeg:https://www.hartvoorbaexem.nl/wp-content/uploads/2025/12/Poster-vredeslicht-scaled.jpg
ORGANIZER;CN="Con Amore Baexem":MAILTO:Secretariaat@conamorebaexem.nl
END:VEVENT
BEGIN:VEVENT
DTSTART;TZID=Europe/Amsterdam:20251222T140000
DTEND;TZID=Europe/Amsterdam:20251222T170000
DTSTAMP:20260422T042648
CREATED:20251106T114749Z
LAST-MODIFIED:20251106T114749Z
UID:10001318-1766412000-1766422800@www.hartvoorbaexem.nl
SUMMARY:Bloemschikken
DESCRIPTION:
URL:https://www.hartvoorbaexem.nl/activiteit/bloemschikken/
LOCATION:Baexheimerhof\, Kerkstraat 1a\, Baexem\, Limburg\, 6095 BD\, Nederland
CATEGORIES:Culturele Evenementen,Ontspanning
ATTACH;FMTTYPE=image/jpeg:https://www.hartvoorbaexem.nl/wp-content/uploads/2025/11/Dorpsraad_Baexem_Bloemschikken_s.jpg
ORGANIZER;CN="Seniorenver. St. Joseph":MAILTO:voorzitter@seniorenverenigingbaexem.nl
END:VEVENT
END:VCALENDAR