BEGIN:VCALENDAR
VERSION:2.0
PRODID:-//Hart voor Baexem - ECPv6.15.18//NONSGML v1.0//EN
CALSCALE:GREGORIAN
METHOD:PUBLISH
X-ORIGINAL-URL:https://www.hartvoorbaexem.nl
X-WR-CALDESC:Evenementen voor Hart voor Baexem
REFRESH-INTERVAL;VALUE=DURATION:PT1H
X-Robots-Tag:noindex
X-PUBLISHED-TTL:PT1H
BEGIN:VTIMEZONE
TZID:Europe/Amsterdam
BEGIN:DAYLIGHT
TZOFFSETFROM:+0100
TZOFFSETTO:+0200
TZNAME:CEST
DTSTART:20240331T010000
END:DAYLIGHT
BEGIN:STANDARD
TZOFFSETFROM:+0200
TZOFFSETTO:+0100
TZNAME:CET
DTSTART:20241027T010000
END:STANDARD
BEGIN:DAYLIGHT
TZOFFSETFROM:+0100
TZOFFSETTO:+0200
TZNAME:CEST
DTSTART:20250330T010000
END:DAYLIGHT
BEGIN:STANDARD
TZOFFSETFROM:+0200
TZOFFSETTO:+0100
TZNAME:CET
DTSTART:20251026T010000
END:STANDARD
BEGIN:DAYLIGHT
TZOFFSETFROM:+0100
TZOFFSETTO:+0200
TZNAME:CEST
DTSTART:20260329T010000
END:DAYLIGHT
BEGIN:STANDARD
TZOFFSETFROM:+0200
TZOFFSETTO:+0100
TZNAME:CET
DTSTART:20261025T010000
END:STANDARD
END:VTIMEZONE
BEGIN:VEVENT
DTSTART;TZID=Europe/Amsterdam:20251125T140000
DTEND;TZID=Europe/Amsterdam:20251125T170000
DTSTAMP:20260422T043057
CREATED:20251106T104549Z
LAST-MODIFIED:20251106T104549Z
UID:10001314-1764079200-1764090000@www.hartvoorbaexem.nl
SUMMARY:Inloopmiddag Baexheimerhuuske
DESCRIPTION:Inloopmiddag met beoordeling van foto’s en ander heemkundig nieuws. Onder het genot van een kopje koffie mijmeren over vroeger tijden. Het  thema nog niet bekend\, ook afhankelijk van de eerdere ervaringen.
URL:https://www.hartvoorbaexem.nl/activiteit/inloopmiddag-baexheimerhuuske/
LOCATION:Baexheimerhof\, Kerkstraat 1a\, Baexem\, Limburg\, 6095 BD\, Nederland
CATEGORIES:Culturele Evenementen
ATTACH;FMTTYPE=image/jpeg:https://www.hartvoorbaexem.nl/wp-content/uploads/2025/09/Dorpsraad-Online-Senioren-bijeenkomst-01-S.jpg
END:VEVENT
END:VCALENDAR