BEGIN:VCALENDAR
VERSION:2.0
PRODID:-//Hart voor Baexem - ECPv6.15.18//NONSGML v1.0//EN
CALSCALE:GREGORIAN
METHOD:PUBLISH
X-WR-CALNAME:Hart voor Baexem
X-ORIGINAL-URL:https://www.hartvoorbaexem.nl
X-WR-CALDESC:Evenementen voor Hart voor Baexem
REFRESH-INTERVAL;VALUE=DURATION:PT1H
X-Robots-Tag:noindex
X-PUBLISHED-TTL:PT1H
BEGIN:VTIMEZONE
TZID:Europe/Amsterdam
BEGIN:DAYLIGHT
TZOFFSETFROM:+0100
TZOFFSETTO:+0200
TZNAME:CEST
DTSTART:20240331T010000
END:DAYLIGHT
BEGIN:STANDARD
TZOFFSETFROM:+0200
TZOFFSETTO:+0100
TZNAME:CET
DTSTART:20241027T010000
END:STANDARD
BEGIN:DAYLIGHT
TZOFFSETFROM:+0100
TZOFFSETTO:+0200
TZNAME:CEST
DTSTART:20250330T010000
END:DAYLIGHT
BEGIN:STANDARD
TZOFFSETFROM:+0200
TZOFFSETTO:+0100
TZNAME:CET
DTSTART:20251026T010000
END:STANDARD
BEGIN:DAYLIGHT
TZOFFSETFROM:+0100
TZOFFSETTO:+0200
TZNAME:CEST
DTSTART:20260329T010000
END:DAYLIGHT
BEGIN:STANDARD
TZOFFSETFROM:+0200
TZOFFSETTO:+0100
TZNAME:CET
DTSTART:20261025T010000
END:STANDARD
END:VTIMEZONE
BEGIN:VEVENT
DTSTART;TZID=Europe/Amsterdam:20251220T193000
DTEND;TZID=Europe/Amsterdam:20251220T204500
DTSTAMP:20260422T042936
CREATED:20251218T113329Z
LAST-MODIFIED:20251218T113329Z
UID:10001324-1766259000-1766263500@www.hartvoorbaexem.nl
SUMMARY:Kerstconcert in de kerk: Vredeslicht
DESCRIPTION:Wij houden van samen Zingen.\nMET HET VREDESLICHT DE WERELD ROND\nOnder deze titel organiseren gemengd koor Animato uit Horn en gemengd koor Con Amore uit\nBaexem samen twee kerstconcerten.\n20 december 19.30 – 20.45 kerk Baexem\n21 december 15.00 -16.15 kerk Horn
URL:https://www.hartvoorbaexem.nl/activiteit/kerstconcert-in-de-kerk-vredeslicht/
LOCATION:H. Johannes de Doper\, Monseigneur Kierkelsplein 19\, Baexem\, 6095 BK\, Nederland
CATEGORIES:Culturele Evenementen,Muzikale Evenementen
ATTACH;FMTTYPE=image/jpeg:https://www.hartvoorbaexem.nl/wp-content/uploads/2025/12/Poster-vredeslicht-scaled.jpg
ORGANIZER;CN="Con Amore Baexem":MAILTO:Secretariaat@conamorebaexem.nl
END:VEVENT
END:VCALENDAR