BEGIN:VCALENDAR
VERSION:2.0
PRODID:-//Hart voor Baexem - ECPv6.15.18//NONSGML v1.0//EN
CALSCALE:GREGORIAN
METHOD:PUBLISH
X-ORIGINAL-URL:https://www.hartvoorbaexem.nl
X-WR-CALDESC:Evenementen voor Hart voor Baexem
REFRESH-INTERVAL;VALUE=DURATION:PT1H
X-Robots-Tag:noindex
X-PUBLISHED-TTL:PT1H
BEGIN:VTIMEZONE
TZID:Europe/Amsterdam
BEGIN:DAYLIGHT
TZOFFSETFROM:+0100
TZOFFSETTO:+0200
TZNAME:CEST
DTSTART:20250330T010000
END:DAYLIGHT
BEGIN:STANDARD
TZOFFSETFROM:+0200
TZOFFSETTO:+0100
TZNAME:CET
DTSTART:20251026T010000
END:STANDARD
BEGIN:DAYLIGHT
TZOFFSETFROM:+0100
TZOFFSETTO:+0200
TZNAME:CEST
DTSTART:20260329T010000
END:DAYLIGHT
BEGIN:STANDARD
TZOFFSETFROM:+0200
TZOFFSETTO:+0100
TZNAME:CET
DTSTART:20261025T010000
END:STANDARD
BEGIN:DAYLIGHT
TZOFFSETFROM:+0100
TZOFFSETTO:+0200
TZNAME:CEST
DTSTART:20270328T010000
END:DAYLIGHT
BEGIN:STANDARD
TZOFFSETFROM:+0200
TZOFFSETTO:+0100
TZNAME:CET
DTSTART:20271031T010000
END:STANDARD
END:VTIMEZONE
BEGIN:VEVENT
DTSTART;TZID=Europe/Amsterdam:20260224T140000
DTEND;TZID=Europe/Amsterdam:20260224T170000
DTSTAMP:20260421T204126
CREATED:20260223T150805Z
LAST-MODIFIED:20260223T150805Z
UID:10001329-1771941600-1771952400@www.hartvoorbaexem.nl
SUMMARY:Inloopmiddag Heemkunde
DESCRIPTION:Inloopmiddag; aan de hand van foto’s of krantenknipsels of andere documenten samen praten over Baexem in vroeger tijden. In Baexheimerhuuske op de eerste verdieping hebben we ons archief.\nMisschien is er iets interessants bij voor u\, of heeft u iets interessants voor ons!.
URL:https://www.hartvoorbaexem.nl/activiteit/inloopmiddag-heemkunde/
LOCATION:Baexheimerhuuske\, Kerkstraat 3\, Baexem\, Limburg\, 6095 BD\, Nederland
CATEGORIES:Culturele Evenementen,Ontspanning
ATTACH;FMTTYPE=image/jpeg:https://www.hartvoorbaexem.nl/wp-content/uploads/2026/02/04041-PHOTO-2022-05-23-13-47-42-7-1.jpg
END:VEVENT
BEGIN:VEVENT
DTSTART;TZID=Europe/Amsterdam:20260324T140000
DTEND;TZID=Europe/Amsterdam:20260324T170000
DTSTAMP:20260421T204126
CREATED:20260227T123456Z
LAST-MODIFIED:20260227T123456Z
UID:10001332-1774360800-1774371600@www.hartvoorbaexem.nl
SUMMARY:Inloopmiddag Heemkunde Maart 2026
DESCRIPTION:nloopmiddag; aan de hand van foto’s of krantenknipsels of andere documenten samen praten over Baexem in vroeger tijden. In Baexheimerhuuske op de eerste verdieping hebben we ons archief.\nMisschien is er iets interessants bij voor u\, of heeft u iets interessants voor ons!
URL:https://www.hartvoorbaexem.nl/activiteit/inloopmiddag-heemkunde-maart-2026/
LOCATION:Baexheimerhuuske\, Kerkstraat 3\, Baexem\, Limburg\, 6095 BD\, Nederland
CATEGORIES:Culturele Evenementen
ATTACH;FMTTYPE=image/jpeg:https://www.hartvoorbaexem.nl/wp-content/uploads/2026/02/04043-PHOTO-2022-05-23-13-47-42-10-.jpg
END:VEVENT
BEGIN:VEVENT
DTSTART;TZID=Europe/Amsterdam:20260509T150000
DTEND;TZID=Europe/Amsterdam:20260509T190000
DTSTAMP:20260421T204126
CREATED:20260226T131414Z
LAST-MODIFIED:20260226T131414Z
UID:10001331-1778338800-1778353200@www.hartvoorbaexem.nl
SUMMARY:Meifeest 2026
DESCRIPTION:Onder begeleiding van Fanfare Aurora en Schutterij St Jan wordt de meiboom vanaf de klokkenberg het dorp binnen gehaald. Kinderen van de basisschool zullen de boom versieren. Verdere activiteiten worden tegen die tijd bekend gemaakt.
URL:https://www.hartvoorbaexem.nl/activiteit/meifeest-2026/
LOCATION:Kerkplein\, Kerkstraat\, Beaxem\, Limburg\, 6095 BD\, Nederland
CATEGORIES:Culturele Evenementen,Muzikale Evenementen
ATTACH;FMTTYPE=image/jpeg:https://www.hartvoorbaexem.nl/wp-content/uploads/2026/02/meifeest.jpg
ORGANIZER;CN="Fanfare Aurora":MAILTO:secretariaat@fanfareaurora.nl
END:VEVENT
BEGIN:VEVENT
DTSTART;TZID=Europe/Amsterdam:20260530T190000
DTEND;TZID=Europe/Amsterdam:20260531T160000
DTSTAMP:20260421T204126
CREATED:20260212T132324Z
LAST-MODIFIED:20260303T152809Z
UID:10001327-1780167600-1780243200@www.hartvoorbaexem.nl
SUMMARY:Festival Joie de Vivre au Château Baexem
DESCRIPTION:Festival Joie de Vivre au Château Baexem is een sfeervol Frans themafestival dat plaatsvindt op zaterdag 30 mei en zondag 31 mei 2026 op de binnenplaats van Kasteel Baexem en de Baronshoeve. \n 
URL:https://www.hartvoorbaexem.nl/activiteit/festival-joie-de-vivre-au-chateau-baexem/
LOCATION:Limburg
CATEGORIES:Culturele Evenementen,Muzikale Evenementen,Ontspanning
ATTACH;FMTTYPE=image/jpeg:https://www.hartvoorbaexem.nl/wp-content/uploads/2026/02/IMG-20260212-WA0000-1.jpg
ORGANIZER;CN="Fanfare Aurora":MAILTO:secretariaat@fanfareaurora.nl
END:VEVENT
END:VCALENDAR