BEGIN:VCALENDAR
VERSION:2.0
PRODID:-//Hart voor Baexem - ECPv6.15.18//NONSGML v1.0//EN
CALSCALE:GREGORIAN
METHOD:PUBLISH
X-ORIGINAL-URL:https://www.hartvoorbaexem.nl
X-WR-CALDESC:Evenementen voor Hart voor Baexem
REFRESH-INTERVAL;VALUE=DURATION:PT1H
X-Robots-Tag:noindex
X-PUBLISHED-TTL:PT1H
BEGIN:VTIMEZONE
TZID:Europe/Amsterdam
BEGIN:DAYLIGHT
TZOFFSETFROM:+0100
TZOFFSETTO:+0200
TZNAME:CEST
DTSTART:20240331T010000
END:DAYLIGHT
BEGIN:STANDARD
TZOFFSETFROM:+0200
TZOFFSETTO:+0100
TZNAME:CET
DTSTART:20241027T010000
END:STANDARD
BEGIN:DAYLIGHT
TZOFFSETFROM:+0100
TZOFFSETTO:+0200
TZNAME:CEST
DTSTART:20250330T010000
END:DAYLIGHT
BEGIN:STANDARD
TZOFFSETFROM:+0200
TZOFFSETTO:+0100
TZNAME:CET
DTSTART:20251026T010000
END:STANDARD
BEGIN:DAYLIGHT
TZOFFSETFROM:+0100
TZOFFSETTO:+0200
TZNAME:CEST
DTSTART:20260329T010000
END:DAYLIGHT
BEGIN:STANDARD
TZOFFSETFROM:+0200
TZOFFSETTO:+0100
TZNAME:CET
DTSTART:20261025T010000
END:STANDARD
BEGIN:DAYLIGHT
TZOFFSETFROM:+0100
TZOFFSETTO:+0200
TZNAME:CEST
DTSTART:20270328T010000
END:DAYLIGHT
BEGIN:STANDARD
TZOFFSETFROM:+0200
TZOFFSETTO:+0100
TZNAME:CET
DTSTART:20271031T010000
END:STANDARD
END:VTIMEZONE
BEGIN:VEVENT
DTSTART;TZID=Europe/Amsterdam:20260419T103000
DTEND;TZID=Europe/Amsterdam:20260419T120000
DTSTAMP:20260421T173246
CREATED:20260405T114648Z
LAST-MODIFIED:20260405T114854Z
UID:10001342-1776594600-1776600000@www.hartvoorbaexem.nl
SUMMARY:Eredienst Christengemeente Midden-Limburg
DESCRIPTION:Eredienst \nWe komen iedere zondag om 10:30 uur samen in: \n\n\n\n\n\n\nBaexheimerhof\nKerkstraat 1a\n6095 BD Baexem \n\n\n\n\n\n\n\n\n\n\n\n\n\n\n\nDit ligt tegenover de rooms-katholieke kerk en naast de supermarkt.
URL:https://www.hartvoorbaexem.nl/activiteit/eredienst-christengemeente-midden-limburg-14/2026-04-19/
LOCATION:Baexheimerhof\, Kerkstraat 1a\, Baexem\, Limburg\, 6095 BD\, Nederland
CATEGORIES:Kerkdiensten
ATTACH;FMTTYPE=image/png:https://www.hartvoorbaexem.nl/wp-content/uploads/2025/10/Dorpsraad-Baexem-Logo-Christengemeeente-2024.png
END:VEVENT
BEGIN:VEVENT
DTSTART;TZID=Europe/Amsterdam:20260412T103000
DTEND;TZID=Europe/Amsterdam:20260412T120000
DTSTAMP:20260421T173246
CREATED:20260405T114648Z
LAST-MODIFIED:20260405T114854Z
UID:10001341-1775989800-1775995200@www.hartvoorbaexem.nl
SUMMARY:Eredienst Christengemeente Midden-Limburg
DESCRIPTION:Eredienst \nWe komen iedere zondag om 10:30 uur samen in: \n\n\n\n\n\n\nBaexheimerhof\nKerkstraat 1a\n6095 BD Baexem \n\n\n\n\n\n\n\n\n\n\n\n\n\n\n\nDit ligt tegenover de rooms-katholieke kerk en naast de supermarkt.
URL:https://www.hartvoorbaexem.nl/activiteit/eredienst-christengemeente-midden-limburg-14/2026-04-12/
LOCATION:Baexheimerhof\, Kerkstraat 1a\, Baexem\, Limburg\, 6095 BD\, Nederland
CATEGORIES:Kerkdiensten
ATTACH;FMTTYPE=image/png:https://www.hartvoorbaexem.nl/wp-content/uploads/2025/10/Dorpsraad-Baexem-Logo-Christengemeeente-2024.png
END:VEVENT
BEGIN:VEVENT
DTSTART;TZID=Europe/Amsterdam:20260406T110000
DTEND;TZID=Europe/Amsterdam:20260406T120000
DTSTAMP:20260421T173246
CREATED:20260405T102949Z
LAST-MODIFIED:20260405T111645Z
UID:10001334-1775473200-1775476800@www.hartvoorbaexem.nl
SUMMARY:Heilige Mis
DESCRIPTION:– Gestichte jaardienst Marieke Geraats\n– 10e Jaardienst Harie Geraats\n– Jaardienst Mia Geraats-Cleutjens\n– Wil Pennings vanwege zijn verjaardag en ter nagedachtenis aan Antoine\n– Johanna Remij-Hopman vanwege haar verjaardag
URL:https://www.hartvoorbaexem.nl/activiteit/heilige-mis-3/
LOCATION:Limburg
CATEGORIES:Kerkdiensten
ATTACH;FMTTYPE=image/png:https://www.hartvoorbaexem.nl/wp-content/uploads/2026/03/1-Logo-Cluster-Tabor.png
END:VEVENT
BEGIN:VEVENT
DTSTART;TZID=Europe/Amsterdam:20260405T103000
DTEND;TZID=Europe/Amsterdam:20260405T120000
DTSTAMP:20260421T173246
CREATED:20260405T114648Z
LAST-MODIFIED:20260405T114854Z
UID:10001340-1775385000-1775390400@www.hartvoorbaexem.nl
SUMMARY:Eredienst Christengemeente Midden-Limburg
DESCRIPTION:Eredienst \nWe komen iedere zondag om 10:30 uur samen in: \n\n\n\n\n\n\nBaexheimerhof\nKerkstraat 1a\n6095 BD Baexem \n\n\n\n\n\n\n\n\n\n\n\n\n\n\n\nDit ligt tegenover de rooms-katholieke kerk en naast de supermarkt.
URL:https://www.hartvoorbaexem.nl/activiteit/eredienst-christengemeente-midden-limburg-14/2026-04-05/
LOCATION:Baexheimerhof\, Kerkstraat 1a\, Baexem\, Limburg\, 6095 BD\, Nederland
CATEGORIES:Kerkdiensten
ATTACH;FMTTYPE=image/png:https://www.hartvoorbaexem.nl/wp-content/uploads/2025/10/Dorpsraad-Baexem-Logo-Christengemeeente-2024.png
END:VEVENT
BEGIN:VEVENT
DTSTART;TZID=Europe/Amsterdam:20260329T103000
DTEND;TZID=Europe/Amsterdam:20260329T120000
DTSTAMP:20260421T173246
CREATED:20260405T114648Z
LAST-MODIFIED:20260405T114854Z
UID:10001339-1774780200-1774785600@www.hartvoorbaexem.nl
SUMMARY:Eredienst Christengemeente Midden-Limburg
DESCRIPTION:Eredienst \nWe komen iedere zondag om 10:30 uur samen in: \n\n\n\n\n\n\nBaexheimerhof\nKerkstraat 1a\n6095 BD Baexem \n\n\n\n\n\n\n\n\n\n\n\n\n\n\n\nDit ligt tegenover de rooms-katholieke kerk en naast de supermarkt.
URL:https://www.hartvoorbaexem.nl/activiteit/eredienst-christengemeente-midden-limburg-14/2026-03-29/
LOCATION:Baexheimerhof\, Kerkstraat 1a\, Baexem\, Limburg\, 6095 BD\, Nederland
CATEGORIES:Kerkdiensten
ATTACH;FMTTYPE=image/png:https://www.hartvoorbaexem.nl/wp-content/uploads/2025/10/Dorpsraad-Baexem-Logo-Christengemeeente-2024.png
END:VEVENT
BEGIN:VEVENT
DTSTART;TZID=Europe/Amsterdam:20260322T103000
DTEND;TZID=Europe/Amsterdam:20260322T120000
DTSTAMP:20260421T173246
CREATED:20260405T114648Z
LAST-MODIFIED:20260405T114854Z
UID:10001338-1774175400-1774180800@www.hartvoorbaexem.nl
SUMMARY:Eredienst Christengemeente Midden-Limburg
DESCRIPTION:Eredienst \nWe komen iedere zondag om 10:30 uur samen in: \n\n\n\n\n\n\nBaexheimerhof\nKerkstraat 1a\n6095 BD Baexem \n\n\n\n\n\n\n\n\n\n\n\n\n\n\n\nDit ligt tegenover de rooms-katholieke kerk en naast de supermarkt.
URL:https://www.hartvoorbaexem.nl/activiteit/eredienst-christengemeente-midden-limburg-14/2026-03-22/
LOCATION:Baexheimerhof\, Kerkstraat 1a\, Baexem\, Limburg\, 6095 BD\, Nederland
CATEGORIES:Kerkdiensten
ATTACH;FMTTYPE=image/png:https://www.hartvoorbaexem.nl/wp-content/uploads/2025/10/Dorpsraad-Baexem-Logo-Christengemeeente-2024.png
END:VEVENT
BEGIN:VEVENT
DTSTART;TZID=Europe/Amsterdam:20260315T103000
DTEND;TZID=Europe/Amsterdam:20260315T120000
DTSTAMP:20260421T173246
CREATED:20260405T114648Z
LAST-MODIFIED:20260405T114854Z
UID:10001337-1773570600-1773576000@www.hartvoorbaexem.nl
SUMMARY:Eredienst Christengemeente Midden-Limburg
DESCRIPTION:Eredienst \nWe komen iedere zondag om 10:30 uur samen in: \n\n\n\n\n\n\nBaexheimerhof\nKerkstraat 1a\n6095 BD Baexem \n\n\n\n\n\n\n\n\n\n\n\n\n\n\n\nDit ligt tegenover de rooms-katholieke kerk en naast de supermarkt.
URL:https://www.hartvoorbaexem.nl/activiteit/eredienst-christengemeente-midden-limburg-14/2026-03-15/
LOCATION:Baexheimerhof\, Kerkstraat 1a\, Baexem\, Limburg\, 6095 BD\, Nederland
CATEGORIES:Kerkdiensten
ATTACH;FMTTYPE=image/png:https://www.hartvoorbaexem.nl/wp-content/uploads/2025/10/Dorpsraad-Baexem-Logo-Christengemeeente-2024.png
END:VEVENT
BEGIN:VEVENT
DTSTART;TZID=Europe/Amsterdam:20260308T103000
DTEND;TZID=Europe/Amsterdam:20260308T120000
DTSTAMP:20260421T173246
CREATED:20260405T114648Z
LAST-MODIFIED:20260405T114854Z
UID:10001336-1772965800-1772971200@www.hartvoorbaexem.nl
SUMMARY:Eredienst Christengemeente Midden-Limburg
DESCRIPTION:Eredienst \nWe komen iedere zondag om 10:30 uur samen in: \n\n\n\n\n\n\nBaexheimerhof\nKerkstraat 1a\n6095 BD Baexem \n\n\n\n\n\n\n\n\n\n\n\n\n\n\n\nDit ligt tegenover de rooms-katholieke kerk en naast de supermarkt.
URL:https://www.hartvoorbaexem.nl/activiteit/eredienst-christengemeente-midden-limburg-14/2026-03-08/
LOCATION:Baexheimerhof\, Kerkstraat 1a\, Baexem\, Limburg\, 6095 BD\, Nederland
CATEGORIES:Kerkdiensten
ATTACH;FMTTYPE=image/png:https://www.hartvoorbaexem.nl/wp-content/uploads/2025/10/Dorpsraad-Baexem-Logo-Christengemeeente-2024.png
END:VEVENT
BEGIN:VEVENT
DTSTART;TZID=Europe/Amsterdam:20260307T191500
DTEND;TZID=Europe/Amsterdam:20260307T200000
DTSTAMP:20260421T173246
CREATED:20260303T152158Z
LAST-MODIFIED:20260310T213435Z
UID:10001333-1772910900-1772913600@www.hartvoorbaexem.nl
SUMMARY:Kerkdienst in de Johannes de Doperkerk
DESCRIPTION:– Jaardienst Jan Scheenen\n– Jaardienst Mia Orbon
URL:https://www.hartvoorbaexem.nl/activiteit/kerkdienst-in-de-johannes-de-doperkerk/
LOCATION:H. Johannes de Doper\, Monseigneur Kierkelsplein 19\, Baexem\, 6095 BK\, Nederland
CATEGORIES:Kerkdiensten
ATTACH;FMTTYPE=image/png:https://www.hartvoorbaexem.nl/wp-content/uploads/2026/03/1-Logo-Cluster-Tabor.png
END:VEVENT
BEGIN:VEVENT
DTSTART;TZID=Europe/Amsterdam:20260301T103000
DTEND;TZID=Europe/Amsterdam:20260301T120000
DTSTAMP:20260421T173246
CREATED:20260405T114648Z
LAST-MODIFIED:20260405T114854Z
UID:10001335-1772361000-1772366400@www.hartvoorbaexem.nl
SUMMARY:Eredienst Christengemeente Midden-Limburg
DESCRIPTION:Eredienst \nWe komen iedere zondag om 10:30 uur samen in: \n\n\n\n\n\n\nBaexheimerhof\nKerkstraat 1a\n6095 BD Baexem \n\n\n\n\n\n\n\n\n\n\n\n\n\n\n\nDit ligt tegenover de rooms-katholieke kerk en naast de supermarkt.
URL:https://www.hartvoorbaexem.nl/activiteit/eredienst-christengemeente-midden-limburg-14/2026-03-01/
LOCATION:Baexheimerhof\, Kerkstraat 1a\, Baexem\, Limburg\, 6095 BD\, Nederland
CATEGORIES:Kerkdiensten
ATTACH;FMTTYPE=image/png:https://www.hartvoorbaexem.nl/wp-content/uploads/2025/10/Dorpsraad-Baexem-Logo-Christengemeeente-2024.png
END:VEVENT
BEGIN:VEVENT
DTSTART;TZID=Europe/Amsterdam:20251228T103000
DTEND;TZID=Europe/Amsterdam:20251228T120000
DTSTAMP:20260421T173246
CREATED:20251023T102957Z
LAST-MODIFIED:20251023T102957Z
UID:10001310-1766917800-1766923200@www.hartvoorbaexem.nl
SUMMARY:Eredienst Christengemeente Midden-Limburg
DESCRIPTION:Getuigenisdienst
URL:https://www.hartvoorbaexem.nl/activiteit/eredienst-christengemeente-midden-limburg-13/
LOCATION:Baexheimerhof\, Kerkstraat 1a\, Baexem\, Limburg\, 6095 BD\, Nederland
CATEGORIES:Kerkdiensten
ATTACH;FMTTYPE=image/jpeg:https://www.hartvoorbaexem.nl/wp-content/uploads/2024/01/Dorpsraad-Kerkbanken-2.jpg
END:VEVENT
BEGIN:VEVENT
DTSTART;TZID=Europe/Amsterdam:20251225T103000
DTEND;TZID=Europe/Amsterdam:20251225T120000
DTSTAMP:20260421T173246
CREATED:20251106T115256Z
LAST-MODIFIED:20251106T115256Z
UID:10001320-1766658600-1766664000@www.hartvoorbaexem.nl
SUMMARY:Eredienst - Kerst
DESCRIPTION:Spreker: Stephan Hollander
URL:https://www.hartvoorbaexem.nl/activiteit/eredienst-kerst/
LOCATION:H. Johannes de Doper\, Monseigneur Kierkelsplein 19\, Baexem\, 6095 BK\, Nederland
CATEGORIES:Kerkdiensten
ATTACH;FMTTYPE=image/jpeg:https://www.hartvoorbaexem.nl/wp-content/uploads/2024/01/Dorpsraad-Kaarsjes.jpg
END:VEVENT
BEGIN:VEVENT
DTSTART;TZID=Europe/Amsterdam:20251225T103000
DTEND;TZID=Europe/Amsterdam:20251225T120000
DTSTAMP:20260421T173246
CREATED:20251023T102817Z
LAST-MODIFIED:20251023T102817Z
UID:10001309-1766658600-1766664000@www.hartvoorbaexem.nl
SUMMARY:Eredienst- Kerst Christengemeente Midden-Limburg
DESCRIPTION:Spreker: Stephan Hollander
URL:https://www.hartvoorbaexem.nl/activiteit/eredienst-kerst-christengemeente-midden-limburg/
LOCATION:Baexheimerhof\, Kerkstraat 1a\, Baexem\, Limburg\, 6095 BD\, Nederland
CATEGORIES:Kerkdiensten
ATTACH;FMTTYPE=image/jpeg:https://www.hartvoorbaexem.nl/wp-content/uploads/2024/01/Dorpsraad-Kerkbanken-2.jpg
END:VEVENT
BEGIN:VEVENT
DTSTART;TZID=Europe/Amsterdam:20251224T190000
DTEND;TZID=Europe/Amsterdam:20251224T203000
DTSTAMP:20260421T173246
CREATED:20251106T115017Z
LAST-MODIFIED:20251106T115836Z
UID:10001319-1766602800-1766608200@www.hartvoorbaexem.nl
SUMMARY:Kerstviering
DESCRIPTION:
URL:https://www.hartvoorbaexem.nl/activiteit/kerstviering/
LOCATION:H. Johannes de Doper\, Monseigneur Kierkelsplein 19\, Baexem\, 6095 BK\, Nederland
CATEGORIES:Kerkdiensten
ATTACH;FMTTYPE=image/jpeg:https://www.hartvoorbaexem.nl/wp-content/uploads/2025/11/Kerkbaexem.jpg
END:VEVENT
BEGIN:VEVENT
DTSTART;TZID=Europe/Amsterdam:20251221T103000
DTEND;TZID=Europe/Amsterdam:20251221T120000
DTSTAMP:20260421T173246
CREATED:20251023T102648Z
LAST-MODIFIED:20251023T102648Z
UID:10001308-1766313000-1766318400@www.hartvoorbaexem.nl
SUMMARY:Eredienst Christengemeente Midden-Limburg
DESCRIPTION:Spreker: Miel de Rechter
URL:https://www.hartvoorbaexem.nl/activiteit/eredienst-christengemeente-midden-limburg-12/
LOCATION:Baexheimerhof\, Kerkstraat 1a\, Baexem\, Limburg\, 6095 BD\, Nederland
CATEGORIES:Kerkdiensten
ATTACH;FMTTYPE=image/jpeg:https://www.hartvoorbaexem.nl/wp-content/uploads/2024/01/Dorpsraad-Kerkbanken-2.jpg
END:VEVENT
BEGIN:VEVENT
DTSTART;TZID=Europe/Amsterdam:20251214T103000
DTEND;TZID=Europe/Amsterdam:20251214T120000
DTSTAMP:20260421T173246
CREATED:20251023T102525Z
LAST-MODIFIED:20251023T102525Z
UID:10001307-1765708200-1765713600@www.hartvoorbaexem.nl
SUMMARY:Eredienst Christengemeente Midden-Limburg
DESCRIPTION:Spreker: Thijs van Reijn
URL:https://www.hartvoorbaexem.nl/activiteit/eredienst-christengemeente-midden-limburg-11/
LOCATION:Baexheimerhof\, Kerkstraat 1a\, Baexem\, Limburg\, 6095 BD\, Nederland
CATEGORIES:Kerkdiensten
ATTACH;FMTTYPE=image/jpeg:https://www.hartvoorbaexem.nl/wp-content/uploads/2024/01/Dorpsraad-Kerkbanken-2.jpg
END:VEVENT
BEGIN:VEVENT
DTSTART;TZID=Europe/Amsterdam:20251213T191500
DTEND;TZID=Europe/Amsterdam:20251213T203000
DTSTAMP:20260421T173246
CREATED:20251106T103834Z
LAST-MODIFIED:20251106T115922Z
UID:10001313-1765653300-1765657800@www.hartvoorbaexem.nl
SUMMARY:Heilige Mis
DESCRIPTION:
URL:https://www.hartvoorbaexem.nl/activiteit/heilige-mis-2/
LOCATION:H. Johannes de Doper\, Monseigneur Kierkelsplein 19\, Baexem\, 6095 BK\, Nederland
CATEGORIES:Kerkdiensten
ATTACH;FMTTYPE=image/jpeg:https://www.hartvoorbaexem.nl/wp-content/uploads/2025/11/Kerkbaexem.jpg
END:VEVENT
BEGIN:VEVENT
DTSTART;TZID=Europe/Amsterdam:20251207T103000
DTEND;TZID=Europe/Amsterdam:20251207T120000
DTSTAMP:20260421T173246
CREATED:20251023T102359Z
LAST-MODIFIED:20251023T102359Z
UID:10001306-1765103400-1765108800@www.hartvoorbaexem.nl
SUMMARY:Eredienst Christengemeente Midden-Limburg
DESCRIPTION:Spreker: Martin Penning
URL:https://www.hartvoorbaexem.nl/activiteit/eredienst-christengemeente-midden-limburg-10/
LOCATION:Baexheimerhof\, Kerkstraat 1a\, Baexem\, Limburg\, 6095 BD\, Nederland
CATEGORIES:Kerkdiensten
ATTACH;FMTTYPE=image/jpeg:https://www.hartvoorbaexem.nl/wp-content/uploads/2024/01/Dorpsraad-Kerkbanken-2.jpg
END:VEVENT
BEGIN:VEVENT
DTSTART;TZID=Europe/Amsterdam:20251130T103000
DTEND;TZID=Europe/Amsterdam:20251130T120000
DTSTAMP:20260421T173246
CREATED:20251023T102242Z
LAST-MODIFIED:20251023T104137Z
UID:10001305-1764498600-1764504000@www.hartvoorbaexem.nl
SUMMARY:Eredienst Christengemeente Midden-Limburg
DESCRIPTION:Spreker: Edward Kuiper \nLet op\, deze dienst vind plaats in de Bombardon.
URL:https://www.hartvoorbaexem.nl/activiteit/eredienst-christengemeente-midden-limburg-9/
LOCATION:De Bombardon\, St. Antoniusstraat 2\, Heythuysen\, Limburg\, 6093 GA\, Nederland
CATEGORIES:Kerkdiensten
ATTACH;FMTTYPE=image/jpeg:https://www.hartvoorbaexem.nl/wp-content/uploads/2024/01/Dorpsraad-Kerkbanken-2.jpg
END:VEVENT
BEGIN:VEVENT
DTSTART;TZID=Europe/Amsterdam:20251123T103000
DTEND;TZID=Europe/Amsterdam:20251123T120000
DTSTAMP:20260421T173246
CREATED:20251023T102119Z
LAST-MODIFIED:20251023T102119Z
UID:10001304-1763893800-1763899200@www.hartvoorbaexem.nl
SUMMARY:Eredienst Christengemeente Midden-Limburg
DESCRIPTION:Spreker: Gerard Hoddenbagh
URL:https://www.hartvoorbaexem.nl/activiteit/eredienst-christengemeente-midden-limburg-8/
LOCATION:Baexheimerhof\, Kerkstraat 1a\, Baexem\, Limburg\, 6095 BD\, Nederland
CATEGORIES:Kerkdiensten
ATTACH;FMTTYPE=image/jpeg:https://www.hartvoorbaexem.nl/wp-content/uploads/2024/01/Dorpsraad-Kerkbanken-2.jpg
END:VEVENT
BEGIN:VEVENT
DTSTART;TZID=Europe/Amsterdam:20251116T103000
DTEND;TZID=Europe/Amsterdam:20251116T120000
DTSTAMP:20260421T173246
CREATED:20251023T102002Z
LAST-MODIFIED:20251023T102002Z
UID:10001303-1763289000-1763294400@www.hartvoorbaexem.nl
SUMMARY:Eredienst Christengemeente Midden-Limburg
DESCRIPTION:Spreker: Martin Penning
URL:https://www.hartvoorbaexem.nl/activiteit/eredienst-christengemeente-midden-limburg-7/
LOCATION:Baexheimerhof\, Kerkstraat 1a\, Baexem\, Limburg\, 6095 BD\, Nederland
CATEGORIES:Kerkdiensten
ATTACH;FMTTYPE=image/jpeg:https://www.hartvoorbaexem.nl/wp-content/uploads/2024/01/Dorpsraad-Kerkbanken-2.jpg
END:VEVENT
BEGIN:VEVENT
DTSTART;TZID=Europe/Amsterdam:20251115T191500
DTEND;TZID=Europe/Amsterdam:20251115T203000
DTSTAMP:20260421T173246
CREATED:20251106T101157Z
LAST-MODIFIED:20251106T120008Z
UID:10001311-1763234100-1763238600@www.hartvoorbaexem.nl
SUMMARY:Heilige Mis
DESCRIPTION:
URL:https://www.hartvoorbaexem.nl/activiteit/heilige-mis/
LOCATION:H. Johannes de Doper\, Monseigneur Kierkelsplein 19\, Baexem\, 6095 BK\, Nederland
CATEGORIES:Kerkdiensten
ATTACH;FMTTYPE=image/jpeg:https://www.hartvoorbaexem.nl/wp-content/uploads/2025/11/Kerkbaexem.jpg
END:VEVENT
BEGIN:VEVENT
DTSTART;TZID=Europe/Amsterdam:20251109T103000
DTEND;TZID=Europe/Amsterdam:20251109T120000
DTSTAMP:20260421T173246
CREATED:20251023T101844Z
LAST-MODIFIED:20251023T101844Z
UID:10001302-1762684200-1762689600@www.hartvoorbaexem.nl
SUMMARY:Eredienst Christengemeente Midden-Limburg
DESCRIPTION:Spreker: Edward Kuiper
URL:https://www.hartvoorbaexem.nl/activiteit/eredienst-christengemeente-midden-limburg-6/
LOCATION:Baexheimerhof\, Kerkstraat 1a\, Baexem\, Limburg\, 6095 BD\, Nederland
CATEGORIES:Kerkdiensten
ATTACH;FMTTYPE=image/jpeg:https://www.hartvoorbaexem.nl/wp-content/uploads/2024/01/Dorpsraad-Kerkbanken-2.jpg
END:VEVENT
BEGIN:VEVENT
DTSTART;TZID=Europe/Amsterdam:20251102T103000
DTEND;TZID=Europe/Amsterdam:20251102T120000
DTSTAMP:20260421T173246
CREATED:20251023T101546Z
LAST-MODIFIED:20251023T101546Z
UID:10001301-1762079400-1762084800@www.hartvoorbaexem.nl
SUMMARY:Eredienst Christengemeente Midden-Limburg
DESCRIPTION:Spreker: Miel de Rechter
URL:https://www.hartvoorbaexem.nl/activiteit/eredienst-christengemeente-midden-limburg-5/
LOCATION:Baexheimerhof\, Kerkstraat 1a\, Baexem\, Limburg\, 6095 BD\, Nederland
CATEGORIES:Kerkdiensten
ATTACH;FMTTYPE=image/jpeg:https://www.hartvoorbaexem.nl/wp-content/uploads/2024/01/Dorpsraad-Kerkbanken-2.jpg
END:VEVENT
BEGIN:VEVENT
DTSTART;TZID=Europe/Amsterdam:20251026T103000
DTEND;TZID=Europe/Amsterdam:20251026T120000
DTSTAMP:20260421T173246
CREATED:20251023T101416Z
LAST-MODIFIED:20251023T101416Z
UID:10001300-1761474600-1761480000@www.hartvoorbaexem.nl
SUMMARY:Eredienst Christengemeente Midden-Limburg
DESCRIPTION:Spreker: Martin Penning
URL:https://www.hartvoorbaexem.nl/activiteit/eredienst-christengemeente-midden-limburg-4/
LOCATION:Baexheimerhof\, Kerkstraat 1a\, Baexem\, Limburg\, 6095 BD\, Nederland
CATEGORIES:Kerkdiensten
ATTACH;FMTTYPE=image/jpeg:https://www.hartvoorbaexem.nl/wp-content/uploads/2024/01/Dorpsraad-Kerkbanken-2.jpg
END:VEVENT
BEGIN:VEVENT
DTSTART;TZID=Europe/Amsterdam:20251019T103000
DTEND;TZID=Europe/Amsterdam:20251019T120000
DTSTAMP:20260421T173246
CREATED:20251023T101258Z
LAST-MODIFIED:20251023T101714Z
UID:10001299-1760869800-1760875200@www.hartvoorbaexem.nl
SUMMARY:Eredienst Christengemeente Midden-Limburg
DESCRIPTION:Spreker: Stephan Hollander
URL:https://www.hartvoorbaexem.nl/activiteit/eredienst-christengemeente-midden-limburg-3/
LOCATION:Baexheimerhof\, Kerkstraat 1a\, Baexem\, Limburg\, 6095 BD\, Nederland
CATEGORIES:Kerkdiensten
ATTACH;FMTTYPE=image/jpeg:https://www.hartvoorbaexem.nl/wp-content/uploads/2024/01/Dorpsraad-Kerkbanken-2.jpg
END:VEVENT
BEGIN:VEVENT
DTSTART;TZID=Europe/Amsterdam:20251012T113000
DTEND;TZID=Europe/Amsterdam:20251012T120000
DTSTAMP:20260421T173246
CREATED:20251023T100757Z
LAST-MODIFIED:20251023T100807Z
UID:10001298-1760268600-1760270400@www.hartvoorbaexem.nl
SUMMARY:Eredienst Christengemeente Midden-Limburg
DESCRIPTION:Spreker: Rene Millenaar
URL:https://www.hartvoorbaexem.nl/activiteit/eredienst-christengemeente-midden-limburg-2/
LOCATION:Baexheimerhof\, Kerkstraat 1a\, Baexem\, Limburg\, 6095 BD\, Nederland
CATEGORIES:Kerkdiensten
ATTACH;FMTTYPE=image/jpeg:https://www.hartvoorbaexem.nl/wp-content/uploads/2024/01/Dorpsraad-Kerkbanken-2.jpg
END:VEVENT
BEGIN:VEVENT
DTSTART;TZID=Europe/Amsterdam:20251005T103000
DTEND;TZID=Europe/Amsterdam:20251005T120000
DTSTAMP:20260421T173246
CREATED:20251023T095601Z
LAST-MODIFIED:20251023T100459Z
UID:10001284-1759660200-1759665600@www.hartvoorbaexem.nl
SUMMARY:Eredienst Christengemeente Midden-Limburg
DESCRIPTION:Spreker: Miel de Rechter
URL:https://www.hartvoorbaexem.nl/activiteit/eredienst-christengemeente-midden-limburg/
LOCATION:Baexheimerhof\, Kerkstraat 1a\, Baexem\, Limburg\, 6095 BD\, Nederland
CATEGORIES:Kerkdiensten
ATTACH;FMTTYPE=image/jpeg:https://www.hartvoorbaexem.nl/wp-content/uploads/2024/01/Dorpsraad-Kerkbanken-2.jpg
END:VEVENT
END:VCALENDAR