BEGIN:VCALENDAR
VERSION:2.0
PRODID:-//Hart voor Baexem - ECPv6.15.18//NONSGML v1.0//EN
CALSCALE:GREGORIAN
METHOD:PUBLISH
X-WR-CALNAME:Hart voor Baexem
X-ORIGINAL-URL:https://www.hartvoorbaexem.nl
X-WR-CALDESC:Evenementen voor Hart voor Baexem
REFRESH-INTERVAL;VALUE=DURATION:PT1H
X-Robots-Tag:noindex
X-PUBLISHED-TTL:PT1H
BEGIN:VTIMEZONE
TZID:Europe/Amsterdam
BEGIN:DAYLIGHT
TZOFFSETFROM:+0100
TZOFFSETTO:+0200
TZNAME:CEST
DTSTART:20270328T010000
END:DAYLIGHT
BEGIN:STANDARD
TZOFFSETFROM:+0200
TZOFFSETTO:+0100
TZNAME:CET
DTSTART:20271031T010000
END:STANDARD
BEGIN:DAYLIGHT
TZOFFSETFROM:+0100
TZOFFSETTO:+0200
TZNAME:CEST
DTSTART:20280326T010000
END:DAYLIGHT
BEGIN:STANDARD
TZOFFSETFROM:+0200
TZOFFSETTO:+0100
TZNAME:CET
DTSTART:20281029T010000
END:STANDARD
BEGIN:DAYLIGHT
TZOFFSETFROM:+0100
TZOFFSETTO:+0200
TZNAME:CEST
DTSTART:20290325T010000
END:DAYLIGHT
BEGIN:STANDARD
TZOFFSETFROM:+0200
TZOFFSETTO:+0100
TZNAME:CET
DTSTART:20291028T010000
END:STANDARD
BEGIN:DAYLIGHT
TZOFFSETFROM:+0100
TZOFFSETTO:+0200
TZNAME:CEST
DTSTART:20300331T010000
END:DAYLIGHT
BEGIN:STANDARD
TZOFFSETFROM:+0200
TZOFFSETTO:+0100
TZNAME:CET
DTSTART:20301027T010000
END:STANDARD
END:VTIMEZONE
BEGIN:VEVENT
DTSTART;TZID=Europe/Amsterdam:20280702T103000
DTEND;TZID=Europe/Amsterdam:20280702T120000
DTSTAMP:20260425T184801
CREATED:20260405T114648Z
LAST-MODIFIED:20260405T114854Z
UID:10001457-1846146600-1846152000@www.hartvoorbaexem.nl
SUMMARY:Eredienst Christengemeente Midden-Limburg
DESCRIPTION:Eredienst \nWe komen iedere zondag om 10:30 uur samen in: \n\n\n\n\n\n\nBaexheimerhof\nKerkstraat 1a\n6095 BD Baexem \n\n\n\n\n\n\n\n\n\n\n\n\n\n\n\nDit ligt tegenover de rooms-katholieke kerk en naast de supermarkt.
URL:https://www.hartvoorbaexem.nl/activiteit/eredienst-christengemeente-midden-limburg-14/2028-07-02/
LOCATION:Baexheimerhof\, Kerkstraat 1a\, Baexem\, Limburg\, 6095 BD\, Nederland
CATEGORIES:Kerkdiensten
ATTACH;FMTTYPE=image/png:https://www.hartvoorbaexem.nl/wp-content/uploads/2025/10/Dorpsraad-Baexem-Logo-Christengemeeente-2024.png
END:VEVENT
BEGIN:VEVENT
DTSTART;TZID=Europe/Amsterdam:20280709T103000
DTEND;TZID=Europe/Amsterdam:20280709T120000
DTSTAMP:20260425T184801
CREATED:20260405T114648Z
LAST-MODIFIED:20260405T114854Z
UID:10001458-1846751400-1846756800@www.hartvoorbaexem.nl
SUMMARY:Eredienst Christengemeente Midden-Limburg
DESCRIPTION:Eredienst \nWe komen iedere zondag om 10:30 uur samen in: \n\n\n\n\n\n\nBaexheimerhof\nKerkstraat 1a\n6095 BD Baexem \n\n\n\n\n\n\n\n\n\n\n\n\n\n\n\nDit ligt tegenover de rooms-katholieke kerk en naast de supermarkt.
URL:https://www.hartvoorbaexem.nl/activiteit/eredienst-christengemeente-midden-limburg-14/2028-07-09/
LOCATION:Baexheimerhof\, Kerkstraat 1a\, Baexem\, Limburg\, 6095 BD\, Nederland
CATEGORIES:Kerkdiensten
ATTACH;FMTTYPE=image/png:https://www.hartvoorbaexem.nl/wp-content/uploads/2025/10/Dorpsraad-Baexem-Logo-Christengemeeente-2024.png
END:VEVENT
BEGIN:VEVENT
DTSTART;TZID=Europe/Amsterdam:20280716T103000
DTEND;TZID=Europe/Amsterdam:20280716T120000
DTSTAMP:20260425T184801
CREATED:20260405T114648Z
LAST-MODIFIED:20260405T114854Z
UID:10001459-1847356200-1847361600@www.hartvoorbaexem.nl
SUMMARY:Eredienst Christengemeente Midden-Limburg
DESCRIPTION:Eredienst \nWe komen iedere zondag om 10:30 uur samen in: \n\n\n\n\n\n\nBaexheimerhof\nKerkstraat 1a\n6095 BD Baexem \n\n\n\n\n\n\n\n\n\n\n\n\n\n\n\nDit ligt tegenover de rooms-katholieke kerk en naast de supermarkt.
URL:https://www.hartvoorbaexem.nl/activiteit/eredienst-christengemeente-midden-limburg-14/2028-07-16/
LOCATION:Baexheimerhof\, Kerkstraat 1a\, Baexem\, Limburg\, 6095 BD\, Nederland
CATEGORIES:Kerkdiensten
ATTACH;FMTTYPE=image/png:https://www.hartvoorbaexem.nl/wp-content/uploads/2025/10/Dorpsraad-Baexem-Logo-Christengemeeente-2024.png
END:VEVENT
BEGIN:VEVENT
DTSTART;TZID=Europe/Amsterdam:20280723T103000
DTEND;TZID=Europe/Amsterdam:20280723T120000
DTSTAMP:20260425T184801
CREATED:20260405T114648Z
LAST-MODIFIED:20260405T114854Z
UID:10001460-1847961000-1847966400@www.hartvoorbaexem.nl
SUMMARY:Eredienst Christengemeente Midden-Limburg
DESCRIPTION:Eredienst \nWe komen iedere zondag om 10:30 uur samen in: \n\n\n\n\n\n\nBaexheimerhof\nKerkstraat 1a\n6095 BD Baexem \n\n\n\n\n\n\n\n\n\n\n\n\n\n\n\nDit ligt tegenover de rooms-katholieke kerk en naast de supermarkt.
URL:https://www.hartvoorbaexem.nl/activiteit/eredienst-christengemeente-midden-limburg-14/2028-07-23/
LOCATION:Baexheimerhof\, Kerkstraat 1a\, Baexem\, Limburg\, 6095 BD\, Nederland
CATEGORIES:Kerkdiensten
ATTACH;FMTTYPE=image/png:https://www.hartvoorbaexem.nl/wp-content/uploads/2025/10/Dorpsraad-Baexem-Logo-Christengemeeente-2024.png
END:VEVENT
BEGIN:VEVENT
DTSTART;TZID=Europe/Amsterdam:20280730T103000
DTEND;TZID=Europe/Amsterdam:20280730T120000
DTSTAMP:20260425T184801
CREATED:20260405T114648Z
LAST-MODIFIED:20260405T114854Z
UID:10001461-1848565800-1848571200@www.hartvoorbaexem.nl
SUMMARY:Eredienst Christengemeente Midden-Limburg
DESCRIPTION:Eredienst \nWe komen iedere zondag om 10:30 uur samen in: \n\n\n\n\n\n\nBaexheimerhof\nKerkstraat 1a\n6095 BD Baexem \n\n\n\n\n\n\n\n\n\n\n\n\n\n\n\nDit ligt tegenover de rooms-katholieke kerk en naast de supermarkt.
URL:https://www.hartvoorbaexem.nl/activiteit/eredienst-christengemeente-midden-limburg-14/2028-07-30/
LOCATION:Baexheimerhof\, Kerkstraat 1a\, Baexem\, Limburg\, 6095 BD\, Nederland
CATEGORIES:Kerkdiensten
ATTACH;FMTTYPE=image/png:https://www.hartvoorbaexem.nl/wp-content/uploads/2025/10/Dorpsraad-Baexem-Logo-Christengemeeente-2024.png
END:VEVENT
BEGIN:VEVENT
DTSTART;TZID=Europe/Amsterdam:20280806T103000
DTEND;TZID=Europe/Amsterdam:20280806T120000
DTSTAMP:20260425T184801
CREATED:20260405T114648Z
LAST-MODIFIED:20260405T114854Z
UID:10001462-1849170600-1849176000@www.hartvoorbaexem.nl
SUMMARY:Eredienst Christengemeente Midden-Limburg
DESCRIPTION:Eredienst \nWe komen iedere zondag om 10:30 uur samen in: \n\n\n\n\n\n\nBaexheimerhof\nKerkstraat 1a\n6095 BD Baexem \n\n\n\n\n\n\n\n\n\n\n\n\n\n\n\nDit ligt tegenover de rooms-katholieke kerk en naast de supermarkt.
URL:https://www.hartvoorbaexem.nl/activiteit/eredienst-christengemeente-midden-limburg-14/2028-08-06/
LOCATION:Baexheimerhof\, Kerkstraat 1a\, Baexem\, Limburg\, 6095 BD\, Nederland
CATEGORIES:Kerkdiensten
ATTACH;FMTTYPE=image/png:https://www.hartvoorbaexem.nl/wp-content/uploads/2025/10/Dorpsraad-Baexem-Logo-Christengemeeente-2024.png
END:VEVENT
BEGIN:VEVENT
DTSTART;TZID=Europe/Amsterdam:20280813T103000
DTEND;TZID=Europe/Amsterdam:20280813T120000
DTSTAMP:20260425T184801
CREATED:20260405T114648Z
LAST-MODIFIED:20260405T114854Z
UID:10001463-1849775400-1849780800@www.hartvoorbaexem.nl
SUMMARY:Eredienst Christengemeente Midden-Limburg
DESCRIPTION:Eredienst \nWe komen iedere zondag om 10:30 uur samen in: \n\n\n\n\n\n\nBaexheimerhof\nKerkstraat 1a\n6095 BD Baexem \n\n\n\n\n\n\n\n\n\n\n\n\n\n\n\nDit ligt tegenover de rooms-katholieke kerk en naast de supermarkt.
URL:https://www.hartvoorbaexem.nl/activiteit/eredienst-christengemeente-midden-limburg-14/2028-08-13/
LOCATION:Baexheimerhof\, Kerkstraat 1a\, Baexem\, Limburg\, 6095 BD\, Nederland
CATEGORIES:Kerkdiensten
ATTACH;FMTTYPE=image/png:https://www.hartvoorbaexem.nl/wp-content/uploads/2025/10/Dorpsraad-Baexem-Logo-Christengemeeente-2024.png
END:VEVENT
BEGIN:VEVENT
DTSTART;TZID=Europe/Amsterdam:20280820T103000
DTEND;TZID=Europe/Amsterdam:20280820T120000
DTSTAMP:20260425T184801
CREATED:20260405T114648Z
LAST-MODIFIED:20260405T114854Z
UID:10001464-1850380200-1850385600@www.hartvoorbaexem.nl
SUMMARY:Eredienst Christengemeente Midden-Limburg
DESCRIPTION:Eredienst \nWe komen iedere zondag om 10:30 uur samen in: \n\n\n\n\n\n\nBaexheimerhof\nKerkstraat 1a\n6095 BD Baexem \n\n\n\n\n\n\n\n\n\n\n\n\n\n\n\nDit ligt tegenover de rooms-katholieke kerk en naast de supermarkt.
URL:https://www.hartvoorbaexem.nl/activiteit/eredienst-christengemeente-midden-limburg-14/2028-08-20/
LOCATION:Baexheimerhof\, Kerkstraat 1a\, Baexem\, Limburg\, 6095 BD\, Nederland
CATEGORIES:Kerkdiensten
ATTACH;FMTTYPE=image/png:https://www.hartvoorbaexem.nl/wp-content/uploads/2025/10/Dorpsraad-Baexem-Logo-Christengemeeente-2024.png
END:VEVENT
BEGIN:VEVENT
DTSTART;TZID=Europe/Amsterdam:20280827T103000
DTEND;TZID=Europe/Amsterdam:20280827T120000
DTSTAMP:20260425T184801
CREATED:20260405T114648Z
LAST-MODIFIED:20260405T114854Z
UID:10001465-1850985000-1850990400@www.hartvoorbaexem.nl
SUMMARY:Eredienst Christengemeente Midden-Limburg
DESCRIPTION:Eredienst \nWe komen iedere zondag om 10:30 uur samen in: \n\n\n\n\n\n\nBaexheimerhof\nKerkstraat 1a\n6095 BD Baexem \n\n\n\n\n\n\n\n\n\n\n\n\n\n\n\nDit ligt tegenover de rooms-katholieke kerk en naast de supermarkt.
URL:https://www.hartvoorbaexem.nl/activiteit/eredienst-christengemeente-midden-limburg-14/2028-08-27/
LOCATION:Baexheimerhof\, Kerkstraat 1a\, Baexem\, Limburg\, 6095 BD\, Nederland
CATEGORIES:Kerkdiensten
ATTACH;FMTTYPE=image/png:https://www.hartvoorbaexem.nl/wp-content/uploads/2025/10/Dorpsraad-Baexem-Logo-Christengemeeente-2024.png
END:VEVENT
BEGIN:VEVENT
DTSTART;TZID=Europe/Amsterdam:20280903T103000
DTEND;TZID=Europe/Amsterdam:20280903T120000
DTSTAMP:20260425T184801
CREATED:20260405T114648Z
LAST-MODIFIED:20260405T114854Z
UID:10001466-1851589800-1851595200@www.hartvoorbaexem.nl
SUMMARY:Eredienst Christengemeente Midden-Limburg
DESCRIPTION:Eredienst \nWe komen iedere zondag om 10:30 uur samen in: \n\n\n\n\n\n\nBaexheimerhof\nKerkstraat 1a\n6095 BD Baexem \n\n\n\n\n\n\n\n\n\n\n\n\n\n\n\nDit ligt tegenover de rooms-katholieke kerk en naast de supermarkt.
URL:https://www.hartvoorbaexem.nl/activiteit/eredienst-christengemeente-midden-limburg-14/2028-09-03/
LOCATION:Baexheimerhof\, Kerkstraat 1a\, Baexem\, Limburg\, 6095 BD\, Nederland
CATEGORIES:Kerkdiensten
ATTACH;FMTTYPE=image/png:https://www.hartvoorbaexem.nl/wp-content/uploads/2025/10/Dorpsraad-Baexem-Logo-Christengemeeente-2024.png
END:VEVENT
BEGIN:VEVENT
DTSTART;TZID=Europe/Amsterdam:20280910T103000
DTEND;TZID=Europe/Amsterdam:20280910T120000
DTSTAMP:20260425T184801
CREATED:20260405T114648Z
LAST-MODIFIED:20260405T114854Z
UID:10001467-1852194600-1852200000@www.hartvoorbaexem.nl
SUMMARY:Eredienst Christengemeente Midden-Limburg
DESCRIPTION:Eredienst \nWe komen iedere zondag om 10:30 uur samen in: \n\n\n\n\n\n\nBaexheimerhof\nKerkstraat 1a\n6095 BD Baexem \n\n\n\n\n\n\n\n\n\n\n\n\n\n\n\nDit ligt tegenover de rooms-katholieke kerk en naast de supermarkt.
URL:https://www.hartvoorbaexem.nl/activiteit/eredienst-christengemeente-midden-limburg-14/2028-09-10/
LOCATION:Baexheimerhof\, Kerkstraat 1a\, Baexem\, Limburg\, 6095 BD\, Nederland
CATEGORIES:Kerkdiensten
ATTACH;FMTTYPE=image/png:https://www.hartvoorbaexem.nl/wp-content/uploads/2025/10/Dorpsraad-Baexem-Logo-Christengemeeente-2024.png
END:VEVENT
BEGIN:VEVENT
DTSTART;TZID=Europe/Amsterdam:20280917T103000
DTEND;TZID=Europe/Amsterdam:20280917T120000
DTSTAMP:20260425T184801
CREATED:20260405T114648Z
LAST-MODIFIED:20260405T114854Z
UID:10001468-1852799400-1852804800@www.hartvoorbaexem.nl
SUMMARY:Eredienst Christengemeente Midden-Limburg
DESCRIPTION:Eredienst \nWe komen iedere zondag om 10:30 uur samen in: \n\n\n\n\n\n\nBaexheimerhof\nKerkstraat 1a\n6095 BD Baexem \n\n\n\n\n\n\n\n\n\n\n\n\n\n\n\nDit ligt tegenover de rooms-katholieke kerk en naast de supermarkt.
URL:https://www.hartvoorbaexem.nl/activiteit/eredienst-christengemeente-midden-limburg-14/2028-09-17/
LOCATION:Baexheimerhof\, Kerkstraat 1a\, Baexem\, Limburg\, 6095 BD\, Nederland
CATEGORIES:Kerkdiensten
ATTACH;FMTTYPE=image/png:https://www.hartvoorbaexem.nl/wp-content/uploads/2025/10/Dorpsraad-Baexem-Logo-Christengemeeente-2024.png
END:VEVENT
BEGIN:VEVENT
DTSTART;TZID=Europe/Amsterdam:20280924T103000
DTEND;TZID=Europe/Amsterdam:20280924T120000
DTSTAMP:20260425T184801
CREATED:20260405T114648Z
LAST-MODIFIED:20260405T114854Z
UID:10001469-1853404200-1853409600@www.hartvoorbaexem.nl
SUMMARY:Eredienst Christengemeente Midden-Limburg
DESCRIPTION:Eredienst \nWe komen iedere zondag om 10:30 uur samen in: \n\n\n\n\n\n\nBaexheimerhof\nKerkstraat 1a\n6095 BD Baexem \n\n\n\n\n\n\n\n\n\n\n\n\n\n\n\nDit ligt tegenover de rooms-katholieke kerk en naast de supermarkt.
URL:https://www.hartvoorbaexem.nl/activiteit/eredienst-christengemeente-midden-limburg-14/2028-09-24/
LOCATION:Baexheimerhof\, Kerkstraat 1a\, Baexem\, Limburg\, 6095 BD\, Nederland
CATEGORIES:Kerkdiensten
ATTACH;FMTTYPE=image/png:https://www.hartvoorbaexem.nl/wp-content/uploads/2025/10/Dorpsraad-Baexem-Logo-Christengemeeente-2024.png
END:VEVENT
BEGIN:VEVENT
DTSTART;TZID=Europe/Amsterdam:20281001T103000
DTEND;TZID=Europe/Amsterdam:20281001T120000
DTSTAMP:20260425T184801
CREATED:20260405T114648Z
LAST-MODIFIED:20260405T114854Z
UID:10001470-1854009000-1854014400@www.hartvoorbaexem.nl
SUMMARY:Eredienst Christengemeente Midden-Limburg
DESCRIPTION:Eredienst \nWe komen iedere zondag om 10:30 uur samen in: \n\n\n\n\n\n\nBaexheimerhof\nKerkstraat 1a\n6095 BD Baexem \n\n\n\n\n\n\n\n\n\n\n\n\n\n\n\nDit ligt tegenover de rooms-katholieke kerk en naast de supermarkt.
URL:https://www.hartvoorbaexem.nl/activiteit/eredienst-christengemeente-midden-limburg-14/2028-10-01/
LOCATION:Baexheimerhof\, Kerkstraat 1a\, Baexem\, Limburg\, 6095 BD\, Nederland
CATEGORIES:Kerkdiensten
ATTACH;FMTTYPE=image/png:https://www.hartvoorbaexem.nl/wp-content/uploads/2025/10/Dorpsraad-Baexem-Logo-Christengemeeente-2024.png
END:VEVENT
BEGIN:VEVENT
DTSTART;TZID=Europe/Amsterdam:20281008T103000
DTEND;TZID=Europe/Amsterdam:20281008T120000
DTSTAMP:20260425T184801
CREATED:20260405T114648Z
LAST-MODIFIED:20260405T114854Z
UID:10001471-1854613800-1854619200@www.hartvoorbaexem.nl
SUMMARY:Eredienst Christengemeente Midden-Limburg
DESCRIPTION:Eredienst \nWe komen iedere zondag om 10:30 uur samen in: \n\n\n\n\n\n\nBaexheimerhof\nKerkstraat 1a\n6095 BD Baexem \n\n\n\n\n\n\n\n\n\n\n\n\n\n\n\nDit ligt tegenover de rooms-katholieke kerk en naast de supermarkt.
URL:https://www.hartvoorbaexem.nl/activiteit/eredienst-christengemeente-midden-limburg-14/2028-10-08/
LOCATION:Baexheimerhof\, Kerkstraat 1a\, Baexem\, Limburg\, 6095 BD\, Nederland
CATEGORIES:Kerkdiensten
ATTACH;FMTTYPE=image/png:https://www.hartvoorbaexem.nl/wp-content/uploads/2025/10/Dorpsraad-Baexem-Logo-Christengemeeente-2024.png
END:VEVENT
BEGIN:VEVENT
DTSTART;TZID=Europe/Amsterdam:20281015T103000
DTEND;TZID=Europe/Amsterdam:20281015T120000
DTSTAMP:20260425T184801
CREATED:20260405T114648Z
LAST-MODIFIED:20260405T114854Z
UID:10001472-1855218600-1855224000@www.hartvoorbaexem.nl
SUMMARY:Eredienst Christengemeente Midden-Limburg
DESCRIPTION:Eredienst \nWe komen iedere zondag om 10:30 uur samen in: \n\n\n\n\n\n\nBaexheimerhof\nKerkstraat 1a\n6095 BD Baexem \n\n\n\n\n\n\n\n\n\n\n\n\n\n\n\nDit ligt tegenover de rooms-katholieke kerk en naast de supermarkt.
URL:https://www.hartvoorbaexem.nl/activiteit/eredienst-christengemeente-midden-limburg-14/2028-10-15/
LOCATION:Baexheimerhof\, Kerkstraat 1a\, Baexem\, Limburg\, 6095 BD\, Nederland
CATEGORIES:Kerkdiensten
ATTACH;FMTTYPE=image/png:https://www.hartvoorbaexem.nl/wp-content/uploads/2025/10/Dorpsraad-Baexem-Logo-Christengemeeente-2024.png
END:VEVENT
BEGIN:VEVENT
DTSTART;TZID=Europe/Amsterdam:20281022T103000
DTEND;TZID=Europe/Amsterdam:20281022T120000
DTSTAMP:20260425T184801
CREATED:20260405T114648Z
LAST-MODIFIED:20260405T114854Z
UID:10001473-1855823400-1855828800@www.hartvoorbaexem.nl
SUMMARY:Eredienst Christengemeente Midden-Limburg
DESCRIPTION:Eredienst \nWe komen iedere zondag om 10:30 uur samen in: \n\n\n\n\n\n\nBaexheimerhof\nKerkstraat 1a\n6095 BD Baexem \n\n\n\n\n\n\n\n\n\n\n\n\n\n\n\nDit ligt tegenover de rooms-katholieke kerk en naast de supermarkt.
URL:https://www.hartvoorbaexem.nl/activiteit/eredienst-christengemeente-midden-limburg-14/2028-10-22/
LOCATION:Baexheimerhof\, Kerkstraat 1a\, Baexem\, Limburg\, 6095 BD\, Nederland
CATEGORIES:Kerkdiensten
ATTACH;FMTTYPE=image/png:https://www.hartvoorbaexem.nl/wp-content/uploads/2025/10/Dorpsraad-Baexem-Logo-Christengemeeente-2024.png
END:VEVENT
BEGIN:VEVENT
DTSTART;TZID=Europe/Amsterdam:20281029T103000
DTEND;TZID=Europe/Amsterdam:20281029T120000
DTSTAMP:20260425T184801
CREATED:20260405T114648Z
LAST-MODIFIED:20260405T114854Z
UID:10001474-1856428200-1856433600@www.hartvoorbaexem.nl
SUMMARY:Eredienst Christengemeente Midden-Limburg
DESCRIPTION:Eredienst \nWe komen iedere zondag om 10:30 uur samen in: \n\n\n\n\n\n\nBaexheimerhof\nKerkstraat 1a\n6095 BD Baexem \n\n\n\n\n\n\n\n\n\n\n\n\n\n\n\nDit ligt tegenover de rooms-katholieke kerk en naast de supermarkt.
URL:https://www.hartvoorbaexem.nl/activiteit/eredienst-christengemeente-midden-limburg-14/2028-10-29/
LOCATION:Baexheimerhof\, Kerkstraat 1a\, Baexem\, Limburg\, 6095 BD\, Nederland
CATEGORIES:Kerkdiensten
ATTACH;FMTTYPE=image/png:https://www.hartvoorbaexem.nl/wp-content/uploads/2025/10/Dorpsraad-Baexem-Logo-Christengemeeente-2024.png
END:VEVENT
BEGIN:VEVENT
DTSTART;TZID=Europe/Amsterdam:20281105T103000
DTEND;TZID=Europe/Amsterdam:20281105T120000
DTSTAMP:20260425T184801
CREATED:20260405T114648Z
LAST-MODIFIED:20260405T114854Z
UID:10001475-1857033000-1857038400@www.hartvoorbaexem.nl
SUMMARY:Eredienst Christengemeente Midden-Limburg
DESCRIPTION:Eredienst \nWe komen iedere zondag om 10:30 uur samen in: \n\n\n\n\n\n\nBaexheimerhof\nKerkstraat 1a\n6095 BD Baexem \n\n\n\n\n\n\n\n\n\n\n\n\n\n\n\nDit ligt tegenover de rooms-katholieke kerk en naast de supermarkt.
URL:https://www.hartvoorbaexem.nl/activiteit/eredienst-christengemeente-midden-limburg-14/2028-11-05/
LOCATION:Baexheimerhof\, Kerkstraat 1a\, Baexem\, Limburg\, 6095 BD\, Nederland
CATEGORIES:Kerkdiensten
ATTACH;FMTTYPE=image/png:https://www.hartvoorbaexem.nl/wp-content/uploads/2025/10/Dorpsraad-Baexem-Logo-Christengemeeente-2024.png
END:VEVENT
BEGIN:VEVENT
DTSTART;TZID=Europe/Amsterdam:20281112T103000
DTEND;TZID=Europe/Amsterdam:20281112T120000
DTSTAMP:20260425T184801
CREATED:20260405T114648Z
LAST-MODIFIED:20260405T114854Z
UID:10001476-1857637800-1857643200@www.hartvoorbaexem.nl
SUMMARY:Eredienst Christengemeente Midden-Limburg
DESCRIPTION:Eredienst \nWe komen iedere zondag om 10:30 uur samen in: \n\n\n\n\n\n\nBaexheimerhof\nKerkstraat 1a\n6095 BD Baexem \n\n\n\n\n\n\n\n\n\n\n\n\n\n\n\nDit ligt tegenover de rooms-katholieke kerk en naast de supermarkt.
URL:https://www.hartvoorbaexem.nl/activiteit/eredienst-christengemeente-midden-limburg-14/2028-11-12/
LOCATION:Baexheimerhof\, Kerkstraat 1a\, Baexem\, Limburg\, 6095 BD\, Nederland
CATEGORIES:Kerkdiensten
ATTACH;FMTTYPE=image/png:https://www.hartvoorbaexem.nl/wp-content/uploads/2025/10/Dorpsraad-Baexem-Logo-Christengemeeente-2024.png
END:VEVENT
BEGIN:VEVENT
DTSTART;TZID=Europe/Amsterdam:20281119T103000
DTEND;TZID=Europe/Amsterdam:20281119T120000
DTSTAMP:20260425T184801
CREATED:20260405T114648Z
LAST-MODIFIED:20260405T114854Z
UID:10001477-1858242600-1858248000@www.hartvoorbaexem.nl
SUMMARY:Eredienst Christengemeente Midden-Limburg
DESCRIPTION:Eredienst \nWe komen iedere zondag om 10:30 uur samen in: \n\n\n\n\n\n\nBaexheimerhof\nKerkstraat 1a\n6095 BD Baexem \n\n\n\n\n\n\n\n\n\n\n\n\n\n\n\nDit ligt tegenover de rooms-katholieke kerk en naast de supermarkt.
URL:https://www.hartvoorbaexem.nl/activiteit/eredienst-christengemeente-midden-limburg-14/2028-11-19/
LOCATION:Baexheimerhof\, Kerkstraat 1a\, Baexem\, Limburg\, 6095 BD\, Nederland
CATEGORIES:Kerkdiensten
ATTACH;FMTTYPE=image/png:https://www.hartvoorbaexem.nl/wp-content/uploads/2025/10/Dorpsraad-Baexem-Logo-Christengemeeente-2024.png
END:VEVENT
BEGIN:VEVENT
DTSTART;TZID=Europe/Amsterdam:20281126T103000
DTEND;TZID=Europe/Amsterdam:20281126T120000
DTSTAMP:20260425T184801
CREATED:20260405T114648Z
LAST-MODIFIED:20260405T114854Z
UID:10001478-1858847400-1858852800@www.hartvoorbaexem.nl
SUMMARY:Eredienst Christengemeente Midden-Limburg
DESCRIPTION:Eredienst \nWe komen iedere zondag om 10:30 uur samen in: \n\n\n\n\n\n\nBaexheimerhof\nKerkstraat 1a\n6095 BD Baexem \n\n\n\n\n\n\n\n\n\n\n\n\n\n\n\nDit ligt tegenover de rooms-katholieke kerk en naast de supermarkt.
URL:https://www.hartvoorbaexem.nl/activiteit/eredienst-christengemeente-midden-limburg-14/2028-11-26/
LOCATION:Baexheimerhof\, Kerkstraat 1a\, Baexem\, Limburg\, 6095 BD\, Nederland
CATEGORIES:Kerkdiensten
ATTACH;FMTTYPE=image/png:https://www.hartvoorbaexem.nl/wp-content/uploads/2025/10/Dorpsraad-Baexem-Logo-Christengemeeente-2024.png
END:VEVENT
BEGIN:VEVENT
DTSTART;TZID=Europe/Amsterdam:20281203T103000
DTEND;TZID=Europe/Amsterdam:20281203T120000
DTSTAMP:20260425T184801
CREATED:20260405T114648Z
LAST-MODIFIED:20260405T114854Z
UID:10001479-1859452200-1859457600@www.hartvoorbaexem.nl
SUMMARY:Eredienst Christengemeente Midden-Limburg
DESCRIPTION:Eredienst \nWe komen iedere zondag om 10:30 uur samen in: \n\n\n\n\n\n\nBaexheimerhof\nKerkstraat 1a\n6095 BD Baexem \n\n\n\n\n\n\n\n\n\n\n\n\n\n\n\nDit ligt tegenover de rooms-katholieke kerk en naast de supermarkt.
URL:https://www.hartvoorbaexem.nl/activiteit/eredienst-christengemeente-midden-limburg-14/2028-12-03/
LOCATION:Baexheimerhof\, Kerkstraat 1a\, Baexem\, Limburg\, 6095 BD\, Nederland
CATEGORIES:Kerkdiensten
ATTACH;FMTTYPE=image/png:https://www.hartvoorbaexem.nl/wp-content/uploads/2025/10/Dorpsraad-Baexem-Logo-Christengemeeente-2024.png
END:VEVENT
BEGIN:VEVENT
DTSTART;TZID=Europe/Amsterdam:20281210T103000
DTEND;TZID=Europe/Amsterdam:20281210T120000
DTSTAMP:20260425T184801
CREATED:20260405T114648Z
LAST-MODIFIED:20260405T114854Z
UID:10001480-1860057000-1860062400@www.hartvoorbaexem.nl
SUMMARY:Eredienst Christengemeente Midden-Limburg
DESCRIPTION:Eredienst \nWe komen iedere zondag om 10:30 uur samen in: \n\n\n\n\n\n\nBaexheimerhof\nKerkstraat 1a\n6095 BD Baexem \n\n\n\n\n\n\n\n\n\n\n\n\n\n\n\nDit ligt tegenover de rooms-katholieke kerk en naast de supermarkt.
URL:https://www.hartvoorbaexem.nl/activiteit/eredienst-christengemeente-midden-limburg-14/2028-12-10/
LOCATION:Baexheimerhof\, Kerkstraat 1a\, Baexem\, Limburg\, 6095 BD\, Nederland
CATEGORIES:Kerkdiensten
ATTACH;FMTTYPE=image/png:https://www.hartvoorbaexem.nl/wp-content/uploads/2025/10/Dorpsraad-Baexem-Logo-Christengemeeente-2024.png
END:VEVENT
BEGIN:VEVENT
DTSTART;TZID=Europe/Amsterdam:20281217T103000
DTEND;TZID=Europe/Amsterdam:20281217T120000
DTSTAMP:20260425T184801
CREATED:20260405T114648Z
LAST-MODIFIED:20260405T114854Z
UID:10001481-1860661800-1860667200@www.hartvoorbaexem.nl
SUMMARY:Eredienst Christengemeente Midden-Limburg
DESCRIPTION:Eredienst \nWe komen iedere zondag om 10:30 uur samen in: \n\n\n\n\n\n\nBaexheimerhof\nKerkstraat 1a\n6095 BD Baexem \n\n\n\n\n\n\n\n\n\n\n\n\n\n\n\nDit ligt tegenover de rooms-katholieke kerk en naast de supermarkt.
URL:https://www.hartvoorbaexem.nl/activiteit/eredienst-christengemeente-midden-limburg-14/2028-12-17/
LOCATION:Baexheimerhof\, Kerkstraat 1a\, Baexem\, Limburg\, 6095 BD\, Nederland
CATEGORIES:Kerkdiensten
ATTACH;FMTTYPE=image/png:https://www.hartvoorbaexem.nl/wp-content/uploads/2025/10/Dorpsraad-Baexem-Logo-Christengemeeente-2024.png
END:VEVENT
BEGIN:VEVENT
DTSTART;TZID=Europe/Amsterdam:20281224T103000
DTEND;TZID=Europe/Amsterdam:20281224T120000
DTSTAMP:20260425T184801
CREATED:20260405T114648Z
LAST-MODIFIED:20260405T114854Z
UID:10001482-1861266600-1861272000@www.hartvoorbaexem.nl
SUMMARY:Eredienst Christengemeente Midden-Limburg
DESCRIPTION:Eredienst \nWe komen iedere zondag om 10:30 uur samen in: \n\n\n\n\n\n\nBaexheimerhof\nKerkstraat 1a\n6095 BD Baexem \n\n\n\n\n\n\n\n\n\n\n\n\n\n\n\nDit ligt tegenover de rooms-katholieke kerk en naast de supermarkt.
URL:https://www.hartvoorbaexem.nl/activiteit/eredienst-christengemeente-midden-limburg-14/2028-12-24/
LOCATION:Baexheimerhof\, Kerkstraat 1a\, Baexem\, Limburg\, 6095 BD\, Nederland
CATEGORIES:Kerkdiensten
ATTACH;FMTTYPE=image/png:https://www.hartvoorbaexem.nl/wp-content/uploads/2025/10/Dorpsraad-Baexem-Logo-Christengemeeente-2024.png
END:VEVENT
BEGIN:VEVENT
DTSTART;TZID=Europe/Amsterdam:20281231T103000
DTEND;TZID=Europe/Amsterdam:20281231T120000
DTSTAMP:20260425T184801
CREATED:20260405T114648Z
LAST-MODIFIED:20260405T114854Z
UID:10001483-1861871400-1861876800@www.hartvoorbaexem.nl
SUMMARY:Eredienst Christengemeente Midden-Limburg
DESCRIPTION:Eredienst \nWe komen iedere zondag om 10:30 uur samen in: \n\n\n\n\n\n\nBaexheimerhof\nKerkstraat 1a\n6095 BD Baexem \n\n\n\n\n\n\n\n\n\n\n\n\n\n\n\nDit ligt tegenover de rooms-katholieke kerk en naast de supermarkt.
URL:https://www.hartvoorbaexem.nl/activiteit/eredienst-christengemeente-midden-limburg-14/2028-12-31/
LOCATION:Baexheimerhof\, Kerkstraat 1a\, Baexem\, Limburg\, 6095 BD\, Nederland
CATEGORIES:Kerkdiensten
ATTACH;FMTTYPE=image/png:https://www.hartvoorbaexem.nl/wp-content/uploads/2025/10/Dorpsraad-Baexem-Logo-Christengemeeente-2024.png
END:VEVENT
BEGIN:VEVENT
DTSTART;TZID=Europe/Amsterdam:20290107T103000
DTEND;TZID=Europe/Amsterdam:20290107T120000
DTSTAMP:20260425T184801
CREATED:20260405T114648Z
LAST-MODIFIED:20260405T114854Z
UID:10001484-1862476200-1862481600@www.hartvoorbaexem.nl
SUMMARY:Eredienst Christengemeente Midden-Limburg
DESCRIPTION:Eredienst \nWe komen iedere zondag om 10:30 uur samen in: \n\n\n\n\n\n\nBaexheimerhof\nKerkstraat 1a\n6095 BD Baexem \n\n\n\n\n\n\n\n\n\n\n\n\n\n\n\nDit ligt tegenover de rooms-katholieke kerk en naast de supermarkt.
URL:https://www.hartvoorbaexem.nl/activiteit/eredienst-christengemeente-midden-limburg-14/2029-01-07/
LOCATION:Baexheimerhof\, Kerkstraat 1a\, Baexem\, Limburg\, 6095 BD\, Nederland
CATEGORIES:Kerkdiensten
ATTACH;FMTTYPE=image/png:https://www.hartvoorbaexem.nl/wp-content/uploads/2025/10/Dorpsraad-Baexem-Logo-Christengemeeente-2024.png
END:VEVENT
BEGIN:VEVENT
DTSTART;TZID=Europe/Amsterdam:20290114T103000
DTEND;TZID=Europe/Amsterdam:20290114T120000
DTSTAMP:20260425T184801
CREATED:20260405T114648Z
LAST-MODIFIED:20260405T114854Z
UID:10001485-1863081000-1863086400@www.hartvoorbaexem.nl
SUMMARY:Eredienst Christengemeente Midden-Limburg
DESCRIPTION:Eredienst \nWe komen iedere zondag om 10:30 uur samen in: \n\n\n\n\n\n\nBaexheimerhof\nKerkstraat 1a\n6095 BD Baexem \n\n\n\n\n\n\n\n\n\n\n\n\n\n\n\nDit ligt tegenover de rooms-katholieke kerk en naast de supermarkt.
URL:https://www.hartvoorbaexem.nl/activiteit/eredienst-christengemeente-midden-limburg-14/2029-01-14/
LOCATION:Baexheimerhof\, Kerkstraat 1a\, Baexem\, Limburg\, 6095 BD\, Nederland
CATEGORIES:Kerkdiensten
ATTACH;FMTTYPE=image/png:https://www.hartvoorbaexem.nl/wp-content/uploads/2025/10/Dorpsraad-Baexem-Logo-Christengemeeente-2024.png
END:VEVENT
BEGIN:VEVENT
DTSTART;TZID=Europe/Amsterdam:20290121T103000
DTEND;TZID=Europe/Amsterdam:20290121T120000
DTSTAMP:20260425T184801
CREATED:20260405T114648Z
LAST-MODIFIED:20260405T114854Z
UID:10001486-1863685800-1863691200@www.hartvoorbaexem.nl
SUMMARY:Eredienst Christengemeente Midden-Limburg
DESCRIPTION:Eredienst \nWe komen iedere zondag om 10:30 uur samen in: \n\n\n\n\n\n\nBaexheimerhof\nKerkstraat 1a\n6095 BD Baexem \n\n\n\n\n\n\n\n\n\n\n\n\n\n\n\nDit ligt tegenover de rooms-katholieke kerk en naast de supermarkt.
URL:https://www.hartvoorbaexem.nl/activiteit/eredienst-christengemeente-midden-limburg-14/2029-01-21/
LOCATION:Baexheimerhof\, Kerkstraat 1a\, Baexem\, Limburg\, 6095 BD\, Nederland
CATEGORIES:Kerkdiensten
ATTACH;FMTTYPE=image/png:https://www.hartvoorbaexem.nl/wp-content/uploads/2025/10/Dorpsraad-Baexem-Logo-Christengemeeente-2024.png
END:VEVENT
END:VCALENDAR