BEGIN:VCALENDAR
VERSION:2.0
PRODID:-//Hart voor Baexem - ECPv6.15.18//NONSGML v1.0//EN
CALSCALE:GREGORIAN
METHOD:PUBLISH
X-ORIGINAL-URL:https://www.hartvoorbaexem.nl
X-WR-CALDESC:Evenementen voor Hart voor Baexem
REFRESH-INTERVAL;VALUE=DURATION:PT1H
X-Robots-Tag:noindex
X-PUBLISHED-TTL:PT1H
BEGIN:VTIMEZONE
TZID:Europe/Amsterdam
BEGIN:DAYLIGHT
TZOFFSETFROM:+0100
TZOFFSETTO:+0200
TZNAME:CEST
DTSTART:20250330T010000
END:DAYLIGHT
BEGIN:STANDARD
TZOFFSETFROM:+0200
TZOFFSETTO:+0100
TZNAME:CET
DTSTART:20251026T010000
END:STANDARD
BEGIN:DAYLIGHT
TZOFFSETFROM:+0100
TZOFFSETTO:+0200
TZNAME:CEST
DTSTART:20260329T010000
END:DAYLIGHT
BEGIN:STANDARD
TZOFFSETFROM:+0200
TZOFFSETTO:+0100
TZNAME:CET
DTSTART:20261025T010000
END:STANDARD
BEGIN:DAYLIGHT
TZOFFSETFROM:+0100
TZOFFSETTO:+0200
TZNAME:CEST
DTSTART:20270328T010000
END:DAYLIGHT
BEGIN:STANDARD
TZOFFSETFROM:+0200
TZOFFSETTO:+0100
TZNAME:CET
DTSTART:20271031T010000
END:STANDARD
BEGIN:DAYLIGHT
TZOFFSETFROM:+0100
TZOFFSETTO:+0200
TZNAME:CEST
DTSTART:20280326T010000
END:DAYLIGHT
BEGIN:STANDARD
TZOFFSETFROM:+0200
TZOFFSETTO:+0100
TZNAME:CET
DTSTART:20281029T010000
END:STANDARD
END:VTIMEZONE
BEGIN:VEVENT
DTSTART;TZID=Europe/Amsterdam:20261011T103000
DTEND;TZID=Europe/Amsterdam:20261011T120000
DTSTAMP:20260422T025428
CREATED:20260405T114648Z
LAST-MODIFIED:20260405T114854Z
UID:10001367-1791714600-1791720000@www.hartvoorbaexem.nl
SUMMARY:Eredienst Christengemeente Midden-Limburg
DESCRIPTION:Eredienst \nWe komen iedere zondag om 10:30 uur samen in: \n\n\n\n\n\n\nBaexheimerhof\nKerkstraat 1a\n6095 BD Baexem \n\n\n\n\n\n\n\n\n\n\n\n\n\n\n\nDit ligt tegenover de rooms-katholieke kerk en naast de supermarkt.
URL:https://www.hartvoorbaexem.nl/activiteit/eredienst-christengemeente-midden-limburg-14/2026-10-11/
LOCATION:Baexheimerhof\, Kerkstraat 1a\, Baexem\, Limburg\, 6095 BD\, Nederland
CATEGORIES:Kerkdiensten
ATTACH;FMTTYPE=image/png:https://www.hartvoorbaexem.nl/wp-content/uploads/2025/10/Dorpsraad-Baexem-Logo-Christengemeeente-2024.png
END:VEVENT
BEGIN:VEVENT
DTSTART;TZID=Europe/Amsterdam:20261018T103000
DTEND;TZID=Europe/Amsterdam:20261018T120000
DTSTAMP:20260422T025428
CREATED:20260405T114648Z
LAST-MODIFIED:20260405T114854Z
UID:10001368-1792319400-1792324800@www.hartvoorbaexem.nl
SUMMARY:Eredienst Christengemeente Midden-Limburg
DESCRIPTION:Eredienst \nWe komen iedere zondag om 10:30 uur samen in: \n\n\n\n\n\n\nBaexheimerhof\nKerkstraat 1a\n6095 BD Baexem \n\n\n\n\n\n\n\n\n\n\n\n\n\n\n\nDit ligt tegenover de rooms-katholieke kerk en naast de supermarkt.
URL:https://www.hartvoorbaexem.nl/activiteit/eredienst-christengemeente-midden-limburg-14/2026-10-18/
LOCATION:Baexheimerhof\, Kerkstraat 1a\, Baexem\, Limburg\, 6095 BD\, Nederland
CATEGORIES:Kerkdiensten
ATTACH;FMTTYPE=image/png:https://www.hartvoorbaexem.nl/wp-content/uploads/2025/10/Dorpsraad-Baexem-Logo-Christengemeeente-2024.png
END:VEVENT
BEGIN:VEVENT
DTSTART;TZID=Europe/Amsterdam:20261025T103000
DTEND;TZID=Europe/Amsterdam:20261025T120000
DTSTAMP:20260422T025428
CREATED:20260405T114648Z
LAST-MODIFIED:20260405T114854Z
UID:10001369-1792924200-1792929600@www.hartvoorbaexem.nl
SUMMARY:Eredienst Christengemeente Midden-Limburg
DESCRIPTION:Eredienst \nWe komen iedere zondag om 10:30 uur samen in: \n\n\n\n\n\n\nBaexheimerhof\nKerkstraat 1a\n6095 BD Baexem \n\n\n\n\n\n\n\n\n\n\n\n\n\n\n\nDit ligt tegenover de rooms-katholieke kerk en naast de supermarkt.
URL:https://www.hartvoorbaexem.nl/activiteit/eredienst-christengemeente-midden-limburg-14/2026-10-25/
LOCATION:Baexheimerhof\, Kerkstraat 1a\, Baexem\, Limburg\, 6095 BD\, Nederland
CATEGORIES:Kerkdiensten
ATTACH;FMTTYPE=image/png:https://www.hartvoorbaexem.nl/wp-content/uploads/2025/10/Dorpsraad-Baexem-Logo-Christengemeeente-2024.png
END:VEVENT
BEGIN:VEVENT
DTSTART;TZID=Europe/Amsterdam:20261101T103000
DTEND;TZID=Europe/Amsterdam:20261101T120000
DTSTAMP:20260422T025428
CREATED:20260405T114648Z
LAST-MODIFIED:20260405T114854Z
UID:10001370-1793529000-1793534400@www.hartvoorbaexem.nl
SUMMARY:Eredienst Christengemeente Midden-Limburg
DESCRIPTION:Eredienst \nWe komen iedere zondag om 10:30 uur samen in: \n\n\n\n\n\n\nBaexheimerhof\nKerkstraat 1a\n6095 BD Baexem \n\n\n\n\n\n\n\n\n\n\n\n\n\n\n\nDit ligt tegenover de rooms-katholieke kerk en naast de supermarkt.
URL:https://www.hartvoorbaexem.nl/activiteit/eredienst-christengemeente-midden-limburg-14/2026-11-01/
LOCATION:Baexheimerhof\, Kerkstraat 1a\, Baexem\, Limburg\, 6095 BD\, Nederland
CATEGORIES:Kerkdiensten
ATTACH;FMTTYPE=image/png:https://www.hartvoorbaexem.nl/wp-content/uploads/2025/10/Dorpsraad-Baexem-Logo-Christengemeeente-2024.png
END:VEVENT
BEGIN:VEVENT
DTSTART;TZID=Europe/Amsterdam:20261108T103000
DTEND;TZID=Europe/Amsterdam:20261108T120000
DTSTAMP:20260422T025428
CREATED:20260405T114648Z
LAST-MODIFIED:20260405T114854Z
UID:10001371-1794133800-1794139200@www.hartvoorbaexem.nl
SUMMARY:Eredienst Christengemeente Midden-Limburg
DESCRIPTION:Eredienst \nWe komen iedere zondag om 10:30 uur samen in: \n\n\n\n\n\n\nBaexheimerhof\nKerkstraat 1a\n6095 BD Baexem \n\n\n\n\n\n\n\n\n\n\n\n\n\n\n\nDit ligt tegenover de rooms-katholieke kerk en naast de supermarkt.
URL:https://www.hartvoorbaexem.nl/activiteit/eredienst-christengemeente-midden-limburg-14/2026-11-08/
LOCATION:Baexheimerhof\, Kerkstraat 1a\, Baexem\, Limburg\, 6095 BD\, Nederland
CATEGORIES:Kerkdiensten
ATTACH;FMTTYPE=image/png:https://www.hartvoorbaexem.nl/wp-content/uploads/2025/10/Dorpsraad-Baexem-Logo-Christengemeeente-2024.png
END:VEVENT
BEGIN:VEVENT
DTSTART;TZID=Europe/Amsterdam:20261115T103000
DTEND;TZID=Europe/Amsterdam:20261115T120000
DTSTAMP:20260422T025428
CREATED:20260405T114648Z
LAST-MODIFIED:20260405T114854Z
UID:10001372-1794738600-1794744000@www.hartvoorbaexem.nl
SUMMARY:Eredienst Christengemeente Midden-Limburg
DESCRIPTION:Eredienst \nWe komen iedere zondag om 10:30 uur samen in: \n\n\n\n\n\n\nBaexheimerhof\nKerkstraat 1a\n6095 BD Baexem \n\n\n\n\n\n\n\n\n\n\n\n\n\n\n\nDit ligt tegenover de rooms-katholieke kerk en naast de supermarkt.
URL:https://www.hartvoorbaexem.nl/activiteit/eredienst-christengemeente-midden-limburg-14/2026-11-15/
LOCATION:Baexheimerhof\, Kerkstraat 1a\, Baexem\, Limburg\, 6095 BD\, Nederland
CATEGORIES:Kerkdiensten
ATTACH;FMTTYPE=image/png:https://www.hartvoorbaexem.nl/wp-content/uploads/2025/10/Dorpsraad-Baexem-Logo-Christengemeeente-2024.png
END:VEVENT
BEGIN:VEVENT
DTSTART;TZID=Europe/Amsterdam:20261122T103000
DTEND;TZID=Europe/Amsterdam:20261122T120000
DTSTAMP:20260422T025428
CREATED:20260405T114648Z
LAST-MODIFIED:20260405T114854Z
UID:10001373-1795343400-1795348800@www.hartvoorbaexem.nl
SUMMARY:Eredienst Christengemeente Midden-Limburg
DESCRIPTION:Eredienst \nWe komen iedere zondag om 10:30 uur samen in: \n\n\n\n\n\n\nBaexheimerhof\nKerkstraat 1a\n6095 BD Baexem \n\n\n\n\n\n\n\n\n\n\n\n\n\n\n\nDit ligt tegenover de rooms-katholieke kerk en naast de supermarkt.
URL:https://www.hartvoorbaexem.nl/activiteit/eredienst-christengemeente-midden-limburg-14/2026-11-22/
LOCATION:Baexheimerhof\, Kerkstraat 1a\, Baexem\, Limburg\, 6095 BD\, Nederland
CATEGORIES:Kerkdiensten
ATTACH;FMTTYPE=image/png:https://www.hartvoorbaexem.nl/wp-content/uploads/2025/10/Dorpsraad-Baexem-Logo-Christengemeeente-2024.png
END:VEVENT
BEGIN:VEVENT
DTSTART;TZID=Europe/Amsterdam:20261129T103000
DTEND;TZID=Europe/Amsterdam:20261129T120000
DTSTAMP:20260422T025428
CREATED:20260405T114648Z
LAST-MODIFIED:20260405T114854Z
UID:10001374-1795948200-1795953600@www.hartvoorbaexem.nl
SUMMARY:Eredienst Christengemeente Midden-Limburg
DESCRIPTION:Eredienst \nWe komen iedere zondag om 10:30 uur samen in: \n\n\n\n\n\n\nBaexheimerhof\nKerkstraat 1a\n6095 BD Baexem \n\n\n\n\n\n\n\n\n\n\n\n\n\n\n\nDit ligt tegenover de rooms-katholieke kerk en naast de supermarkt.
URL:https://www.hartvoorbaexem.nl/activiteit/eredienst-christengemeente-midden-limburg-14/2026-11-29/
LOCATION:Baexheimerhof\, Kerkstraat 1a\, Baexem\, Limburg\, 6095 BD\, Nederland
CATEGORIES:Kerkdiensten
ATTACH;FMTTYPE=image/png:https://www.hartvoorbaexem.nl/wp-content/uploads/2025/10/Dorpsraad-Baexem-Logo-Christengemeeente-2024.png
END:VEVENT
BEGIN:VEVENT
DTSTART;TZID=Europe/Amsterdam:20261206T103000
DTEND;TZID=Europe/Amsterdam:20261206T120000
DTSTAMP:20260422T025428
CREATED:20260405T114648Z
LAST-MODIFIED:20260405T114854Z
UID:10001375-1796553000-1796558400@www.hartvoorbaexem.nl
SUMMARY:Eredienst Christengemeente Midden-Limburg
DESCRIPTION:Eredienst \nWe komen iedere zondag om 10:30 uur samen in: \n\n\n\n\n\n\nBaexheimerhof\nKerkstraat 1a\n6095 BD Baexem \n\n\n\n\n\n\n\n\n\n\n\n\n\n\n\nDit ligt tegenover de rooms-katholieke kerk en naast de supermarkt.
URL:https://www.hartvoorbaexem.nl/activiteit/eredienst-christengemeente-midden-limburg-14/2026-12-06/
LOCATION:Baexheimerhof\, Kerkstraat 1a\, Baexem\, Limburg\, 6095 BD\, Nederland
CATEGORIES:Kerkdiensten
ATTACH;FMTTYPE=image/png:https://www.hartvoorbaexem.nl/wp-content/uploads/2025/10/Dorpsraad-Baexem-Logo-Christengemeeente-2024.png
END:VEVENT
BEGIN:VEVENT
DTSTART;TZID=Europe/Amsterdam:20261213T103000
DTEND;TZID=Europe/Amsterdam:20261213T120000
DTSTAMP:20260422T025428
CREATED:20260405T114648Z
LAST-MODIFIED:20260405T114854Z
UID:10001376-1797157800-1797163200@www.hartvoorbaexem.nl
SUMMARY:Eredienst Christengemeente Midden-Limburg
DESCRIPTION:Eredienst \nWe komen iedere zondag om 10:30 uur samen in: \n\n\n\n\n\n\nBaexheimerhof\nKerkstraat 1a\n6095 BD Baexem \n\n\n\n\n\n\n\n\n\n\n\n\n\n\n\nDit ligt tegenover de rooms-katholieke kerk en naast de supermarkt.
URL:https://www.hartvoorbaexem.nl/activiteit/eredienst-christengemeente-midden-limburg-14/2026-12-13/
LOCATION:Baexheimerhof\, Kerkstraat 1a\, Baexem\, Limburg\, 6095 BD\, Nederland
CATEGORIES:Kerkdiensten
ATTACH;FMTTYPE=image/png:https://www.hartvoorbaexem.nl/wp-content/uploads/2025/10/Dorpsraad-Baexem-Logo-Christengemeeente-2024.png
END:VEVENT
BEGIN:VEVENT
DTSTART;TZID=Europe/Amsterdam:20261220T103000
DTEND;TZID=Europe/Amsterdam:20261220T120000
DTSTAMP:20260422T025428
CREATED:20260405T114648Z
LAST-MODIFIED:20260405T114854Z
UID:10001377-1797762600-1797768000@www.hartvoorbaexem.nl
SUMMARY:Eredienst Christengemeente Midden-Limburg
DESCRIPTION:Eredienst \nWe komen iedere zondag om 10:30 uur samen in: \n\n\n\n\n\n\nBaexheimerhof\nKerkstraat 1a\n6095 BD Baexem \n\n\n\n\n\n\n\n\n\n\n\n\n\n\n\nDit ligt tegenover de rooms-katholieke kerk en naast de supermarkt.
URL:https://www.hartvoorbaexem.nl/activiteit/eredienst-christengemeente-midden-limburg-14/2026-12-20/
LOCATION:Baexheimerhof\, Kerkstraat 1a\, Baexem\, Limburg\, 6095 BD\, Nederland
CATEGORIES:Kerkdiensten
ATTACH;FMTTYPE=image/png:https://www.hartvoorbaexem.nl/wp-content/uploads/2025/10/Dorpsraad-Baexem-Logo-Christengemeeente-2024.png
END:VEVENT
BEGIN:VEVENT
DTSTART;TZID=Europe/Amsterdam:20261227T103000
DTEND;TZID=Europe/Amsterdam:20261227T120000
DTSTAMP:20260422T025428
CREATED:20260405T114648Z
LAST-MODIFIED:20260405T114854Z
UID:10001378-1798367400-1798372800@www.hartvoorbaexem.nl
SUMMARY:Eredienst Christengemeente Midden-Limburg
DESCRIPTION:Eredienst \nWe komen iedere zondag om 10:30 uur samen in: \n\n\n\n\n\n\nBaexheimerhof\nKerkstraat 1a\n6095 BD Baexem \n\n\n\n\n\n\n\n\n\n\n\n\n\n\n\nDit ligt tegenover de rooms-katholieke kerk en naast de supermarkt.
URL:https://www.hartvoorbaexem.nl/activiteit/eredienst-christengemeente-midden-limburg-14/2026-12-27/
LOCATION:Baexheimerhof\, Kerkstraat 1a\, Baexem\, Limburg\, 6095 BD\, Nederland
CATEGORIES:Kerkdiensten
ATTACH;FMTTYPE=image/png:https://www.hartvoorbaexem.nl/wp-content/uploads/2025/10/Dorpsraad-Baexem-Logo-Christengemeeente-2024.png
END:VEVENT
BEGIN:VEVENT
DTSTART;TZID=Europe/Amsterdam:20270103T103000
DTEND;TZID=Europe/Amsterdam:20270103T120000
DTSTAMP:20260422T025428
CREATED:20260405T114648Z
LAST-MODIFIED:20260405T114854Z
UID:10001379-1798972200-1798977600@www.hartvoorbaexem.nl
SUMMARY:Eredienst Christengemeente Midden-Limburg
DESCRIPTION:Eredienst \nWe komen iedere zondag om 10:30 uur samen in: \n\n\n\n\n\n\nBaexheimerhof\nKerkstraat 1a\n6095 BD Baexem \n\n\n\n\n\n\n\n\n\n\n\n\n\n\n\nDit ligt tegenover de rooms-katholieke kerk en naast de supermarkt.
URL:https://www.hartvoorbaexem.nl/activiteit/eredienst-christengemeente-midden-limburg-14/2027-01-03/
LOCATION:Baexheimerhof\, Kerkstraat 1a\, Baexem\, Limburg\, 6095 BD\, Nederland
CATEGORIES:Kerkdiensten
ATTACH;FMTTYPE=image/png:https://www.hartvoorbaexem.nl/wp-content/uploads/2025/10/Dorpsraad-Baexem-Logo-Christengemeeente-2024.png
END:VEVENT
BEGIN:VEVENT
DTSTART;TZID=Europe/Amsterdam:20270110T103000
DTEND;TZID=Europe/Amsterdam:20270110T120000
DTSTAMP:20260422T025428
CREATED:20260405T114648Z
LAST-MODIFIED:20260405T114854Z
UID:10001380-1799577000-1799582400@www.hartvoorbaexem.nl
SUMMARY:Eredienst Christengemeente Midden-Limburg
DESCRIPTION:Eredienst \nWe komen iedere zondag om 10:30 uur samen in: \n\n\n\n\n\n\nBaexheimerhof\nKerkstraat 1a\n6095 BD Baexem \n\n\n\n\n\n\n\n\n\n\n\n\n\n\n\nDit ligt tegenover de rooms-katholieke kerk en naast de supermarkt.
URL:https://www.hartvoorbaexem.nl/activiteit/eredienst-christengemeente-midden-limburg-14/2027-01-10/
LOCATION:Baexheimerhof\, Kerkstraat 1a\, Baexem\, Limburg\, 6095 BD\, Nederland
CATEGORIES:Kerkdiensten
ATTACH;FMTTYPE=image/png:https://www.hartvoorbaexem.nl/wp-content/uploads/2025/10/Dorpsraad-Baexem-Logo-Christengemeeente-2024.png
END:VEVENT
BEGIN:VEVENT
DTSTART;TZID=Europe/Amsterdam:20270117T103000
DTEND;TZID=Europe/Amsterdam:20270117T120000
DTSTAMP:20260422T025428
CREATED:20260405T114648Z
LAST-MODIFIED:20260405T114854Z
UID:10001381-1800181800-1800187200@www.hartvoorbaexem.nl
SUMMARY:Eredienst Christengemeente Midden-Limburg
DESCRIPTION:Eredienst \nWe komen iedere zondag om 10:30 uur samen in: \n\n\n\n\n\n\nBaexheimerhof\nKerkstraat 1a\n6095 BD Baexem \n\n\n\n\n\n\n\n\n\n\n\n\n\n\n\nDit ligt tegenover de rooms-katholieke kerk en naast de supermarkt.
URL:https://www.hartvoorbaexem.nl/activiteit/eredienst-christengemeente-midden-limburg-14/2027-01-17/
LOCATION:Baexheimerhof\, Kerkstraat 1a\, Baexem\, Limburg\, 6095 BD\, Nederland
CATEGORIES:Kerkdiensten
ATTACH;FMTTYPE=image/png:https://www.hartvoorbaexem.nl/wp-content/uploads/2025/10/Dorpsraad-Baexem-Logo-Christengemeeente-2024.png
END:VEVENT
BEGIN:VEVENT
DTSTART;TZID=Europe/Amsterdam:20270124T103000
DTEND;TZID=Europe/Amsterdam:20270124T120000
DTSTAMP:20260422T025428
CREATED:20260405T114648Z
LAST-MODIFIED:20260405T114854Z
UID:10001382-1800786600-1800792000@www.hartvoorbaexem.nl
SUMMARY:Eredienst Christengemeente Midden-Limburg
DESCRIPTION:Eredienst \nWe komen iedere zondag om 10:30 uur samen in: \n\n\n\n\n\n\nBaexheimerhof\nKerkstraat 1a\n6095 BD Baexem \n\n\n\n\n\n\n\n\n\n\n\n\n\n\n\nDit ligt tegenover de rooms-katholieke kerk en naast de supermarkt.
URL:https://www.hartvoorbaexem.nl/activiteit/eredienst-christengemeente-midden-limburg-14/2027-01-24/
LOCATION:Baexheimerhof\, Kerkstraat 1a\, Baexem\, Limburg\, 6095 BD\, Nederland
CATEGORIES:Kerkdiensten
ATTACH;FMTTYPE=image/png:https://www.hartvoorbaexem.nl/wp-content/uploads/2025/10/Dorpsraad-Baexem-Logo-Christengemeeente-2024.png
END:VEVENT
BEGIN:VEVENT
DTSTART;TZID=Europe/Amsterdam:20270131T103000
DTEND;TZID=Europe/Amsterdam:20270131T120000
DTSTAMP:20260422T025428
CREATED:20260405T114648Z
LAST-MODIFIED:20260405T114854Z
UID:10001383-1801391400-1801396800@www.hartvoorbaexem.nl
SUMMARY:Eredienst Christengemeente Midden-Limburg
DESCRIPTION:Eredienst \nWe komen iedere zondag om 10:30 uur samen in: \n\n\n\n\n\n\nBaexheimerhof\nKerkstraat 1a\n6095 BD Baexem \n\n\n\n\n\n\n\n\n\n\n\n\n\n\n\nDit ligt tegenover de rooms-katholieke kerk en naast de supermarkt.
URL:https://www.hartvoorbaexem.nl/activiteit/eredienst-christengemeente-midden-limburg-14/2027-01-31/
LOCATION:Baexheimerhof\, Kerkstraat 1a\, Baexem\, Limburg\, 6095 BD\, Nederland
CATEGORIES:Kerkdiensten
ATTACH;FMTTYPE=image/png:https://www.hartvoorbaexem.nl/wp-content/uploads/2025/10/Dorpsraad-Baexem-Logo-Christengemeeente-2024.png
END:VEVENT
BEGIN:VEVENT
DTSTART;TZID=Europe/Amsterdam:20270207T103000
DTEND;TZID=Europe/Amsterdam:20270207T120000
DTSTAMP:20260422T025428
CREATED:20260405T114648Z
LAST-MODIFIED:20260405T114854Z
UID:10001384-1801996200-1802001600@www.hartvoorbaexem.nl
SUMMARY:Eredienst Christengemeente Midden-Limburg
DESCRIPTION:Eredienst \nWe komen iedere zondag om 10:30 uur samen in: \n\n\n\n\n\n\nBaexheimerhof\nKerkstraat 1a\n6095 BD Baexem \n\n\n\n\n\n\n\n\n\n\n\n\n\n\n\nDit ligt tegenover de rooms-katholieke kerk en naast de supermarkt.
URL:https://www.hartvoorbaexem.nl/activiteit/eredienst-christengemeente-midden-limburg-14/2027-02-07/
LOCATION:Baexheimerhof\, Kerkstraat 1a\, Baexem\, Limburg\, 6095 BD\, Nederland
CATEGORIES:Kerkdiensten
ATTACH;FMTTYPE=image/png:https://www.hartvoorbaexem.nl/wp-content/uploads/2025/10/Dorpsraad-Baexem-Logo-Christengemeeente-2024.png
END:VEVENT
BEGIN:VEVENT
DTSTART;TZID=Europe/Amsterdam:20270214T103000
DTEND;TZID=Europe/Amsterdam:20270214T120000
DTSTAMP:20260422T025428
CREATED:20260405T114648Z
LAST-MODIFIED:20260405T114854Z
UID:10001385-1802601000-1802606400@www.hartvoorbaexem.nl
SUMMARY:Eredienst Christengemeente Midden-Limburg
DESCRIPTION:Eredienst \nWe komen iedere zondag om 10:30 uur samen in: \n\n\n\n\n\n\nBaexheimerhof\nKerkstraat 1a\n6095 BD Baexem \n\n\n\n\n\n\n\n\n\n\n\n\n\n\n\nDit ligt tegenover de rooms-katholieke kerk en naast de supermarkt.
URL:https://www.hartvoorbaexem.nl/activiteit/eredienst-christengemeente-midden-limburg-14/2027-02-14/
LOCATION:Baexheimerhof\, Kerkstraat 1a\, Baexem\, Limburg\, 6095 BD\, Nederland
CATEGORIES:Kerkdiensten
ATTACH;FMTTYPE=image/png:https://www.hartvoorbaexem.nl/wp-content/uploads/2025/10/Dorpsraad-Baexem-Logo-Christengemeeente-2024.png
END:VEVENT
BEGIN:VEVENT
DTSTART;TZID=Europe/Amsterdam:20270221T103000
DTEND;TZID=Europe/Amsterdam:20270221T120000
DTSTAMP:20260422T025428
CREATED:20260405T114648Z
LAST-MODIFIED:20260405T114854Z
UID:10001386-1803205800-1803211200@www.hartvoorbaexem.nl
SUMMARY:Eredienst Christengemeente Midden-Limburg
DESCRIPTION:Eredienst \nWe komen iedere zondag om 10:30 uur samen in: \n\n\n\n\n\n\nBaexheimerhof\nKerkstraat 1a\n6095 BD Baexem \n\n\n\n\n\n\n\n\n\n\n\n\n\n\n\nDit ligt tegenover de rooms-katholieke kerk en naast de supermarkt.
URL:https://www.hartvoorbaexem.nl/activiteit/eredienst-christengemeente-midden-limburg-14/2027-02-21/
LOCATION:Baexheimerhof\, Kerkstraat 1a\, Baexem\, Limburg\, 6095 BD\, Nederland
CATEGORIES:Kerkdiensten
ATTACH;FMTTYPE=image/png:https://www.hartvoorbaexem.nl/wp-content/uploads/2025/10/Dorpsraad-Baexem-Logo-Christengemeeente-2024.png
END:VEVENT
BEGIN:VEVENT
DTSTART;TZID=Europe/Amsterdam:20270228T103000
DTEND;TZID=Europe/Amsterdam:20270228T120000
DTSTAMP:20260422T025428
CREATED:20260405T114648Z
LAST-MODIFIED:20260405T114854Z
UID:10001387-1803810600-1803816000@www.hartvoorbaexem.nl
SUMMARY:Eredienst Christengemeente Midden-Limburg
DESCRIPTION:Eredienst \nWe komen iedere zondag om 10:30 uur samen in: \n\n\n\n\n\n\nBaexheimerhof\nKerkstraat 1a\n6095 BD Baexem \n\n\n\n\n\n\n\n\n\n\n\n\n\n\n\nDit ligt tegenover de rooms-katholieke kerk en naast de supermarkt.
URL:https://www.hartvoorbaexem.nl/activiteit/eredienst-christengemeente-midden-limburg-14/2027-02-28/
LOCATION:Baexheimerhof\, Kerkstraat 1a\, Baexem\, Limburg\, 6095 BD\, Nederland
CATEGORIES:Kerkdiensten
ATTACH;FMTTYPE=image/png:https://www.hartvoorbaexem.nl/wp-content/uploads/2025/10/Dorpsraad-Baexem-Logo-Christengemeeente-2024.png
END:VEVENT
BEGIN:VEVENT
DTSTART;TZID=Europe/Amsterdam:20270307T103000
DTEND;TZID=Europe/Amsterdam:20270307T120000
DTSTAMP:20260422T025428
CREATED:20260405T114648Z
LAST-MODIFIED:20260405T114854Z
UID:10001388-1804415400-1804420800@www.hartvoorbaexem.nl
SUMMARY:Eredienst Christengemeente Midden-Limburg
DESCRIPTION:Eredienst \nWe komen iedere zondag om 10:30 uur samen in: \n\n\n\n\n\n\nBaexheimerhof\nKerkstraat 1a\n6095 BD Baexem \n\n\n\n\n\n\n\n\n\n\n\n\n\n\n\nDit ligt tegenover de rooms-katholieke kerk en naast de supermarkt.
URL:https://www.hartvoorbaexem.nl/activiteit/eredienst-christengemeente-midden-limburg-14/2027-03-07/
LOCATION:Baexheimerhof\, Kerkstraat 1a\, Baexem\, Limburg\, 6095 BD\, Nederland
CATEGORIES:Kerkdiensten
ATTACH;FMTTYPE=image/png:https://www.hartvoorbaexem.nl/wp-content/uploads/2025/10/Dorpsraad-Baexem-Logo-Christengemeeente-2024.png
END:VEVENT
BEGIN:VEVENT
DTSTART;TZID=Europe/Amsterdam:20270314T103000
DTEND;TZID=Europe/Amsterdam:20270314T120000
DTSTAMP:20260422T025428
CREATED:20260405T114648Z
LAST-MODIFIED:20260405T114854Z
UID:10001389-1805020200-1805025600@www.hartvoorbaexem.nl
SUMMARY:Eredienst Christengemeente Midden-Limburg
DESCRIPTION:Eredienst \nWe komen iedere zondag om 10:30 uur samen in: \n\n\n\n\n\n\nBaexheimerhof\nKerkstraat 1a\n6095 BD Baexem \n\n\n\n\n\n\n\n\n\n\n\n\n\n\n\nDit ligt tegenover de rooms-katholieke kerk en naast de supermarkt.
URL:https://www.hartvoorbaexem.nl/activiteit/eredienst-christengemeente-midden-limburg-14/2027-03-14/
LOCATION:Baexheimerhof\, Kerkstraat 1a\, Baexem\, Limburg\, 6095 BD\, Nederland
CATEGORIES:Kerkdiensten
ATTACH;FMTTYPE=image/png:https://www.hartvoorbaexem.nl/wp-content/uploads/2025/10/Dorpsraad-Baexem-Logo-Christengemeeente-2024.png
END:VEVENT
BEGIN:VEVENT
DTSTART;TZID=Europe/Amsterdam:20270321T103000
DTEND;TZID=Europe/Amsterdam:20270321T120000
DTSTAMP:20260422T025428
CREATED:20260405T114648Z
LAST-MODIFIED:20260405T114854Z
UID:10001390-1805625000-1805630400@www.hartvoorbaexem.nl
SUMMARY:Eredienst Christengemeente Midden-Limburg
DESCRIPTION:Eredienst \nWe komen iedere zondag om 10:30 uur samen in: \n\n\n\n\n\n\nBaexheimerhof\nKerkstraat 1a\n6095 BD Baexem \n\n\n\n\n\n\n\n\n\n\n\n\n\n\n\nDit ligt tegenover de rooms-katholieke kerk en naast de supermarkt.
URL:https://www.hartvoorbaexem.nl/activiteit/eredienst-christengemeente-midden-limburg-14/2027-03-21/
LOCATION:Baexheimerhof\, Kerkstraat 1a\, Baexem\, Limburg\, 6095 BD\, Nederland
CATEGORIES:Kerkdiensten
ATTACH;FMTTYPE=image/png:https://www.hartvoorbaexem.nl/wp-content/uploads/2025/10/Dorpsraad-Baexem-Logo-Christengemeeente-2024.png
END:VEVENT
BEGIN:VEVENT
DTSTART;TZID=Europe/Amsterdam:20270328T103000
DTEND;TZID=Europe/Amsterdam:20270328T120000
DTSTAMP:20260422T025428
CREATED:20260405T114648Z
LAST-MODIFIED:20260405T114854Z
UID:10001391-1806229800-1806235200@www.hartvoorbaexem.nl
SUMMARY:Eredienst Christengemeente Midden-Limburg
DESCRIPTION:Eredienst \nWe komen iedere zondag om 10:30 uur samen in: \n\n\n\n\n\n\nBaexheimerhof\nKerkstraat 1a\n6095 BD Baexem \n\n\n\n\n\n\n\n\n\n\n\n\n\n\n\nDit ligt tegenover de rooms-katholieke kerk en naast de supermarkt.
URL:https://www.hartvoorbaexem.nl/activiteit/eredienst-christengemeente-midden-limburg-14/2027-03-28/
LOCATION:Baexheimerhof\, Kerkstraat 1a\, Baexem\, Limburg\, 6095 BD\, Nederland
CATEGORIES:Kerkdiensten
ATTACH;FMTTYPE=image/png:https://www.hartvoorbaexem.nl/wp-content/uploads/2025/10/Dorpsraad-Baexem-Logo-Christengemeeente-2024.png
END:VEVENT
BEGIN:VEVENT
DTSTART;TZID=Europe/Amsterdam:20270404T103000
DTEND;TZID=Europe/Amsterdam:20270404T120000
DTSTAMP:20260422T025428
CREATED:20260405T114648Z
LAST-MODIFIED:20260405T114854Z
UID:10001392-1806834600-1806840000@www.hartvoorbaexem.nl
SUMMARY:Eredienst Christengemeente Midden-Limburg
DESCRIPTION:Eredienst \nWe komen iedere zondag om 10:30 uur samen in: \n\n\n\n\n\n\nBaexheimerhof\nKerkstraat 1a\n6095 BD Baexem \n\n\n\n\n\n\n\n\n\n\n\n\n\n\n\nDit ligt tegenover de rooms-katholieke kerk en naast de supermarkt.
URL:https://www.hartvoorbaexem.nl/activiteit/eredienst-christengemeente-midden-limburg-14/2027-04-04/
LOCATION:Baexheimerhof\, Kerkstraat 1a\, Baexem\, Limburg\, 6095 BD\, Nederland
CATEGORIES:Kerkdiensten
ATTACH;FMTTYPE=image/png:https://www.hartvoorbaexem.nl/wp-content/uploads/2025/10/Dorpsraad-Baexem-Logo-Christengemeeente-2024.png
END:VEVENT
BEGIN:VEVENT
DTSTART;TZID=Europe/Amsterdam:20270411T103000
DTEND;TZID=Europe/Amsterdam:20270411T120000
DTSTAMP:20260422T025428
CREATED:20260405T114648Z
LAST-MODIFIED:20260405T114854Z
UID:10001393-1807439400-1807444800@www.hartvoorbaexem.nl
SUMMARY:Eredienst Christengemeente Midden-Limburg
DESCRIPTION:Eredienst \nWe komen iedere zondag om 10:30 uur samen in: \n\n\n\n\n\n\nBaexheimerhof\nKerkstraat 1a\n6095 BD Baexem \n\n\n\n\n\n\n\n\n\n\n\n\n\n\n\nDit ligt tegenover de rooms-katholieke kerk en naast de supermarkt.
URL:https://www.hartvoorbaexem.nl/activiteit/eredienst-christengemeente-midden-limburg-14/2027-04-11/
LOCATION:Baexheimerhof\, Kerkstraat 1a\, Baexem\, Limburg\, 6095 BD\, Nederland
CATEGORIES:Kerkdiensten
ATTACH;FMTTYPE=image/png:https://www.hartvoorbaexem.nl/wp-content/uploads/2025/10/Dorpsraad-Baexem-Logo-Christengemeeente-2024.png
END:VEVENT
BEGIN:VEVENT
DTSTART;TZID=Europe/Amsterdam:20270418T103000
DTEND;TZID=Europe/Amsterdam:20270418T120000
DTSTAMP:20260422T025428
CREATED:20260405T114648Z
LAST-MODIFIED:20260405T114854Z
UID:10001394-1808044200-1808049600@www.hartvoorbaexem.nl
SUMMARY:Eredienst Christengemeente Midden-Limburg
DESCRIPTION:Eredienst \nWe komen iedere zondag om 10:30 uur samen in: \n\n\n\n\n\n\nBaexheimerhof\nKerkstraat 1a\n6095 BD Baexem \n\n\n\n\n\n\n\n\n\n\n\n\n\n\n\nDit ligt tegenover de rooms-katholieke kerk en naast de supermarkt.
URL:https://www.hartvoorbaexem.nl/activiteit/eredienst-christengemeente-midden-limburg-14/2027-04-18/
LOCATION:Baexheimerhof\, Kerkstraat 1a\, Baexem\, Limburg\, 6095 BD\, Nederland
CATEGORIES:Kerkdiensten
ATTACH;FMTTYPE=image/png:https://www.hartvoorbaexem.nl/wp-content/uploads/2025/10/Dorpsraad-Baexem-Logo-Christengemeeente-2024.png
END:VEVENT
BEGIN:VEVENT
DTSTART;TZID=Europe/Amsterdam:20270425T103000
DTEND;TZID=Europe/Amsterdam:20270425T120000
DTSTAMP:20260422T025428
CREATED:20260405T114648Z
LAST-MODIFIED:20260405T114854Z
UID:10001395-1808649000-1808654400@www.hartvoorbaexem.nl
SUMMARY:Eredienst Christengemeente Midden-Limburg
DESCRIPTION:Eredienst \nWe komen iedere zondag om 10:30 uur samen in: \n\n\n\n\n\n\nBaexheimerhof\nKerkstraat 1a\n6095 BD Baexem \n\n\n\n\n\n\n\n\n\n\n\n\n\n\n\nDit ligt tegenover de rooms-katholieke kerk en naast de supermarkt.
URL:https://www.hartvoorbaexem.nl/activiteit/eredienst-christengemeente-midden-limburg-14/2027-04-25/
LOCATION:Baexheimerhof\, Kerkstraat 1a\, Baexem\, Limburg\, 6095 BD\, Nederland
CATEGORIES:Kerkdiensten
ATTACH;FMTTYPE=image/png:https://www.hartvoorbaexem.nl/wp-content/uploads/2025/10/Dorpsraad-Baexem-Logo-Christengemeeente-2024.png
END:VEVENT
BEGIN:VEVENT
DTSTART;TZID=Europe/Amsterdam:20270502T103000
DTEND;TZID=Europe/Amsterdam:20270502T120000
DTSTAMP:20260422T025428
CREATED:20260405T114648Z
LAST-MODIFIED:20260405T114854Z
UID:10001396-1809253800-1809259200@www.hartvoorbaexem.nl
SUMMARY:Eredienst Christengemeente Midden-Limburg
DESCRIPTION:Eredienst \nWe komen iedere zondag om 10:30 uur samen in: \n\n\n\n\n\n\nBaexheimerhof\nKerkstraat 1a\n6095 BD Baexem \n\n\n\n\n\n\n\n\n\n\n\n\n\n\n\nDit ligt tegenover de rooms-katholieke kerk en naast de supermarkt.
URL:https://www.hartvoorbaexem.nl/activiteit/eredienst-christengemeente-midden-limburg-14/2027-05-02/
LOCATION:Baexheimerhof\, Kerkstraat 1a\, Baexem\, Limburg\, 6095 BD\, Nederland
CATEGORIES:Kerkdiensten
ATTACH;FMTTYPE=image/png:https://www.hartvoorbaexem.nl/wp-content/uploads/2025/10/Dorpsraad-Baexem-Logo-Christengemeeente-2024.png
END:VEVENT
END:VCALENDAR