BEGIN:VCALENDAR
VERSION:2.0
PRODID:-//Hart voor Baexem - ECPv6.15.18//NONSGML v1.0//EN
CALSCALE:GREGORIAN
METHOD:PUBLISH
X-WR-CALNAME:Hart voor Baexem
X-ORIGINAL-URL:https://www.hartvoorbaexem.nl
X-WR-CALDESC:Evenementen voor Hart voor Baexem
REFRESH-INTERVAL;VALUE=DURATION:PT1H
X-Robots-Tag:noindex
X-PUBLISHED-TTL:PT1H
BEGIN:VTIMEZONE
TZID:Europe/Amsterdam
BEGIN:DAYLIGHT
TZOFFSETFROM:+0100
TZOFFSETTO:+0200
TZNAME:CEST
DTSTART:20250330T010000
END:DAYLIGHT
BEGIN:STANDARD
TZOFFSETFROM:+0200
TZOFFSETTO:+0100
TZNAME:CET
DTSTART:20251026T010000
END:STANDARD
BEGIN:DAYLIGHT
TZOFFSETFROM:+0100
TZOFFSETTO:+0200
TZNAME:CEST
DTSTART:20260329T010000
END:DAYLIGHT
BEGIN:STANDARD
TZOFFSETFROM:+0200
TZOFFSETTO:+0100
TZNAME:CET
DTSTART:20261025T010000
END:STANDARD
BEGIN:DAYLIGHT
TZOFFSETFROM:+0100
TZOFFSETTO:+0200
TZNAME:CEST
DTSTART:20270328T010000
END:DAYLIGHT
BEGIN:STANDARD
TZOFFSETFROM:+0200
TZOFFSETTO:+0100
TZNAME:CET
DTSTART:20271031T010000
END:STANDARD
END:VTIMEZONE
BEGIN:VEVENT
DTSTART;TZID=Europe/Amsterdam:20260703T193000
DTEND;TZID=Europe/Amsterdam:20260703T230000
DTSTAMP:20260422T044542
CREATED:20260223T140848Z
LAST-MODIFIED:20260223T143229Z
UID:10001328-1783107000-1783119600@www.hartvoorbaexem.nl
SUMMARY:Zomerconcert Fanfare Aurora
DESCRIPTION:We sluiten het seizoen traditiegetrouw af met een zomers concert op de Jeu de boulesbaan\, bij slecht weer in Baexheimerhof. Al onze gelederen\, opleidingsorkest\, grote orkest\, blokfluiters en De Baxheimer Muzikanten zullen dan voor u een licht programma brengen.
URL:https://www.hartvoorbaexem.nl/activiteit/zomerconcert-fanfare-aurora/
LOCATION:Baexheimerhof\, Kerkstraat 1a\, Baexem\, Limburg\, 6095 BD\, Nederland
CATEGORIES:Muzikale Evenementen
ATTACH;FMTTYPE=image/jpeg:https://www.hartvoorbaexem.nl/wp-content/uploads/2026/02/zomerconcert-2026.jpg
ORGANIZER;CN="Fanfare Aurora":MAILTO:secretariaat@fanfareaurora.nl
END:VEVENT
END:VCALENDAR