BEGIN:VCALENDAR
VERSION:2.0
PRODID:-//Hart voor Baexem - ECPv6.15.18//NONSGML v1.0//EN
CALSCALE:GREGORIAN
METHOD:PUBLISH
X-ORIGINAL-URL:https://www.hartvoorbaexem.nl
X-WR-CALDESC:Evenementen voor Hart voor Baexem
REFRESH-INTERVAL;VALUE=DURATION:PT1H
X-Robots-Tag:noindex
X-PUBLISHED-TTL:PT1H
BEGIN:VTIMEZONE
TZID:Europe/Amsterdam
BEGIN:DAYLIGHT
TZOFFSETFROM:+0100
TZOFFSETTO:+0200
TZNAME:CEST
DTSTART:20250330T010000
END:DAYLIGHT
BEGIN:STANDARD
TZOFFSETFROM:+0200
TZOFFSETTO:+0100
TZNAME:CET
DTSTART:20251026T010000
END:STANDARD
BEGIN:DAYLIGHT
TZOFFSETFROM:+0100
TZOFFSETTO:+0200
TZNAME:CEST
DTSTART:20260329T010000
END:DAYLIGHT
BEGIN:STANDARD
TZOFFSETFROM:+0200
TZOFFSETTO:+0100
TZNAME:CET
DTSTART:20261025T010000
END:STANDARD
BEGIN:DAYLIGHT
TZOFFSETFROM:+0100
TZOFFSETTO:+0200
TZNAME:CEST
DTSTART:20270328T010000
END:DAYLIGHT
BEGIN:STANDARD
TZOFFSETFROM:+0200
TZOFFSETTO:+0100
TZNAME:CET
DTSTART:20271031T010000
END:STANDARD
END:VTIMEZONE
BEGIN:VEVENT
DTSTART;TZID=Europe/Amsterdam:20260530T190000
DTEND;TZID=Europe/Amsterdam:20260531T160000
DTSTAMP:20260421T155932
CREATED:20260212T132324Z
LAST-MODIFIED:20260303T152809Z
UID:10001327-1780167600-1780243200@www.hartvoorbaexem.nl
SUMMARY:Festival Joie de Vivre au Château Baexem
DESCRIPTION:Festival Joie de Vivre au Château Baexem is een sfeervol Frans themafestival dat plaatsvindt op zaterdag 30 mei en zondag 31 mei 2026 op de binnenplaats van Kasteel Baexem en de Baronshoeve. \n 
URL:https://www.hartvoorbaexem.nl/activiteit/festival-joie-de-vivre-au-chateau-baexem/
LOCATION:Limburg
CATEGORIES:Culturele Evenementen,Muzikale Evenementen,Ontspanning
ATTACH;FMTTYPE=image/jpeg:https://www.hartvoorbaexem.nl/wp-content/uploads/2026/02/IMG-20260212-WA0000-1.jpg
ORGANIZER;CN="Fanfare Aurora":MAILTO:secretariaat@fanfareaurora.nl
END:VEVENT
END:VCALENDAR