BEGIN:VCALENDAR
VERSION:2.0
PRODID:-//Hart voor Baexem - ECPv6.15.18//NONSGML v1.0//EN
CALSCALE:GREGORIAN
METHOD:PUBLISH
X-WR-CALNAME:Hart voor Baexem
X-ORIGINAL-URL:https://www.hartvoorbaexem.nl
X-WR-CALDESC:Evenementen voor Hart voor Baexem
REFRESH-INTERVAL;VALUE=DURATION:PT1H
X-Robots-Tag:noindex
X-PUBLISHED-TTL:PT1H
BEGIN:VTIMEZONE
TZID:Europe/Amsterdam
BEGIN:DAYLIGHT
TZOFFSETFROM:+0100
TZOFFSETTO:+0200
TZNAME:CEST
DTSTART:20250330T010000
END:DAYLIGHT
BEGIN:STANDARD
TZOFFSETFROM:+0200
TZOFFSETTO:+0100
TZNAME:CET
DTSTART:20251026T010000
END:STANDARD
BEGIN:DAYLIGHT
TZOFFSETFROM:+0100
TZOFFSETTO:+0200
TZNAME:CEST
DTSTART:20260329T010000
END:DAYLIGHT
BEGIN:STANDARD
TZOFFSETFROM:+0200
TZOFFSETTO:+0100
TZNAME:CET
DTSTART:20261025T010000
END:STANDARD
BEGIN:DAYLIGHT
TZOFFSETFROM:+0100
TZOFFSETTO:+0200
TZNAME:CEST
DTSTART:20270328T010000
END:DAYLIGHT
BEGIN:STANDARD
TZOFFSETFROM:+0200
TZOFFSETTO:+0100
TZNAME:CET
DTSTART:20271031T010000
END:STANDARD
END:VTIMEZONE
BEGIN:VEVENT
DTSTART;TZID=Europe/Amsterdam:20260221T200000
DTEND;TZID=Europe/Amsterdam:20260221T220000
DTSTAMP:20260421T221035
CREATED:20251023T083546Z
LAST-MODIFIED:20251023T092846Z
UID:10001276-1771704000-1771711200@www.hartvoorbaexem.nl
SUMMARY:Competitiewedstrijd Beugelclub DOS
DESCRIPTION:Baexem-1 – Meijel-2 \nLet op\, niet alle competitie wedstrijden zijn in ons thuis lokaal.
URL:https://www.hartvoorbaexem.nl/activiteit/competitiewedstrijd-beugelclub-dos-9/
LOCATION:Beugellokaal DOS\, Sint Janstraat 1\, Baexem\, Limburg\, 6095 BC\, Nederland
CATEGORIES:Sport Evenementen
ATTACH;FMTTYPE=image/jpeg:https://www.hartvoorbaexem.nl/wp-content/uploads/2025/09/Hart-voor-Baexem-Beugelclub-S.jpg
END:VEVENT
BEGIN:VEVENT
DTSTART;TZID=Europe/Amsterdam:20260306T200000
DTEND;TZID=Europe/Amsterdam:20260306T220000
DTSTAMP:20260421T221035
CREATED:20251023T083759Z
LAST-MODIFIED:20251023T092841Z
UID:10001277-1772827200-1772834400@www.hartvoorbaexem.nl
SUMMARY:Competitiewedstrijd Beugelclub DOS
DESCRIPTION:Leveroy-1 – Baexem-1 \nLet op\, niet alle competitie wedstrijden zijn in ons thuis lokaal.
URL:https://www.hartvoorbaexem.nl/activiteit/competitiewedstrijd-beugelclub-dos-10/
LOCATION:Beugellokaal DOS\, Sint Janstraat 1\, Baexem\, Limburg\, 6095 BC\, Nederland
CATEGORIES:Sport Evenementen
ATTACH;FMTTYPE=image/jpeg:https://www.hartvoorbaexem.nl/wp-content/uploads/2025/09/Hart-voor-Baexem-Beugelclub-S.jpg
END:VEVENT
BEGIN:VEVENT
DTSTART;TZID=Europe/Amsterdam:20260321T200000
DTEND;TZID=Europe/Amsterdam:20260321T220000
DTSTAMP:20260421T221035
CREATED:20251023T084021Z
LAST-MODIFIED:20260303T154712Z
UID:10001278-1774123200-1774130400@www.hartvoorbaexem.nl
SUMMARY:Competitiewedstrijd Beugelclub DOS
DESCRIPTION:Baaexem-1 – Kessel-3 \nLet op\, niet alle competitie wedstrijden zijn in ons thuis lokaal.
URL:https://www.hartvoorbaexem.nl/activiteit/competitiewedstrijd-beugelclub-dos-11/
LOCATION:Beugellokaal DOS\, Sint Janstraat 1\, Baexem\, Limburg\, 6095 BC\, Nederland
CATEGORIES:Sport Evenementen
ATTACH;FMTTYPE=image/jpeg:https://www.hartvoorbaexem.nl/wp-content/uploads/2025/09/Hart-voor-Baexem-Beugelclub-S.jpg
END:VEVENT
BEGIN:VEVENT
DTSTART;TZID=Europe/Amsterdam:20260327T200000
DTEND;TZID=Europe/Amsterdam:20260327T220000
DTSTAMP:20260421T221035
CREATED:20251023T084234Z
LAST-MODIFIED:20251023T092802Z
UID:10001279-1774641600-1774648800@www.hartvoorbaexem.nl
SUMMARY:Competitiewedstrijd Beugelclub DOS
DESCRIPTION:Kessel-4 – Baexem-1 \nLet op\, niet alle competitie wedstrijden zijn in ons thuis lokaal.
URL:https://www.hartvoorbaexem.nl/activiteit/competitiewedstrijd-beugelclub-dos-12/
LOCATION:Beugellokaal DOS\, Sint Janstraat 1\, Baexem\, Limburg\, 6095 BC\, Nederland
CATEGORIES:Sport Evenementen
ATTACH;FMTTYPE=image/jpeg:https://www.hartvoorbaexem.nl/wp-content/uploads/2025/09/Hart-voor-Baexem-Beugelclub-S.jpg
END:VEVENT
BEGIN:VEVENT
DTSTART;TZID=Europe/Amsterdam:20260411T200000
DTEND;TZID=Europe/Amsterdam:20260411T220000
DTSTAMP:20260421T221035
CREATED:20251023T084510Z
LAST-MODIFIED:20251023T092735Z
UID:10001280-1775937600-1775944800@www.hartvoorbaexem.nl
SUMMARY:Competitiewedstrijd Beugelclub DOS
DESCRIPTION:Baexem-1 – Hoogeloon-2 \nLet op\, niet alle competitie wedstrijden zijn in ons thuis lokaal.
URL:https://www.hartvoorbaexem.nl/activiteit/competitiewedstrijd-beugelclub-dos-13/
LOCATION:Beugellokaal DOS\, Sint Janstraat 1\, Baexem\, Limburg\, 6095 BC\, Nederland
CATEGORIES:Sport Evenementen
ATTACH;FMTTYPE=image/jpeg:https://www.hartvoorbaexem.nl/wp-content/uploads/2025/09/Hart-voor-Baexem-Beugelclub-S.jpg
END:VEVENT
BEGIN:VEVENT
DTSTART;TZID=Europe/Amsterdam:20260425T190000
DTEND;TZID=Europe/Amsterdam:20260425T210000
DTSTAMP:20260421T221035
CREATED:20251023T084711Z
LAST-MODIFIED:20251023T092729Z
UID:10001281-1777143600-1777150800@www.hartvoorbaexem.nl
SUMMARY:Competitiewedstrijd Beugelclub DOS
DESCRIPTION:Helden-6 – Baexem-1 \nLet op\, niet alle competitie wedstrijden zijn in ons thuis lokaal.
URL:https://www.hartvoorbaexem.nl/activiteit/competitiewedstrijd-beugelclub-dos-14/
LOCATION:Beugellokaal DOS\, Sint Janstraat 1\, Baexem\, Limburg\, 6095 BC\, Nederland
CATEGORIES:Sport Evenementen
ATTACH;FMTTYPE=image/jpeg:https://www.hartvoorbaexem.nl/wp-content/uploads/2025/09/Hart-voor-Baexem-Beugelclub-S.jpg
END:VEVENT
BEGIN:VEVENT
DTSTART;TZID=Europe/Amsterdam:20260502T200000
DTEND;TZID=Europe/Amsterdam:20260502T220000
DTSTAMP:20260421T221035
CREATED:20251023T084946Z
LAST-MODIFIED:20251023T092645Z
UID:10001282-1777752000-1777759200@www.hartvoorbaexem.nl
SUMMARY:Competitiewedstrijd Beugelclub DOS
DESCRIPTION:Baexem-1 – Helen-5 \nLet op\, niet alle competitie wedstrijden zijn in ons thuis lokaal.
URL:https://www.hartvoorbaexem.nl/activiteit/competitiewedstrijd-beugelclub-dos-15/
LOCATION:Beugellokaal DOS\, Sint Janstraat 1\, Baexem\, Limburg\, 6095 BC\, Nederland
CATEGORIES:Sport Evenementen
ATTACH;FMTTYPE=image/jpeg:https://www.hartvoorbaexem.nl/wp-content/uploads/2025/09/Hart-voor-Baexem-Beugelclub-S.jpg
END:VEVENT
END:VCALENDAR