BEGIN:VCALENDAR
VERSION:2.0
PRODID:-//Hart voor Baexem - ECPv6.15.18//NONSGML v1.0//EN
CALSCALE:GREGORIAN
METHOD:PUBLISH
X-ORIGINAL-URL:https://www.hartvoorbaexem.nl
X-WR-CALDESC:Evenementen voor Hart voor Baexem
REFRESH-INTERVAL;VALUE=DURATION:PT1H
X-Robots-Tag:noindex
X-PUBLISHED-TTL:PT1H
BEGIN:VTIMEZONE
TZID:Europe/Amsterdam
BEGIN:DAYLIGHT
TZOFFSETFROM:+0100
TZOFFSETTO:+0200
TZNAME:CEST
DTSTART:20280326T010000
END:DAYLIGHT
BEGIN:STANDARD
TZOFFSETFROM:+0200
TZOFFSETTO:+0100
TZNAME:CET
DTSTART:20281029T010000
END:STANDARD
BEGIN:DAYLIGHT
TZOFFSETFROM:+0100
TZOFFSETTO:+0200
TZNAME:CEST
DTSTART:20290325T010000
END:DAYLIGHT
BEGIN:STANDARD
TZOFFSETFROM:+0200
TZOFFSETTO:+0100
TZNAME:CET
DTSTART:20291028T010000
END:STANDARD
BEGIN:DAYLIGHT
TZOFFSETFROM:+0100
TZOFFSETTO:+0200
TZNAME:CEST
DTSTART:20300331T010000
END:DAYLIGHT
BEGIN:STANDARD
TZOFFSETFROM:+0200
TZOFFSETTO:+0100
TZNAME:CET
DTSTART:20301027T010000
END:STANDARD
END:VTIMEZONE
BEGIN:VEVENT
DTSTART;TZID=Europe/Amsterdam:20290527T103000
DTEND;TZID=Europe/Amsterdam:20290527T120000
DTSTAMP:20260426T022955
CREATED:20260405T114648Z
LAST-MODIFIED:20260405T114854Z
UID:10001504-1874572200-1874577600@www.hartvoorbaexem.nl
SUMMARY:Eredienst Christengemeente Midden-Limburg
DESCRIPTION:Eredienst \nWe komen iedere zondag om 10:30 uur samen in: \n\n\n\n\n\n\nBaexheimerhof\nKerkstraat 1a\n6095 BD Baexem \n\n\n\n\n\n\n\n\n\n\n\n\n\n\n\nDit ligt tegenover de rooms-katholieke kerk en naast de supermarkt.
URL:https://www.hartvoorbaexem.nl/activiteit/eredienst-christengemeente-midden-limburg-14/2029-05-27/
LOCATION:Baexheimerhof\, Kerkstraat 1a\, Baexem\, Limburg\, 6095 BD\, Nederland
CATEGORIES:Kerkdiensten
ATTACH;FMTTYPE=image/png:https://www.hartvoorbaexem.nl/wp-content/uploads/2025/10/Dorpsraad-Baexem-Logo-Christengemeeente-2024.png
END:VEVENT
BEGIN:VEVENT
DTSTART;TZID=Europe/Amsterdam:20290603T103000
DTEND;TZID=Europe/Amsterdam:20290603T120000
DTSTAMP:20260426T022955
CREATED:20260405T114648Z
LAST-MODIFIED:20260405T114854Z
UID:10001505-1875177000-1875182400@www.hartvoorbaexem.nl
SUMMARY:Eredienst Christengemeente Midden-Limburg
DESCRIPTION:Eredienst \nWe komen iedere zondag om 10:30 uur samen in: \n\n\n\n\n\n\nBaexheimerhof\nKerkstraat 1a\n6095 BD Baexem \n\n\n\n\n\n\n\n\n\n\n\n\n\n\n\nDit ligt tegenover de rooms-katholieke kerk en naast de supermarkt.
URL:https://www.hartvoorbaexem.nl/activiteit/eredienst-christengemeente-midden-limburg-14/2029-06-03/
LOCATION:Baexheimerhof\, Kerkstraat 1a\, Baexem\, Limburg\, 6095 BD\, Nederland
CATEGORIES:Kerkdiensten
ATTACH;FMTTYPE=image/png:https://www.hartvoorbaexem.nl/wp-content/uploads/2025/10/Dorpsraad-Baexem-Logo-Christengemeeente-2024.png
END:VEVENT
BEGIN:VEVENT
DTSTART;TZID=Europe/Amsterdam:20290610T103000
DTEND;TZID=Europe/Amsterdam:20290610T120000
DTSTAMP:20260426T022955
CREATED:20260405T114648Z
LAST-MODIFIED:20260405T114854Z
UID:10001506-1875781800-1875787200@www.hartvoorbaexem.nl
SUMMARY:Eredienst Christengemeente Midden-Limburg
DESCRIPTION:Eredienst \nWe komen iedere zondag om 10:30 uur samen in: \n\n\n\n\n\n\nBaexheimerhof\nKerkstraat 1a\n6095 BD Baexem \n\n\n\n\n\n\n\n\n\n\n\n\n\n\n\nDit ligt tegenover de rooms-katholieke kerk en naast de supermarkt.
URL:https://www.hartvoorbaexem.nl/activiteit/eredienst-christengemeente-midden-limburg-14/2029-06-10/
LOCATION:Baexheimerhof\, Kerkstraat 1a\, Baexem\, Limburg\, 6095 BD\, Nederland
CATEGORIES:Kerkdiensten
ATTACH;FMTTYPE=image/png:https://www.hartvoorbaexem.nl/wp-content/uploads/2025/10/Dorpsraad-Baexem-Logo-Christengemeeente-2024.png
END:VEVENT
BEGIN:VEVENT
DTSTART;TZID=Europe/Amsterdam:20290617T103000
DTEND;TZID=Europe/Amsterdam:20290617T120000
DTSTAMP:20260426T022955
CREATED:20260405T114648Z
LAST-MODIFIED:20260405T114854Z
UID:10001507-1876386600-1876392000@www.hartvoorbaexem.nl
SUMMARY:Eredienst Christengemeente Midden-Limburg
DESCRIPTION:Eredienst \nWe komen iedere zondag om 10:30 uur samen in: \n\n\n\n\n\n\nBaexheimerhof\nKerkstraat 1a\n6095 BD Baexem \n\n\n\n\n\n\n\n\n\n\n\n\n\n\n\nDit ligt tegenover de rooms-katholieke kerk en naast de supermarkt.
URL:https://www.hartvoorbaexem.nl/activiteit/eredienst-christengemeente-midden-limburg-14/2029-06-17/
LOCATION:Baexheimerhof\, Kerkstraat 1a\, Baexem\, Limburg\, 6095 BD\, Nederland
CATEGORIES:Kerkdiensten
ATTACH;FMTTYPE=image/png:https://www.hartvoorbaexem.nl/wp-content/uploads/2025/10/Dorpsraad-Baexem-Logo-Christengemeeente-2024.png
END:VEVENT
BEGIN:VEVENT
DTSTART;TZID=Europe/Amsterdam:20290624T103000
DTEND;TZID=Europe/Amsterdam:20290624T120000
DTSTAMP:20260426T022955
CREATED:20260405T114648Z
LAST-MODIFIED:20260405T114854Z
UID:10001508-1876991400-1876996800@www.hartvoorbaexem.nl
SUMMARY:Eredienst Christengemeente Midden-Limburg
DESCRIPTION:Eredienst \nWe komen iedere zondag om 10:30 uur samen in: \n\n\n\n\n\n\nBaexheimerhof\nKerkstraat 1a\n6095 BD Baexem \n\n\n\n\n\n\n\n\n\n\n\n\n\n\n\nDit ligt tegenover de rooms-katholieke kerk en naast de supermarkt.
URL:https://www.hartvoorbaexem.nl/activiteit/eredienst-christengemeente-midden-limburg-14/2029-06-24/
LOCATION:Baexheimerhof\, Kerkstraat 1a\, Baexem\, Limburg\, 6095 BD\, Nederland
CATEGORIES:Kerkdiensten
ATTACH;FMTTYPE=image/png:https://www.hartvoorbaexem.nl/wp-content/uploads/2025/10/Dorpsraad-Baexem-Logo-Christengemeeente-2024.png
END:VEVENT
BEGIN:VEVENT
DTSTART;TZID=Europe/Amsterdam:20290701T103000
DTEND;TZID=Europe/Amsterdam:20290701T120000
DTSTAMP:20260426T022955
CREATED:20260405T114648Z
LAST-MODIFIED:20260405T114854Z
UID:10001509-1877596200-1877601600@www.hartvoorbaexem.nl
SUMMARY:Eredienst Christengemeente Midden-Limburg
DESCRIPTION:Eredienst \nWe komen iedere zondag om 10:30 uur samen in: \n\n\n\n\n\n\nBaexheimerhof\nKerkstraat 1a\n6095 BD Baexem \n\n\n\n\n\n\n\n\n\n\n\n\n\n\n\nDit ligt tegenover de rooms-katholieke kerk en naast de supermarkt.
URL:https://www.hartvoorbaexem.nl/activiteit/eredienst-christengemeente-midden-limburg-14/2029-07-01/
LOCATION:Baexheimerhof\, Kerkstraat 1a\, Baexem\, Limburg\, 6095 BD\, Nederland
CATEGORIES:Kerkdiensten
ATTACH;FMTTYPE=image/png:https://www.hartvoorbaexem.nl/wp-content/uploads/2025/10/Dorpsraad-Baexem-Logo-Christengemeeente-2024.png
END:VEVENT
BEGIN:VEVENT
DTSTART;TZID=Europe/Amsterdam:20290708T103000
DTEND;TZID=Europe/Amsterdam:20290708T120000
DTSTAMP:20260426T022955
CREATED:20260405T114648Z
LAST-MODIFIED:20260405T114854Z
UID:10001510-1878201000-1878206400@www.hartvoorbaexem.nl
SUMMARY:Eredienst Christengemeente Midden-Limburg
DESCRIPTION:Eredienst \nWe komen iedere zondag om 10:30 uur samen in: \n\n\n\n\n\n\nBaexheimerhof\nKerkstraat 1a\n6095 BD Baexem \n\n\n\n\n\n\n\n\n\n\n\n\n\n\n\nDit ligt tegenover de rooms-katholieke kerk en naast de supermarkt.
URL:https://www.hartvoorbaexem.nl/activiteit/eredienst-christengemeente-midden-limburg-14/2029-07-08/
LOCATION:Baexheimerhof\, Kerkstraat 1a\, Baexem\, Limburg\, 6095 BD\, Nederland
CATEGORIES:Kerkdiensten
ATTACH;FMTTYPE=image/png:https://www.hartvoorbaexem.nl/wp-content/uploads/2025/10/Dorpsraad-Baexem-Logo-Christengemeeente-2024.png
END:VEVENT
BEGIN:VEVENT
DTSTART;TZID=Europe/Amsterdam:20290715T103000
DTEND;TZID=Europe/Amsterdam:20290715T120000
DTSTAMP:20260426T022955
CREATED:20260405T114648Z
LAST-MODIFIED:20260405T114854Z
UID:10001511-1878805800-1878811200@www.hartvoorbaexem.nl
SUMMARY:Eredienst Christengemeente Midden-Limburg
DESCRIPTION:Eredienst \nWe komen iedere zondag om 10:30 uur samen in: \n\n\n\n\n\n\nBaexheimerhof\nKerkstraat 1a\n6095 BD Baexem \n\n\n\n\n\n\n\n\n\n\n\n\n\n\n\nDit ligt tegenover de rooms-katholieke kerk en naast de supermarkt.
URL:https://www.hartvoorbaexem.nl/activiteit/eredienst-christengemeente-midden-limburg-14/2029-07-15/
LOCATION:Baexheimerhof\, Kerkstraat 1a\, Baexem\, Limburg\, 6095 BD\, Nederland
CATEGORIES:Kerkdiensten
ATTACH;FMTTYPE=image/png:https://www.hartvoorbaexem.nl/wp-content/uploads/2025/10/Dorpsraad-Baexem-Logo-Christengemeeente-2024.png
END:VEVENT
BEGIN:VEVENT
DTSTART;TZID=Europe/Amsterdam:20290722T103000
DTEND;TZID=Europe/Amsterdam:20290722T120000
DTSTAMP:20260426T022955
CREATED:20260405T114648Z
LAST-MODIFIED:20260405T114854Z
UID:10001512-1879410600-1879416000@www.hartvoorbaexem.nl
SUMMARY:Eredienst Christengemeente Midden-Limburg
DESCRIPTION:Eredienst \nWe komen iedere zondag om 10:30 uur samen in: \n\n\n\n\n\n\nBaexheimerhof\nKerkstraat 1a\n6095 BD Baexem \n\n\n\n\n\n\n\n\n\n\n\n\n\n\n\nDit ligt tegenover de rooms-katholieke kerk en naast de supermarkt.
URL:https://www.hartvoorbaexem.nl/activiteit/eredienst-christengemeente-midden-limburg-14/2029-07-22/
LOCATION:Baexheimerhof\, Kerkstraat 1a\, Baexem\, Limburg\, 6095 BD\, Nederland
CATEGORIES:Kerkdiensten
ATTACH;FMTTYPE=image/png:https://www.hartvoorbaexem.nl/wp-content/uploads/2025/10/Dorpsraad-Baexem-Logo-Christengemeeente-2024.png
END:VEVENT
BEGIN:VEVENT
DTSTART;TZID=Europe/Amsterdam:20290729T103000
DTEND;TZID=Europe/Amsterdam:20290729T120000
DTSTAMP:20260426T022955
CREATED:20260405T114648Z
LAST-MODIFIED:20260405T114854Z
UID:10001513-1880015400-1880020800@www.hartvoorbaexem.nl
SUMMARY:Eredienst Christengemeente Midden-Limburg
DESCRIPTION:Eredienst \nWe komen iedere zondag om 10:30 uur samen in: \n\n\n\n\n\n\nBaexheimerhof\nKerkstraat 1a\n6095 BD Baexem \n\n\n\n\n\n\n\n\n\n\n\n\n\n\n\nDit ligt tegenover de rooms-katholieke kerk en naast de supermarkt.
URL:https://www.hartvoorbaexem.nl/activiteit/eredienst-christengemeente-midden-limburg-14/2029-07-29/
LOCATION:Baexheimerhof\, Kerkstraat 1a\, Baexem\, Limburg\, 6095 BD\, Nederland
CATEGORIES:Kerkdiensten
ATTACH;FMTTYPE=image/png:https://www.hartvoorbaexem.nl/wp-content/uploads/2025/10/Dorpsraad-Baexem-Logo-Christengemeeente-2024.png
END:VEVENT
BEGIN:VEVENT
DTSTART;TZID=Europe/Amsterdam:20290805T103000
DTEND;TZID=Europe/Amsterdam:20290805T120000
DTSTAMP:20260426T022955
CREATED:20260405T114648Z
LAST-MODIFIED:20260405T114854Z
UID:10001514-1880620200-1880625600@www.hartvoorbaexem.nl
SUMMARY:Eredienst Christengemeente Midden-Limburg
DESCRIPTION:Eredienst \nWe komen iedere zondag om 10:30 uur samen in: \n\n\n\n\n\n\nBaexheimerhof\nKerkstraat 1a\n6095 BD Baexem \n\n\n\n\n\n\n\n\n\n\n\n\n\n\n\nDit ligt tegenover de rooms-katholieke kerk en naast de supermarkt.
URL:https://www.hartvoorbaexem.nl/activiteit/eredienst-christengemeente-midden-limburg-14/2029-08-05/
LOCATION:Baexheimerhof\, Kerkstraat 1a\, Baexem\, Limburg\, 6095 BD\, Nederland
CATEGORIES:Kerkdiensten
ATTACH;FMTTYPE=image/png:https://www.hartvoorbaexem.nl/wp-content/uploads/2025/10/Dorpsraad-Baexem-Logo-Christengemeeente-2024.png
END:VEVENT
BEGIN:VEVENT
DTSTART;TZID=Europe/Amsterdam:20290812T103000
DTEND;TZID=Europe/Amsterdam:20290812T120000
DTSTAMP:20260426T022955
CREATED:20260405T114648Z
LAST-MODIFIED:20260405T114854Z
UID:10001515-1881225000-1881230400@www.hartvoorbaexem.nl
SUMMARY:Eredienst Christengemeente Midden-Limburg
DESCRIPTION:Eredienst \nWe komen iedere zondag om 10:30 uur samen in: \n\n\n\n\n\n\nBaexheimerhof\nKerkstraat 1a\n6095 BD Baexem \n\n\n\n\n\n\n\n\n\n\n\n\n\n\n\nDit ligt tegenover de rooms-katholieke kerk en naast de supermarkt.
URL:https://www.hartvoorbaexem.nl/activiteit/eredienst-christengemeente-midden-limburg-14/2029-08-12/
LOCATION:Baexheimerhof\, Kerkstraat 1a\, Baexem\, Limburg\, 6095 BD\, Nederland
CATEGORIES:Kerkdiensten
ATTACH;FMTTYPE=image/png:https://www.hartvoorbaexem.nl/wp-content/uploads/2025/10/Dorpsraad-Baexem-Logo-Christengemeeente-2024.png
END:VEVENT
BEGIN:VEVENT
DTSTART;TZID=Europe/Amsterdam:20290819T103000
DTEND;TZID=Europe/Amsterdam:20290819T120000
DTSTAMP:20260426T022955
CREATED:20260405T114648Z
LAST-MODIFIED:20260405T114854Z
UID:10001516-1881829800-1881835200@www.hartvoorbaexem.nl
SUMMARY:Eredienst Christengemeente Midden-Limburg
DESCRIPTION:Eredienst \nWe komen iedere zondag om 10:30 uur samen in: \n\n\n\n\n\n\nBaexheimerhof\nKerkstraat 1a\n6095 BD Baexem \n\n\n\n\n\n\n\n\n\n\n\n\n\n\n\nDit ligt tegenover de rooms-katholieke kerk en naast de supermarkt.
URL:https://www.hartvoorbaexem.nl/activiteit/eredienst-christengemeente-midden-limburg-14/2029-08-19/
LOCATION:Baexheimerhof\, Kerkstraat 1a\, Baexem\, Limburg\, 6095 BD\, Nederland
CATEGORIES:Kerkdiensten
ATTACH;FMTTYPE=image/png:https://www.hartvoorbaexem.nl/wp-content/uploads/2025/10/Dorpsraad-Baexem-Logo-Christengemeeente-2024.png
END:VEVENT
BEGIN:VEVENT
DTSTART;TZID=Europe/Amsterdam:20290826T103000
DTEND;TZID=Europe/Amsterdam:20290826T120000
DTSTAMP:20260426T022955
CREATED:20260405T114648Z
LAST-MODIFIED:20260405T114854Z
UID:10001517-1882434600-1882440000@www.hartvoorbaexem.nl
SUMMARY:Eredienst Christengemeente Midden-Limburg
DESCRIPTION:Eredienst \nWe komen iedere zondag om 10:30 uur samen in: \n\n\n\n\n\n\nBaexheimerhof\nKerkstraat 1a\n6095 BD Baexem \n\n\n\n\n\n\n\n\n\n\n\n\n\n\n\nDit ligt tegenover de rooms-katholieke kerk en naast de supermarkt.
URL:https://www.hartvoorbaexem.nl/activiteit/eredienst-christengemeente-midden-limburg-14/2029-08-26/
LOCATION:Baexheimerhof\, Kerkstraat 1a\, Baexem\, Limburg\, 6095 BD\, Nederland
CATEGORIES:Kerkdiensten
ATTACH;FMTTYPE=image/png:https://www.hartvoorbaexem.nl/wp-content/uploads/2025/10/Dorpsraad-Baexem-Logo-Christengemeeente-2024.png
END:VEVENT
BEGIN:VEVENT
DTSTART;TZID=Europe/Amsterdam:20290902T103000
DTEND;TZID=Europe/Amsterdam:20290902T120000
DTSTAMP:20260426T022955
CREATED:20260405T114648Z
LAST-MODIFIED:20260405T114854Z
UID:10001518-1883039400-1883044800@www.hartvoorbaexem.nl
SUMMARY:Eredienst Christengemeente Midden-Limburg
DESCRIPTION:Eredienst \nWe komen iedere zondag om 10:30 uur samen in: \n\n\n\n\n\n\nBaexheimerhof\nKerkstraat 1a\n6095 BD Baexem \n\n\n\n\n\n\n\n\n\n\n\n\n\n\n\nDit ligt tegenover de rooms-katholieke kerk en naast de supermarkt.
URL:https://www.hartvoorbaexem.nl/activiteit/eredienst-christengemeente-midden-limburg-14/2029-09-02/
LOCATION:Baexheimerhof\, Kerkstraat 1a\, Baexem\, Limburg\, 6095 BD\, Nederland
CATEGORIES:Kerkdiensten
ATTACH;FMTTYPE=image/png:https://www.hartvoorbaexem.nl/wp-content/uploads/2025/10/Dorpsraad-Baexem-Logo-Christengemeeente-2024.png
END:VEVENT
BEGIN:VEVENT
DTSTART;TZID=Europe/Amsterdam:20290909T103000
DTEND;TZID=Europe/Amsterdam:20290909T120000
DTSTAMP:20260426T022955
CREATED:20260405T114648Z
LAST-MODIFIED:20260405T114854Z
UID:10001519-1883644200-1883649600@www.hartvoorbaexem.nl
SUMMARY:Eredienst Christengemeente Midden-Limburg
DESCRIPTION:Eredienst \nWe komen iedere zondag om 10:30 uur samen in: \n\n\n\n\n\n\nBaexheimerhof\nKerkstraat 1a\n6095 BD Baexem \n\n\n\n\n\n\n\n\n\n\n\n\n\n\n\nDit ligt tegenover de rooms-katholieke kerk en naast de supermarkt.
URL:https://www.hartvoorbaexem.nl/activiteit/eredienst-christengemeente-midden-limburg-14/2029-09-09/
LOCATION:Baexheimerhof\, Kerkstraat 1a\, Baexem\, Limburg\, 6095 BD\, Nederland
CATEGORIES:Kerkdiensten
ATTACH;FMTTYPE=image/png:https://www.hartvoorbaexem.nl/wp-content/uploads/2025/10/Dorpsraad-Baexem-Logo-Christengemeeente-2024.png
END:VEVENT
BEGIN:VEVENT
DTSTART;TZID=Europe/Amsterdam:20290916T103000
DTEND;TZID=Europe/Amsterdam:20290916T120000
DTSTAMP:20260426T022955
CREATED:20260405T114648Z
LAST-MODIFIED:20260405T114854Z
UID:10001520-1884249000-1884254400@www.hartvoorbaexem.nl
SUMMARY:Eredienst Christengemeente Midden-Limburg
DESCRIPTION:Eredienst \nWe komen iedere zondag om 10:30 uur samen in: \n\n\n\n\n\n\nBaexheimerhof\nKerkstraat 1a\n6095 BD Baexem \n\n\n\n\n\n\n\n\n\n\n\n\n\n\n\nDit ligt tegenover de rooms-katholieke kerk en naast de supermarkt.
URL:https://www.hartvoorbaexem.nl/activiteit/eredienst-christengemeente-midden-limburg-14/2029-09-16/
LOCATION:Baexheimerhof\, Kerkstraat 1a\, Baexem\, Limburg\, 6095 BD\, Nederland
CATEGORIES:Kerkdiensten
ATTACH;FMTTYPE=image/png:https://www.hartvoorbaexem.nl/wp-content/uploads/2025/10/Dorpsraad-Baexem-Logo-Christengemeeente-2024.png
END:VEVENT
BEGIN:VEVENT
DTSTART;TZID=Europe/Amsterdam:20290923T103000
DTEND;TZID=Europe/Amsterdam:20290923T120000
DTSTAMP:20260426T022955
CREATED:20260405T114648Z
LAST-MODIFIED:20260405T114854Z
UID:10001521-1884853800-1884859200@www.hartvoorbaexem.nl
SUMMARY:Eredienst Christengemeente Midden-Limburg
DESCRIPTION:Eredienst \nWe komen iedere zondag om 10:30 uur samen in: \n\n\n\n\n\n\nBaexheimerhof\nKerkstraat 1a\n6095 BD Baexem \n\n\n\n\n\n\n\n\n\n\n\n\n\n\n\nDit ligt tegenover de rooms-katholieke kerk en naast de supermarkt.
URL:https://www.hartvoorbaexem.nl/activiteit/eredienst-christengemeente-midden-limburg-14/2029-09-23/
LOCATION:Baexheimerhof\, Kerkstraat 1a\, Baexem\, Limburg\, 6095 BD\, Nederland
CATEGORIES:Kerkdiensten
ATTACH;FMTTYPE=image/png:https://www.hartvoorbaexem.nl/wp-content/uploads/2025/10/Dorpsraad-Baexem-Logo-Christengemeeente-2024.png
END:VEVENT
BEGIN:VEVENT
DTSTART;TZID=Europe/Amsterdam:20290930T103000
DTEND;TZID=Europe/Amsterdam:20290930T120000
DTSTAMP:20260426T022955
CREATED:20260405T114648Z
LAST-MODIFIED:20260405T114854Z
UID:10001522-1885458600-1885464000@www.hartvoorbaexem.nl
SUMMARY:Eredienst Christengemeente Midden-Limburg
DESCRIPTION:Eredienst \nWe komen iedere zondag om 10:30 uur samen in: \n\n\n\n\n\n\nBaexheimerhof\nKerkstraat 1a\n6095 BD Baexem \n\n\n\n\n\n\n\n\n\n\n\n\n\n\n\nDit ligt tegenover de rooms-katholieke kerk en naast de supermarkt.
URL:https://www.hartvoorbaexem.nl/activiteit/eredienst-christengemeente-midden-limburg-14/2029-09-30/
LOCATION:Baexheimerhof\, Kerkstraat 1a\, Baexem\, Limburg\, 6095 BD\, Nederland
CATEGORIES:Kerkdiensten
ATTACH;FMTTYPE=image/png:https://www.hartvoorbaexem.nl/wp-content/uploads/2025/10/Dorpsraad-Baexem-Logo-Christengemeeente-2024.png
END:VEVENT
BEGIN:VEVENT
DTSTART;TZID=Europe/Amsterdam:20291007T103000
DTEND;TZID=Europe/Amsterdam:20291007T120000
DTSTAMP:20260426T022955
CREATED:20260405T114648Z
LAST-MODIFIED:20260405T114854Z
UID:10001523-1886063400-1886068800@www.hartvoorbaexem.nl
SUMMARY:Eredienst Christengemeente Midden-Limburg
DESCRIPTION:Eredienst \nWe komen iedere zondag om 10:30 uur samen in: \n\n\n\n\n\n\nBaexheimerhof\nKerkstraat 1a\n6095 BD Baexem \n\n\n\n\n\n\n\n\n\n\n\n\n\n\n\nDit ligt tegenover de rooms-katholieke kerk en naast de supermarkt.
URL:https://www.hartvoorbaexem.nl/activiteit/eredienst-christengemeente-midden-limburg-14/2029-10-07/
LOCATION:Baexheimerhof\, Kerkstraat 1a\, Baexem\, Limburg\, 6095 BD\, Nederland
CATEGORIES:Kerkdiensten
ATTACH;FMTTYPE=image/png:https://www.hartvoorbaexem.nl/wp-content/uploads/2025/10/Dorpsraad-Baexem-Logo-Christengemeeente-2024.png
END:VEVENT
BEGIN:VEVENT
DTSTART;TZID=Europe/Amsterdam:20291014T103000
DTEND;TZID=Europe/Amsterdam:20291014T120000
DTSTAMP:20260426T022955
CREATED:20260405T114648Z
LAST-MODIFIED:20260405T114854Z
UID:10001524-1886668200-1886673600@www.hartvoorbaexem.nl
SUMMARY:Eredienst Christengemeente Midden-Limburg
DESCRIPTION:Eredienst \nWe komen iedere zondag om 10:30 uur samen in: \n\n\n\n\n\n\nBaexheimerhof\nKerkstraat 1a\n6095 BD Baexem \n\n\n\n\n\n\n\n\n\n\n\n\n\n\n\nDit ligt tegenover de rooms-katholieke kerk en naast de supermarkt.
URL:https://www.hartvoorbaexem.nl/activiteit/eredienst-christengemeente-midden-limburg-14/2029-10-14/
LOCATION:Baexheimerhof\, Kerkstraat 1a\, Baexem\, Limburg\, 6095 BD\, Nederland
CATEGORIES:Kerkdiensten
ATTACH;FMTTYPE=image/png:https://www.hartvoorbaexem.nl/wp-content/uploads/2025/10/Dorpsraad-Baexem-Logo-Christengemeeente-2024.png
END:VEVENT
BEGIN:VEVENT
DTSTART;TZID=Europe/Amsterdam:20291021T103000
DTEND;TZID=Europe/Amsterdam:20291021T120000
DTSTAMP:20260426T022955
CREATED:20260405T114648Z
LAST-MODIFIED:20260405T114854Z
UID:10001525-1887273000-1887278400@www.hartvoorbaexem.nl
SUMMARY:Eredienst Christengemeente Midden-Limburg
DESCRIPTION:Eredienst \nWe komen iedere zondag om 10:30 uur samen in: \n\n\n\n\n\n\nBaexheimerhof\nKerkstraat 1a\n6095 BD Baexem \n\n\n\n\n\n\n\n\n\n\n\n\n\n\n\nDit ligt tegenover de rooms-katholieke kerk en naast de supermarkt.
URL:https://www.hartvoorbaexem.nl/activiteit/eredienst-christengemeente-midden-limburg-14/2029-10-21/
LOCATION:Baexheimerhof\, Kerkstraat 1a\, Baexem\, Limburg\, 6095 BD\, Nederland
CATEGORIES:Kerkdiensten
ATTACH;FMTTYPE=image/png:https://www.hartvoorbaexem.nl/wp-content/uploads/2025/10/Dorpsraad-Baexem-Logo-Christengemeeente-2024.png
END:VEVENT
BEGIN:VEVENT
DTSTART;TZID=Europe/Amsterdam:20291028T103000
DTEND;TZID=Europe/Amsterdam:20291028T120000
DTSTAMP:20260426T022955
CREATED:20260405T114648Z
LAST-MODIFIED:20260405T114854Z
UID:10001526-1887877800-1887883200@www.hartvoorbaexem.nl
SUMMARY:Eredienst Christengemeente Midden-Limburg
DESCRIPTION:Eredienst \nWe komen iedere zondag om 10:30 uur samen in: \n\n\n\n\n\n\nBaexheimerhof\nKerkstraat 1a\n6095 BD Baexem \n\n\n\n\n\n\n\n\n\n\n\n\n\n\n\nDit ligt tegenover de rooms-katholieke kerk en naast de supermarkt.
URL:https://www.hartvoorbaexem.nl/activiteit/eredienst-christengemeente-midden-limburg-14/2029-10-28/
LOCATION:Baexheimerhof\, Kerkstraat 1a\, Baexem\, Limburg\, 6095 BD\, Nederland
CATEGORIES:Kerkdiensten
ATTACH;FMTTYPE=image/png:https://www.hartvoorbaexem.nl/wp-content/uploads/2025/10/Dorpsraad-Baexem-Logo-Christengemeeente-2024.png
END:VEVENT
BEGIN:VEVENT
DTSTART;TZID=Europe/Amsterdam:20291104T103000
DTEND;TZID=Europe/Amsterdam:20291104T120000
DTSTAMP:20260426T022955
CREATED:20260405T114648Z
LAST-MODIFIED:20260405T114854Z
UID:10001527-1888482600-1888488000@www.hartvoorbaexem.nl
SUMMARY:Eredienst Christengemeente Midden-Limburg
DESCRIPTION:Eredienst \nWe komen iedere zondag om 10:30 uur samen in: \n\n\n\n\n\n\nBaexheimerhof\nKerkstraat 1a\n6095 BD Baexem \n\n\n\n\n\n\n\n\n\n\n\n\n\n\n\nDit ligt tegenover de rooms-katholieke kerk en naast de supermarkt.
URL:https://www.hartvoorbaexem.nl/activiteit/eredienst-christengemeente-midden-limburg-14/2029-11-04/
LOCATION:Baexheimerhof\, Kerkstraat 1a\, Baexem\, Limburg\, 6095 BD\, Nederland
CATEGORIES:Kerkdiensten
ATTACH;FMTTYPE=image/png:https://www.hartvoorbaexem.nl/wp-content/uploads/2025/10/Dorpsraad-Baexem-Logo-Christengemeeente-2024.png
END:VEVENT
BEGIN:VEVENT
DTSTART;TZID=Europe/Amsterdam:20291111T103000
DTEND;TZID=Europe/Amsterdam:20291111T120000
DTSTAMP:20260426T022955
CREATED:20260405T114648Z
LAST-MODIFIED:20260405T114854Z
UID:10001528-1889087400-1889092800@www.hartvoorbaexem.nl
SUMMARY:Eredienst Christengemeente Midden-Limburg
DESCRIPTION:Eredienst \nWe komen iedere zondag om 10:30 uur samen in: \n\n\n\n\n\n\nBaexheimerhof\nKerkstraat 1a\n6095 BD Baexem \n\n\n\n\n\n\n\n\n\n\n\n\n\n\n\nDit ligt tegenover de rooms-katholieke kerk en naast de supermarkt.
URL:https://www.hartvoorbaexem.nl/activiteit/eredienst-christengemeente-midden-limburg-14/2029-11-11/
LOCATION:Baexheimerhof\, Kerkstraat 1a\, Baexem\, Limburg\, 6095 BD\, Nederland
CATEGORIES:Kerkdiensten
ATTACH;FMTTYPE=image/png:https://www.hartvoorbaexem.nl/wp-content/uploads/2025/10/Dorpsraad-Baexem-Logo-Christengemeeente-2024.png
END:VEVENT
BEGIN:VEVENT
DTSTART;TZID=Europe/Amsterdam:20291118T103000
DTEND;TZID=Europe/Amsterdam:20291118T120000
DTSTAMP:20260426T022955
CREATED:20260405T114648Z
LAST-MODIFIED:20260405T114854Z
UID:10001529-1889692200-1889697600@www.hartvoorbaexem.nl
SUMMARY:Eredienst Christengemeente Midden-Limburg
DESCRIPTION:Eredienst \nWe komen iedere zondag om 10:30 uur samen in: \n\n\n\n\n\n\nBaexheimerhof\nKerkstraat 1a\n6095 BD Baexem \n\n\n\n\n\n\n\n\n\n\n\n\n\n\n\nDit ligt tegenover de rooms-katholieke kerk en naast de supermarkt.
URL:https://www.hartvoorbaexem.nl/activiteit/eredienst-christengemeente-midden-limburg-14/2029-11-18/
LOCATION:Baexheimerhof\, Kerkstraat 1a\, Baexem\, Limburg\, 6095 BD\, Nederland
CATEGORIES:Kerkdiensten
ATTACH;FMTTYPE=image/png:https://www.hartvoorbaexem.nl/wp-content/uploads/2025/10/Dorpsraad-Baexem-Logo-Christengemeeente-2024.png
END:VEVENT
BEGIN:VEVENT
DTSTART;TZID=Europe/Amsterdam:20291125T103000
DTEND;TZID=Europe/Amsterdam:20291125T120000
DTSTAMP:20260426T022955
CREATED:20260405T114648Z
LAST-MODIFIED:20260405T114854Z
UID:10001530-1890297000-1890302400@www.hartvoorbaexem.nl
SUMMARY:Eredienst Christengemeente Midden-Limburg
DESCRIPTION:Eredienst \nWe komen iedere zondag om 10:30 uur samen in: \n\n\n\n\n\n\nBaexheimerhof\nKerkstraat 1a\n6095 BD Baexem \n\n\n\n\n\n\n\n\n\n\n\n\n\n\n\nDit ligt tegenover de rooms-katholieke kerk en naast de supermarkt.
URL:https://www.hartvoorbaexem.nl/activiteit/eredienst-christengemeente-midden-limburg-14/2029-11-25/
LOCATION:Baexheimerhof\, Kerkstraat 1a\, Baexem\, Limburg\, 6095 BD\, Nederland
CATEGORIES:Kerkdiensten
ATTACH;FMTTYPE=image/png:https://www.hartvoorbaexem.nl/wp-content/uploads/2025/10/Dorpsraad-Baexem-Logo-Christengemeeente-2024.png
END:VEVENT
BEGIN:VEVENT
DTSTART;TZID=Europe/Amsterdam:20291202T103000
DTEND;TZID=Europe/Amsterdam:20291202T120000
DTSTAMP:20260426T022955
CREATED:20260405T114648Z
LAST-MODIFIED:20260405T114854Z
UID:10001531-1890901800-1890907200@www.hartvoorbaexem.nl
SUMMARY:Eredienst Christengemeente Midden-Limburg
DESCRIPTION:Eredienst \nWe komen iedere zondag om 10:30 uur samen in: \n\n\n\n\n\n\nBaexheimerhof\nKerkstraat 1a\n6095 BD Baexem \n\n\n\n\n\n\n\n\n\n\n\n\n\n\n\nDit ligt tegenover de rooms-katholieke kerk en naast de supermarkt.
URL:https://www.hartvoorbaexem.nl/activiteit/eredienst-christengemeente-midden-limburg-14/2029-12-02/
LOCATION:Baexheimerhof\, Kerkstraat 1a\, Baexem\, Limburg\, 6095 BD\, Nederland
CATEGORIES:Kerkdiensten
ATTACH;FMTTYPE=image/png:https://www.hartvoorbaexem.nl/wp-content/uploads/2025/10/Dorpsraad-Baexem-Logo-Christengemeeente-2024.png
END:VEVENT
BEGIN:VEVENT
DTSTART;TZID=Europe/Amsterdam:20291209T103000
DTEND;TZID=Europe/Amsterdam:20291209T120000
DTSTAMP:20260426T022955
CREATED:20260405T114648Z
LAST-MODIFIED:20260405T114854Z
UID:10001532-1891506600-1891512000@www.hartvoorbaexem.nl
SUMMARY:Eredienst Christengemeente Midden-Limburg
DESCRIPTION:Eredienst \nWe komen iedere zondag om 10:30 uur samen in: \n\n\n\n\n\n\nBaexheimerhof\nKerkstraat 1a\n6095 BD Baexem \n\n\n\n\n\n\n\n\n\n\n\n\n\n\n\nDit ligt tegenover de rooms-katholieke kerk en naast de supermarkt.
URL:https://www.hartvoorbaexem.nl/activiteit/eredienst-christengemeente-midden-limburg-14/2029-12-09/
LOCATION:Baexheimerhof\, Kerkstraat 1a\, Baexem\, Limburg\, 6095 BD\, Nederland
CATEGORIES:Kerkdiensten
ATTACH;FMTTYPE=image/png:https://www.hartvoorbaexem.nl/wp-content/uploads/2025/10/Dorpsraad-Baexem-Logo-Christengemeeente-2024.png
END:VEVENT
BEGIN:VEVENT
DTSTART;TZID=Europe/Amsterdam:20291216T103000
DTEND;TZID=Europe/Amsterdam:20291216T120000
DTSTAMP:20260426T022955
CREATED:20260405T114648Z
LAST-MODIFIED:20260405T114854Z
UID:10001533-1892111400-1892116800@www.hartvoorbaexem.nl
SUMMARY:Eredienst Christengemeente Midden-Limburg
DESCRIPTION:Eredienst \nWe komen iedere zondag om 10:30 uur samen in: \n\n\n\n\n\n\nBaexheimerhof\nKerkstraat 1a\n6095 BD Baexem \n\n\n\n\n\n\n\n\n\n\n\n\n\n\n\nDit ligt tegenover de rooms-katholieke kerk en naast de supermarkt.
URL:https://www.hartvoorbaexem.nl/activiteit/eredienst-christengemeente-midden-limburg-14/2029-12-16/
LOCATION:Baexheimerhof\, Kerkstraat 1a\, Baexem\, Limburg\, 6095 BD\, Nederland
CATEGORIES:Kerkdiensten
ATTACH;FMTTYPE=image/png:https://www.hartvoorbaexem.nl/wp-content/uploads/2025/10/Dorpsraad-Baexem-Logo-Christengemeeente-2024.png
END:VEVENT
END:VCALENDAR