BEGIN:VCALENDAR
VERSION:2.0
PRODID:-//Hart voor Baexem - ECPv6.15.18//NONSGML v1.0//EN
CALSCALE:GREGORIAN
METHOD:PUBLISH
X-WR-CALNAME:Hart voor Baexem
X-ORIGINAL-URL:https://www.hartvoorbaexem.nl
X-WR-CALDESC:Evenementen voor Hart voor Baexem
REFRESH-INTERVAL;VALUE=DURATION:PT1H
X-Robots-Tag:noindex
X-PUBLISHED-TTL:PT1H
BEGIN:VTIMEZONE
TZID:Europe/Amsterdam
BEGIN:DAYLIGHT
TZOFFSETFROM:+0100
TZOFFSETTO:+0200
TZNAME:CEST
DTSTART:20250330T010000
END:DAYLIGHT
BEGIN:STANDARD
TZOFFSETFROM:+0200
TZOFFSETTO:+0100
TZNAME:CET
DTSTART:20251026T010000
END:STANDARD
BEGIN:DAYLIGHT
TZOFFSETFROM:+0100
TZOFFSETTO:+0200
TZNAME:CEST
DTSTART:20260329T010000
END:DAYLIGHT
BEGIN:STANDARD
TZOFFSETFROM:+0200
TZOFFSETTO:+0100
TZNAME:CET
DTSTART:20261025T010000
END:STANDARD
BEGIN:DAYLIGHT
TZOFFSETFROM:+0100
TZOFFSETTO:+0200
TZNAME:CEST
DTSTART:20270328T010000
END:DAYLIGHT
BEGIN:STANDARD
TZOFFSETFROM:+0200
TZOFFSETTO:+0100
TZNAME:CET
DTSTART:20271031T010000
END:STANDARD
BEGIN:DAYLIGHT
TZOFFSETFROM:+0100
TZOFFSETTO:+0200
TZNAME:CEST
DTSTART:20280326T010000
END:DAYLIGHT
BEGIN:STANDARD
TZOFFSETFROM:+0200
TZOFFSETTO:+0100
TZNAME:CET
DTSTART:20281029T010000
END:STANDARD
END:VTIMEZONE
BEGIN:VEVENT
DTSTART;TZID=Europe/Amsterdam:20260621T103000
DTEND;TZID=Europe/Amsterdam:20260621T120000
DTSTAMP:20260422T042512
CREATED:20260405T114648Z
LAST-MODIFIED:20260405T114854Z
UID:10001351-1782037800-1782043200@www.hartvoorbaexem.nl
SUMMARY:Eredienst Christengemeente Midden-Limburg
DESCRIPTION:Eredienst \nWe komen iedere zondag om 10:30 uur samen in: \n\n\n\n\n\n\nBaexheimerhof\nKerkstraat 1a\n6095 BD Baexem \n\n\n\n\n\n\n\n\n\n\n\n\n\n\n\nDit ligt tegenover de rooms-katholieke kerk en naast de supermarkt.
URL:https://www.hartvoorbaexem.nl/activiteit/eredienst-christengemeente-midden-limburg-14/2026-06-21/
LOCATION:Baexheimerhof\, Kerkstraat 1a\, Baexem\, Limburg\, 6095 BD\, Nederland
CATEGORIES:Kerkdiensten
ATTACH;FMTTYPE=image/png:https://www.hartvoorbaexem.nl/wp-content/uploads/2025/10/Dorpsraad-Baexem-Logo-Christengemeeente-2024.png
END:VEVENT
BEGIN:VEVENT
DTSTART;TZID=Europe/Amsterdam:20260628T103000
DTEND;TZID=Europe/Amsterdam:20260628T120000
DTSTAMP:20260422T042512
CREATED:20260405T114648Z
LAST-MODIFIED:20260405T114854Z
UID:10001352-1782642600-1782648000@www.hartvoorbaexem.nl
SUMMARY:Eredienst Christengemeente Midden-Limburg
DESCRIPTION:Eredienst \nWe komen iedere zondag om 10:30 uur samen in: \n\n\n\n\n\n\nBaexheimerhof\nKerkstraat 1a\n6095 BD Baexem \n\n\n\n\n\n\n\n\n\n\n\n\n\n\n\nDit ligt tegenover de rooms-katholieke kerk en naast de supermarkt.
URL:https://www.hartvoorbaexem.nl/activiteit/eredienst-christengemeente-midden-limburg-14/2026-06-28/
LOCATION:Baexheimerhof\, Kerkstraat 1a\, Baexem\, Limburg\, 6095 BD\, Nederland
CATEGORIES:Kerkdiensten
ATTACH;FMTTYPE=image/png:https://www.hartvoorbaexem.nl/wp-content/uploads/2025/10/Dorpsraad-Baexem-Logo-Christengemeeente-2024.png
END:VEVENT
BEGIN:VEVENT
DTSTART;TZID=Europe/Amsterdam:20260703T193000
DTEND;TZID=Europe/Amsterdam:20260703T230000
DTSTAMP:20260422T042512
CREATED:20260223T140848Z
LAST-MODIFIED:20260223T143229Z
UID:10001328-1783107000-1783119600@www.hartvoorbaexem.nl
SUMMARY:Zomerconcert Fanfare Aurora
DESCRIPTION:We sluiten het seizoen traditiegetrouw af met een zomers concert op de Jeu de boulesbaan\, bij slecht weer in Baexheimerhof. Al onze gelederen\, opleidingsorkest\, grote orkest\, blokfluiters en De Baxheimer Muzikanten zullen dan voor u een licht programma brengen.
URL:https://www.hartvoorbaexem.nl/activiteit/zomerconcert-fanfare-aurora/
LOCATION:Baexheimerhof\, Kerkstraat 1a\, Baexem\, Limburg\, 6095 BD\, Nederland
CATEGORIES:Muzikale Evenementen
ATTACH;FMTTYPE=image/jpeg:https://www.hartvoorbaexem.nl/wp-content/uploads/2026/02/zomerconcert-2026.jpg
ORGANIZER;CN="Fanfare Aurora":MAILTO:secretariaat@fanfareaurora.nl
END:VEVENT
BEGIN:VEVENT
DTSTART;TZID=Europe/Amsterdam:20260705T103000
DTEND;TZID=Europe/Amsterdam:20260705T120000
DTSTAMP:20260422T042512
CREATED:20260405T114648Z
LAST-MODIFIED:20260405T114854Z
UID:10001353-1783247400-1783252800@www.hartvoorbaexem.nl
SUMMARY:Eredienst Christengemeente Midden-Limburg
DESCRIPTION:Eredienst \nWe komen iedere zondag om 10:30 uur samen in: \n\n\n\n\n\n\nBaexheimerhof\nKerkstraat 1a\n6095 BD Baexem \n\n\n\n\n\n\n\n\n\n\n\n\n\n\n\nDit ligt tegenover de rooms-katholieke kerk en naast de supermarkt.
URL:https://www.hartvoorbaexem.nl/activiteit/eredienst-christengemeente-midden-limburg-14/2026-07-05/
LOCATION:Baexheimerhof\, Kerkstraat 1a\, Baexem\, Limburg\, 6095 BD\, Nederland
CATEGORIES:Kerkdiensten
ATTACH;FMTTYPE=image/png:https://www.hartvoorbaexem.nl/wp-content/uploads/2025/10/Dorpsraad-Baexem-Logo-Christengemeeente-2024.png
END:VEVENT
BEGIN:VEVENT
DTSTART;TZID=Europe/Amsterdam:20260712T103000
DTEND;TZID=Europe/Amsterdam:20260712T120000
DTSTAMP:20260422T042512
CREATED:20260405T114648Z
LAST-MODIFIED:20260405T114854Z
UID:10001354-1783852200-1783857600@www.hartvoorbaexem.nl
SUMMARY:Eredienst Christengemeente Midden-Limburg
DESCRIPTION:Eredienst \nWe komen iedere zondag om 10:30 uur samen in: \n\n\n\n\n\n\nBaexheimerhof\nKerkstraat 1a\n6095 BD Baexem \n\n\n\n\n\n\n\n\n\n\n\n\n\n\n\nDit ligt tegenover de rooms-katholieke kerk en naast de supermarkt.
URL:https://www.hartvoorbaexem.nl/activiteit/eredienst-christengemeente-midden-limburg-14/2026-07-12/
LOCATION:Baexheimerhof\, Kerkstraat 1a\, Baexem\, Limburg\, 6095 BD\, Nederland
CATEGORIES:Kerkdiensten
ATTACH;FMTTYPE=image/png:https://www.hartvoorbaexem.nl/wp-content/uploads/2025/10/Dorpsraad-Baexem-Logo-Christengemeeente-2024.png
END:VEVENT
BEGIN:VEVENT
DTSTART;TZID=Europe/Amsterdam:20260719T103000
DTEND;TZID=Europe/Amsterdam:20260719T120000
DTSTAMP:20260422T042512
CREATED:20260405T114648Z
LAST-MODIFIED:20260405T114854Z
UID:10001355-1784457000-1784462400@www.hartvoorbaexem.nl
SUMMARY:Eredienst Christengemeente Midden-Limburg
DESCRIPTION:Eredienst \nWe komen iedere zondag om 10:30 uur samen in: \n\n\n\n\n\n\nBaexheimerhof\nKerkstraat 1a\n6095 BD Baexem \n\n\n\n\n\n\n\n\n\n\n\n\n\n\n\nDit ligt tegenover de rooms-katholieke kerk en naast de supermarkt.
URL:https://www.hartvoorbaexem.nl/activiteit/eredienst-christengemeente-midden-limburg-14/2026-07-19/
LOCATION:Baexheimerhof\, Kerkstraat 1a\, Baexem\, Limburg\, 6095 BD\, Nederland
CATEGORIES:Kerkdiensten
ATTACH;FMTTYPE=image/png:https://www.hartvoorbaexem.nl/wp-content/uploads/2025/10/Dorpsraad-Baexem-Logo-Christengemeeente-2024.png
END:VEVENT
BEGIN:VEVENT
DTSTART;TZID=Europe/Amsterdam:20260726T103000
DTEND;TZID=Europe/Amsterdam:20260726T120000
DTSTAMP:20260422T042512
CREATED:20260405T114648Z
LAST-MODIFIED:20260405T114854Z
UID:10001356-1785061800-1785067200@www.hartvoorbaexem.nl
SUMMARY:Eredienst Christengemeente Midden-Limburg
DESCRIPTION:Eredienst \nWe komen iedere zondag om 10:30 uur samen in: \n\n\n\n\n\n\nBaexheimerhof\nKerkstraat 1a\n6095 BD Baexem \n\n\n\n\n\n\n\n\n\n\n\n\n\n\n\nDit ligt tegenover de rooms-katholieke kerk en naast de supermarkt.
URL:https://www.hartvoorbaexem.nl/activiteit/eredienst-christengemeente-midden-limburg-14/2026-07-26/
LOCATION:Baexheimerhof\, Kerkstraat 1a\, Baexem\, Limburg\, 6095 BD\, Nederland
CATEGORIES:Kerkdiensten
ATTACH;FMTTYPE=image/png:https://www.hartvoorbaexem.nl/wp-content/uploads/2025/10/Dorpsraad-Baexem-Logo-Christengemeeente-2024.png
END:VEVENT
BEGIN:VEVENT
DTSTART;TZID=Europe/Amsterdam:20260802T103000
DTEND;TZID=Europe/Amsterdam:20260802T120000
DTSTAMP:20260422T042512
CREATED:20260405T114648Z
LAST-MODIFIED:20260405T114854Z
UID:10001357-1785666600-1785672000@www.hartvoorbaexem.nl
SUMMARY:Eredienst Christengemeente Midden-Limburg
DESCRIPTION:Eredienst \nWe komen iedere zondag om 10:30 uur samen in: \n\n\n\n\n\n\nBaexheimerhof\nKerkstraat 1a\n6095 BD Baexem \n\n\n\n\n\n\n\n\n\n\n\n\n\n\n\nDit ligt tegenover de rooms-katholieke kerk en naast de supermarkt.
URL:https://www.hartvoorbaexem.nl/activiteit/eredienst-christengemeente-midden-limburg-14/2026-08-02/
LOCATION:Baexheimerhof\, Kerkstraat 1a\, Baexem\, Limburg\, 6095 BD\, Nederland
CATEGORIES:Kerkdiensten
ATTACH;FMTTYPE=image/png:https://www.hartvoorbaexem.nl/wp-content/uploads/2025/10/Dorpsraad-Baexem-Logo-Christengemeeente-2024.png
END:VEVENT
BEGIN:VEVENT
DTSTART;TZID=Europe/Amsterdam:20260809T103000
DTEND;TZID=Europe/Amsterdam:20260809T120000
DTSTAMP:20260422T042512
CREATED:20260405T114648Z
LAST-MODIFIED:20260405T114854Z
UID:10001358-1786271400-1786276800@www.hartvoorbaexem.nl
SUMMARY:Eredienst Christengemeente Midden-Limburg
DESCRIPTION:Eredienst \nWe komen iedere zondag om 10:30 uur samen in: \n\n\n\n\n\n\nBaexheimerhof\nKerkstraat 1a\n6095 BD Baexem \n\n\n\n\n\n\n\n\n\n\n\n\n\n\n\nDit ligt tegenover de rooms-katholieke kerk en naast de supermarkt.
URL:https://www.hartvoorbaexem.nl/activiteit/eredienst-christengemeente-midden-limburg-14/2026-08-09/
LOCATION:Baexheimerhof\, Kerkstraat 1a\, Baexem\, Limburg\, 6095 BD\, Nederland
CATEGORIES:Kerkdiensten
ATTACH;FMTTYPE=image/png:https://www.hartvoorbaexem.nl/wp-content/uploads/2025/10/Dorpsraad-Baexem-Logo-Christengemeeente-2024.png
END:VEVENT
BEGIN:VEVENT
DTSTART;TZID=Europe/Amsterdam:20260816T103000
DTEND;TZID=Europe/Amsterdam:20260816T120000
DTSTAMP:20260422T042512
CREATED:20260405T114648Z
LAST-MODIFIED:20260405T114854Z
UID:10001359-1786876200-1786881600@www.hartvoorbaexem.nl
SUMMARY:Eredienst Christengemeente Midden-Limburg
DESCRIPTION:Eredienst \nWe komen iedere zondag om 10:30 uur samen in: \n\n\n\n\n\n\nBaexheimerhof\nKerkstraat 1a\n6095 BD Baexem \n\n\n\n\n\n\n\n\n\n\n\n\n\n\n\nDit ligt tegenover de rooms-katholieke kerk en naast de supermarkt.
URL:https://www.hartvoorbaexem.nl/activiteit/eredienst-christengemeente-midden-limburg-14/2026-08-16/
LOCATION:Baexheimerhof\, Kerkstraat 1a\, Baexem\, Limburg\, 6095 BD\, Nederland
CATEGORIES:Kerkdiensten
ATTACH;FMTTYPE=image/png:https://www.hartvoorbaexem.nl/wp-content/uploads/2025/10/Dorpsraad-Baexem-Logo-Christengemeeente-2024.png
END:VEVENT
BEGIN:VEVENT
DTSTART;TZID=Europe/Amsterdam:20260823T103000
DTEND;TZID=Europe/Amsterdam:20260823T120000
DTSTAMP:20260422T042512
CREATED:20260405T114648Z
LAST-MODIFIED:20260405T114854Z
UID:10001360-1787481000-1787486400@www.hartvoorbaexem.nl
SUMMARY:Eredienst Christengemeente Midden-Limburg
DESCRIPTION:Eredienst \nWe komen iedere zondag om 10:30 uur samen in: \n\n\n\n\n\n\nBaexheimerhof\nKerkstraat 1a\n6095 BD Baexem \n\n\n\n\n\n\n\n\n\n\n\n\n\n\n\nDit ligt tegenover de rooms-katholieke kerk en naast de supermarkt.
URL:https://www.hartvoorbaexem.nl/activiteit/eredienst-christengemeente-midden-limburg-14/2026-08-23/
LOCATION:Baexheimerhof\, Kerkstraat 1a\, Baexem\, Limburg\, 6095 BD\, Nederland
CATEGORIES:Kerkdiensten
ATTACH;FMTTYPE=image/png:https://www.hartvoorbaexem.nl/wp-content/uploads/2025/10/Dorpsraad-Baexem-Logo-Christengemeeente-2024.png
END:VEVENT
BEGIN:VEVENT
DTSTART;TZID=Europe/Amsterdam:20260830T103000
DTEND;TZID=Europe/Amsterdam:20260830T120000
DTSTAMP:20260422T042512
CREATED:20260405T114648Z
LAST-MODIFIED:20260405T114854Z
UID:10001361-1788085800-1788091200@www.hartvoorbaexem.nl
SUMMARY:Eredienst Christengemeente Midden-Limburg
DESCRIPTION:Eredienst \nWe komen iedere zondag om 10:30 uur samen in: \n\n\n\n\n\n\nBaexheimerhof\nKerkstraat 1a\n6095 BD Baexem \n\n\n\n\n\n\n\n\n\n\n\n\n\n\n\nDit ligt tegenover de rooms-katholieke kerk en naast de supermarkt.
URL:https://www.hartvoorbaexem.nl/activiteit/eredienst-christengemeente-midden-limburg-14/2026-08-30/
LOCATION:Baexheimerhof\, Kerkstraat 1a\, Baexem\, Limburg\, 6095 BD\, Nederland
CATEGORIES:Kerkdiensten
ATTACH;FMTTYPE=image/png:https://www.hartvoorbaexem.nl/wp-content/uploads/2025/10/Dorpsraad-Baexem-Logo-Christengemeeente-2024.png
END:VEVENT
BEGIN:VEVENT
DTSTART;TZID=Europe/Amsterdam:20260906T103000
DTEND;TZID=Europe/Amsterdam:20260906T120000
DTSTAMP:20260422T042512
CREATED:20260405T114648Z
LAST-MODIFIED:20260405T114854Z
UID:10001362-1788690600-1788696000@www.hartvoorbaexem.nl
SUMMARY:Eredienst Christengemeente Midden-Limburg
DESCRIPTION:Eredienst \nWe komen iedere zondag om 10:30 uur samen in: \n\n\n\n\n\n\nBaexheimerhof\nKerkstraat 1a\n6095 BD Baexem \n\n\n\n\n\n\n\n\n\n\n\n\n\n\n\nDit ligt tegenover de rooms-katholieke kerk en naast de supermarkt.
URL:https://www.hartvoorbaexem.nl/activiteit/eredienst-christengemeente-midden-limburg-14/2026-09-06/
LOCATION:Baexheimerhof\, Kerkstraat 1a\, Baexem\, Limburg\, 6095 BD\, Nederland
CATEGORIES:Kerkdiensten
ATTACH;FMTTYPE=image/png:https://www.hartvoorbaexem.nl/wp-content/uploads/2025/10/Dorpsraad-Baexem-Logo-Christengemeeente-2024.png
END:VEVENT
BEGIN:VEVENT
DTSTART;TZID=Europe/Amsterdam:20260913T103000
DTEND;TZID=Europe/Amsterdam:20260913T120000
DTSTAMP:20260422T042512
CREATED:20260405T114648Z
LAST-MODIFIED:20260405T114854Z
UID:10001363-1789295400-1789300800@www.hartvoorbaexem.nl
SUMMARY:Eredienst Christengemeente Midden-Limburg
DESCRIPTION:Eredienst \nWe komen iedere zondag om 10:30 uur samen in: \n\n\n\n\n\n\nBaexheimerhof\nKerkstraat 1a\n6095 BD Baexem \n\n\n\n\n\n\n\n\n\n\n\n\n\n\n\nDit ligt tegenover de rooms-katholieke kerk en naast de supermarkt.
URL:https://www.hartvoorbaexem.nl/activiteit/eredienst-christengemeente-midden-limburg-14/2026-09-13/
LOCATION:Baexheimerhof\, Kerkstraat 1a\, Baexem\, Limburg\, 6095 BD\, Nederland
CATEGORIES:Kerkdiensten
ATTACH;FMTTYPE=image/png:https://www.hartvoorbaexem.nl/wp-content/uploads/2025/10/Dorpsraad-Baexem-Logo-Christengemeeente-2024.png
END:VEVENT
BEGIN:VEVENT
DTSTART;TZID=Europe/Amsterdam:20260920T103000
DTEND;TZID=Europe/Amsterdam:20260920T120000
DTSTAMP:20260422T042512
CREATED:20260405T114648Z
LAST-MODIFIED:20260405T114854Z
UID:10001364-1789900200-1789905600@www.hartvoorbaexem.nl
SUMMARY:Eredienst Christengemeente Midden-Limburg
DESCRIPTION:Eredienst \nWe komen iedere zondag om 10:30 uur samen in: \n\n\n\n\n\n\nBaexheimerhof\nKerkstraat 1a\n6095 BD Baexem \n\n\n\n\n\n\n\n\n\n\n\n\n\n\n\nDit ligt tegenover de rooms-katholieke kerk en naast de supermarkt.
URL:https://www.hartvoorbaexem.nl/activiteit/eredienst-christengemeente-midden-limburg-14/2026-09-20/
LOCATION:Baexheimerhof\, Kerkstraat 1a\, Baexem\, Limburg\, 6095 BD\, Nederland
CATEGORIES:Kerkdiensten
ATTACH;FMTTYPE=image/png:https://www.hartvoorbaexem.nl/wp-content/uploads/2025/10/Dorpsraad-Baexem-Logo-Christengemeeente-2024.png
END:VEVENT
BEGIN:VEVENT
DTSTART;TZID=Europe/Amsterdam:20260927T103000
DTEND;TZID=Europe/Amsterdam:20260927T120000
DTSTAMP:20260422T042512
CREATED:20260405T114648Z
LAST-MODIFIED:20260405T114854Z
UID:10001365-1790505000-1790510400@www.hartvoorbaexem.nl
SUMMARY:Eredienst Christengemeente Midden-Limburg
DESCRIPTION:Eredienst \nWe komen iedere zondag om 10:30 uur samen in: \n\n\n\n\n\n\nBaexheimerhof\nKerkstraat 1a\n6095 BD Baexem \n\n\n\n\n\n\n\n\n\n\n\n\n\n\n\nDit ligt tegenover de rooms-katholieke kerk en naast de supermarkt.
URL:https://www.hartvoorbaexem.nl/activiteit/eredienst-christengemeente-midden-limburg-14/2026-09-27/
LOCATION:Baexheimerhof\, Kerkstraat 1a\, Baexem\, Limburg\, 6095 BD\, Nederland
CATEGORIES:Kerkdiensten
ATTACH;FMTTYPE=image/png:https://www.hartvoorbaexem.nl/wp-content/uploads/2025/10/Dorpsraad-Baexem-Logo-Christengemeeente-2024.png
END:VEVENT
BEGIN:VEVENT
DTSTART;TZID=Europe/Amsterdam:20261004T103000
DTEND;TZID=Europe/Amsterdam:20261004T120000
DTSTAMP:20260422T042512
CREATED:20260405T114648Z
LAST-MODIFIED:20260405T114854Z
UID:10001366-1791109800-1791115200@www.hartvoorbaexem.nl
SUMMARY:Eredienst Christengemeente Midden-Limburg
DESCRIPTION:Eredienst \nWe komen iedere zondag om 10:30 uur samen in: \n\n\n\n\n\n\nBaexheimerhof\nKerkstraat 1a\n6095 BD Baexem \n\n\n\n\n\n\n\n\n\n\n\n\n\n\n\nDit ligt tegenover de rooms-katholieke kerk en naast de supermarkt.
URL:https://www.hartvoorbaexem.nl/activiteit/eredienst-christengemeente-midden-limburg-14/2026-10-04/
LOCATION:Baexheimerhof\, Kerkstraat 1a\, Baexem\, Limburg\, 6095 BD\, Nederland
CATEGORIES:Kerkdiensten
ATTACH;FMTTYPE=image/png:https://www.hartvoorbaexem.nl/wp-content/uploads/2025/10/Dorpsraad-Baexem-Logo-Christengemeeente-2024.png
END:VEVENT
BEGIN:VEVENT
DTSTART;TZID=Europe/Amsterdam:20261011T103000
DTEND;TZID=Europe/Amsterdam:20261011T120000
DTSTAMP:20260422T042512
CREATED:20260405T114648Z
LAST-MODIFIED:20260405T114854Z
UID:10001367-1791714600-1791720000@www.hartvoorbaexem.nl
SUMMARY:Eredienst Christengemeente Midden-Limburg
DESCRIPTION:Eredienst \nWe komen iedere zondag om 10:30 uur samen in: \n\n\n\n\n\n\nBaexheimerhof\nKerkstraat 1a\n6095 BD Baexem \n\n\n\n\n\n\n\n\n\n\n\n\n\n\n\nDit ligt tegenover de rooms-katholieke kerk en naast de supermarkt.
URL:https://www.hartvoorbaexem.nl/activiteit/eredienst-christengemeente-midden-limburg-14/2026-10-11/
LOCATION:Baexheimerhof\, Kerkstraat 1a\, Baexem\, Limburg\, 6095 BD\, Nederland
CATEGORIES:Kerkdiensten
ATTACH;FMTTYPE=image/png:https://www.hartvoorbaexem.nl/wp-content/uploads/2025/10/Dorpsraad-Baexem-Logo-Christengemeeente-2024.png
END:VEVENT
BEGIN:VEVENT
DTSTART;TZID=Europe/Amsterdam:20261018T103000
DTEND;TZID=Europe/Amsterdam:20261018T120000
DTSTAMP:20260422T042512
CREATED:20260405T114648Z
LAST-MODIFIED:20260405T114854Z
UID:10001368-1792319400-1792324800@www.hartvoorbaexem.nl
SUMMARY:Eredienst Christengemeente Midden-Limburg
DESCRIPTION:Eredienst \nWe komen iedere zondag om 10:30 uur samen in: \n\n\n\n\n\n\nBaexheimerhof\nKerkstraat 1a\n6095 BD Baexem \n\n\n\n\n\n\n\n\n\n\n\n\n\n\n\nDit ligt tegenover de rooms-katholieke kerk en naast de supermarkt.
URL:https://www.hartvoorbaexem.nl/activiteit/eredienst-christengemeente-midden-limburg-14/2026-10-18/
LOCATION:Baexheimerhof\, Kerkstraat 1a\, Baexem\, Limburg\, 6095 BD\, Nederland
CATEGORIES:Kerkdiensten
ATTACH;FMTTYPE=image/png:https://www.hartvoorbaexem.nl/wp-content/uploads/2025/10/Dorpsraad-Baexem-Logo-Christengemeeente-2024.png
END:VEVENT
BEGIN:VEVENT
DTSTART;TZID=Europe/Amsterdam:20261025T103000
DTEND;TZID=Europe/Amsterdam:20261025T120000
DTSTAMP:20260422T042512
CREATED:20260405T114648Z
LAST-MODIFIED:20260405T114854Z
UID:10001369-1792924200-1792929600@www.hartvoorbaexem.nl
SUMMARY:Eredienst Christengemeente Midden-Limburg
DESCRIPTION:Eredienst \nWe komen iedere zondag om 10:30 uur samen in: \n\n\n\n\n\n\nBaexheimerhof\nKerkstraat 1a\n6095 BD Baexem \n\n\n\n\n\n\n\n\n\n\n\n\n\n\n\nDit ligt tegenover de rooms-katholieke kerk en naast de supermarkt.
URL:https://www.hartvoorbaexem.nl/activiteit/eredienst-christengemeente-midden-limburg-14/2026-10-25/
LOCATION:Baexheimerhof\, Kerkstraat 1a\, Baexem\, Limburg\, 6095 BD\, Nederland
CATEGORIES:Kerkdiensten
ATTACH;FMTTYPE=image/png:https://www.hartvoorbaexem.nl/wp-content/uploads/2025/10/Dorpsraad-Baexem-Logo-Christengemeeente-2024.png
END:VEVENT
BEGIN:VEVENT
DTSTART;TZID=Europe/Amsterdam:20261101T103000
DTEND;TZID=Europe/Amsterdam:20261101T120000
DTSTAMP:20260422T042512
CREATED:20260405T114648Z
LAST-MODIFIED:20260405T114854Z
UID:10001370-1793529000-1793534400@www.hartvoorbaexem.nl
SUMMARY:Eredienst Christengemeente Midden-Limburg
DESCRIPTION:Eredienst \nWe komen iedere zondag om 10:30 uur samen in: \n\n\n\n\n\n\nBaexheimerhof\nKerkstraat 1a\n6095 BD Baexem \n\n\n\n\n\n\n\n\n\n\n\n\n\n\n\nDit ligt tegenover de rooms-katholieke kerk en naast de supermarkt.
URL:https://www.hartvoorbaexem.nl/activiteit/eredienst-christengemeente-midden-limburg-14/2026-11-01/
LOCATION:Baexheimerhof\, Kerkstraat 1a\, Baexem\, Limburg\, 6095 BD\, Nederland
CATEGORIES:Kerkdiensten
ATTACH;FMTTYPE=image/png:https://www.hartvoorbaexem.nl/wp-content/uploads/2025/10/Dorpsraad-Baexem-Logo-Christengemeeente-2024.png
END:VEVENT
BEGIN:VEVENT
DTSTART;TZID=Europe/Amsterdam:20261108T103000
DTEND;TZID=Europe/Amsterdam:20261108T120000
DTSTAMP:20260422T042512
CREATED:20260405T114648Z
LAST-MODIFIED:20260405T114854Z
UID:10001371-1794133800-1794139200@www.hartvoorbaexem.nl
SUMMARY:Eredienst Christengemeente Midden-Limburg
DESCRIPTION:Eredienst \nWe komen iedere zondag om 10:30 uur samen in: \n\n\n\n\n\n\nBaexheimerhof\nKerkstraat 1a\n6095 BD Baexem \n\n\n\n\n\n\n\n\n\n\n\n\n\n\n\nDit ligt tegenover de rooms-katholieke kerk en naast de supermarkt.
URL:https://www.hartvoorbaexem.nl/activiteit/eredienst-christengemeente-midden-limburg-14/2026-11-08/
LOCATION:Baexheimerhof\, Kerkstraat 1a\, Baexem\, Limburg\, 6095 BD\, Nederland
CATEGORIES:Kerkdiensten
ATTACH;FMTTYPE=image/png:https://www.hartvoorbaexem.nl/wp-content/uploads/2025/10/Dorpsraad-Baexem-Logo-Christengemeeente-2024.png
END:VEVENT
BEGIN:VEVENT
DTSTART;TZID=Europe/Amsterdam:20261115T103000
DTEND;TZID=Europe/Amsterdam:20261115T120000
DTSTAMP:20260422T042512
CREATED:20260405T114648Z
LAST-MODIFIED:20260405T114854Z
UID:10001372-1794738600-1794744000@www.hartvoorbaexem.nl
SUMMARY:Eredienst Christengemeente Midden-Limburg
DESCRIPTION:Eredienst \nWe komen iedere zondag om 10:30 uur samen in: \n\n\n\n\n\n\nBaexheimerhof\nKerkstraat 1a\n6095 BD Baexem \n\n\n\n\n\n\n\n\n\n\n\n\n\n\n\nDit ligt tegenover de rooms-katholieke kerk en naast de supermarkt.
URL:https://www.hartvoorbaexem.nl/activiteit/eredienst-christengemeente-midden-limburg-14/2026-11-15/
LOCATION:Baexheimerhof\, Kerkstraat 1a\, Baexem\, Limburg\, 6095 BD\, Nederland
CATEGORIES:Kerkdiensten
ATTACH;FMTTYPE=image/png:https://www.hartvoorbaexem.nl/wp-content/uploads/2025/10/Dorpsraad-Baexem-Logo-Christengemeeente-2024.png
END:VEVENT
BEGIN:VEVENT
DTSTART;TZID=Europe/Amsterdam:20261122T103000
DTEND;TZID=Europe/Amsterdam:20261122T120000
DTSTAMP:20260422T042512
CREATED:20260405T114648Z
LAST-MODIFIED:20260405T114854Z
UID:10001373-1795343400-1795348800@www.hartvoorbaexem.nl
SUMMARY:Eredienst Christengemeente Midden-Limburg
DESCRIPTION:Eredienst \nWe komen iedere zondag om 10:30 uur samen in: \n\n\n\n\n\n\nBaexheimerhof\nKerkstraat 1a\n6095 BD Baexem \n\n\n\n\n\n\n\n\n\n\n\n\n\n\n\nDit ligt tegenover de rooms-katholieke kerk en naast de supermarkt.
URL:https://www.hartvoorbaexem.nl/activiteit/eredienst-christengemeente-midden-limburg-14/2026-11-22/
LOCATION:Baexheimerhof\, Kerkstraat 1a\, Baexem\, Limburg\, 6095 BD\, Nederland
CATEGORIES:Kerkdiensten
ATTACH;FMTTYPE=image/png:https://www.hartvoorbaexem.nl/wp-content/uploads/2025/10/Dorpsraad-Baexem-Logo-Christengemeeente-2024.png
END:VEVENT
BEGIN:VEVENT
DTSTART;TZID=Europe/Amsterdam:20261129T103000
DTEND;TZID=Europe/Amsterdam:20261129T120000
DTSTAMP:20260422T042512
CREATED:20260405T114648Z
LAST-MODIFIED:20260405T114854Z
UID:10001374-1795948200-1795953600@www.hartvoorbaexem.nl
SUMMARY:Eredienst Christengemeente Midden-Limburg
DESCRIPTION:Eredienst \nWe komen iedere zondag om 10:30 uur samen in: \n\n\n\n\n\n\nBaexheimerhof\nKerkstraat 1a\n6095 BD Baexem \n\n\n\n\n\n\n\n\n\n\n\n\n\n\n\nDit ligt tegenover de rooms-katholieke kerk en naast de supermarkt.
URL:https://www.hartvoorbaexem.nl/activiteit/eredienst-christengemeente-midden-limburg-14/2026-11-29/
LOCATION:Baexheimerhof\, Kerkstraat 1a\, Baexem\, Limburg\, 6095 BD\, Nederland
CATEGORIES:Kerkdiensten
ATTACH;FMTTYPE=image/png:https://www.hartvoorbaexem.nl/wp-content/uploads/2025/10/Dorpsraad-Baexem-Logo-Christengemeeente-2024.png
END:VEVENT
BEGIN:VEVENT
DTSTART;TZID=Europe/Amsterdam:20261206T103000
DTEND;TZID=Europe/Amsterdam:20261206T120000
DTSTAMP:20260422T042512
CREATED:20260405T114648Z
LAST-MODIFIED:20260405T114854Z
UID:10001375-1796553000-1796558400@www.hartvoorbaexem.nl
SUMMARY:Eredienst Christengemeente Midden-Limburg
DESCRIPTION:Eredienst \nWe komen iedere zondag om 10:30 uur samen in: \n\n\n\n\n\n\nBaexheimerhof\nKerkstraat 1a\n6095 BD Baexem \n\n\n\n\n\n\n\n\n\n\n\n\n\n\n\nDit ligt tegenover de rooms-katholieke kerk en naast de supermarkt.
URL:https://www.hartvoorbaexem.nl/activiteit/eredienst-christengemeente-midden-limburg-14/2026-12-06/
LOCATION:Baexheimerhof\, Kerkstraat 1a\, Baexem\, Limburg\, 6095 BD\, Nederland
CATEGORIES:Kerkdiensten
ATTACH;FMTTYPE=image/png:https://www.hartvoorbaexem.nl/wp-content/uploads/2025/10/Dorpsraad-Baexem-Logo-Christengemeeente-2024.png
END:VEVENT
BEGIN:VEVENT
DTSTART;TZID=Europe/Amsterdam:20261213T103000
DTEND;TZID=Europe/Amsterdam:20261213T120000
DTSTAMP:20260422T042512
CREATED:20260405T114648Z
LAST-MODIFIED:20260405T114854Z
UID:10001376-1797157800-1797163200@www.hartvoorbaexem.nl
SUMMARY:Eredienst Christengemeente Midden-Limburg
DESCRIPTION:Eredienst \nWe komen iedere zondag om 10:30 uur samen in: \n\n\n\n\n\n\nBaexheimerhof\nKerkstraat 1a\n6095 BD Baexem \n\n\n\n\n\n\n\n\n\n\n\n\n\n\n\nDit ligt tegenover de rooms-katholieke kerk en naast de supermarkt.
URL:https://www.hartvoorbaexem.nl/activiteit/eredienst-christengemeente-midden-limburg-14/2026-12-13/
LOCATION:Baexheimerhof\, Kerkstraat 1a\, Baexem\, Limburg\, 6095 BD\, Nederland
CATEGORIES:Kerkdiensten
ATTACH;FMTTYPE=image/png:https://www.hartvoorbaexem.nl/wp-content/uploads/2025/10/Dorpsraad-Baexem-Logo-Christengemeeente-2024.png
END:VEVENT
BEGIN:VEVENT
DTSTART;TZID=Europe/Amsterdam:20261220T103000
DTEND;TZID=Europe/Amsterdam:20261220T120000
DTSTAMP:20260422T042512
CREATED:20260405T114648Z
LAST-MODIFIED:20260405T114854Z
UID:10001377-1797762600-1797768000@www.hartvoorbaexem.nl
SUMMARY:Eredienst Christengemeente Midden-Limburg
DESCRIPTION:Eredienst \nWe komen iedere zondag om 10:30 uur samen in: \n\n\n\n\n\n\nBaexheimerhof\nKerkstraat 1a\n6095 BD Baexem \n\n\n\n\n\n\n\n\n\n\n\n\n\n\n\nDit ligt tegenover de rooms-katholieke kerk en naast de supermarkt.
URL:https://www.hartvoorbaexem.nl/activiteit/eredienst-christengemeente-midden-limburg-14/2026-12-20/
LOCATION:Baexheimerhof\, Kerkstraat 1a\, Baexem\, Limburg\, 6095 BD\, Nederland
CATEGORIES:Kerkdiensten
ATTACH;FMTTYPE=image/png:https://www.hartvoorbaexem.nl/wp-content/uploads/2025/10/Dorpsraad-Baexem-Logo-Christengemeeente-2024.png
END:VEVENT
BEGIN:VEVENT
DTSTART;TZID=Europe/Amsterdam:20261227T103000
DTEND;TZID=Europe/Amsterdam:20261227T120000
DTSTAMP:20260422T042512
CREATED:20260405T114648Z
LAST-MODIFIED:20260405T114854Z
UID:10001378-1798367400-1798372800@www.hartvoorbaexem.nl
SUMMARY:Eredienst Christengemeente Midden-Limburg
DESCRIPTION:Eredienst \nWe komen iedere zondag om 10:30 uur samen in: \n\n\n\n\n\n\nBaexheimerhof\nKerkstraat 1a\n6095 BD Baexem \n\n\n\n\n\n\n\n\n\n\n\n\n\n\n\nDit ligt tegenover de rooms-katholieke kerk en naast de supermarkt.
URL:https://www.hartvoorbaexem.nl/activiteit/eredienst-christengemeente-midden-limburg-14/2026-12-27/
LOCATION:Baexheimerhof\, Kerkstraat 1a\, Baexem\, Limburg\, 6095 BD\, Nederland
CATEGORIES:Kerkdiensten
ATTACH;FMTTYPE=image/png:https://www.hartvoorbaexem.nl/wp-content/uploads/2025/10/Dorpsraad-Baexem-Logo-Christengemeeente-2024.png
END:VEVENT
BEGIN:VEVENT
DTSTART;TZID=Europe/Amsterdam:20270103T103000
DTEND;TZID=Europe/Amsterdam:20270103T120000
DTSTAMP:20260422T042512
CREATED:20260405T114648Z
LAST-MODIFIED:20260405T114854Z
UID:10001379-1798972200-1798977600@www.hartvoorbaexem.nl
SUMMARY:Eredienst Christengemeente Midden-Limburg
DESCRIPTION:Eredienst \nWe komen iedere zondag om 10:30 uur samen in: \n\n\n\n\n\n\nBaexheimerhof\nKerkstraat 1a\n6095 BD Baexem \n\n\n\n\n\n\n\n\n\n\n\n\n\n\n\nDit ligt tegenover de rooms-katholieke kerk en naast de supermarkt.
URL:https://www.hartvoorbaexem.nl/activiteit/eredienst-christengemeente-midden-limburg-14/2027-01-03/
LOCATION:Baexheimerhof\, Kerkstraat 1a\, Baexem\, Limburg\, 6095 BD\, Nederland
CATEGORIES:Kerkdiensten
ATTACH;FMTTYPE=image/png:https://www.hartvoorbaexem.nl/wp-content/uploads/2025/10/Dorpsraad-Baexem-Logo-Christengemeeente-2024.png
END:VEVENT
END:VCALENDAR